BEGIN:VCALENDAR
VERSION:2.0
PRODID:-//Alliance For Safe Kids - ECPv6.15.20//NONSGML v1.0//EN
CALSCALE:GREGORIAN
METHOD:PUBLISH
X-ORIGINAL-URL:https://allianceforsafekids.org
X-WR-CALDESC:Events for Alliance For Safe Kids
REFRESH-INTERVAL;VALUE=DURATION:PT1H
X-Robots-Tag:noindex
X-PUBLISHED-TTL:PT1H
BEGIN:VTIMEZONE
TZID:America/New_York
BEGIN:DAYLIGHT
TZOFFSETFROM:-0500
TZOFFSETTO:-0400
TZNAME:EDT
DTSTART:20210314T070000
END:DAYLIGHT
BEGIN:STANDARD
TZOFFSETFROM:-0400
TZOFFSETTO:-0500
TZNAME:EST
DTSTART:20211107T060000
END:STANDARD
BEGIN:DAYLIGHT
TZOFFSETFROM:-0500
TZOFFSETTO:-0400
TZNAME:EDT
DTSTART:20220313T070000
END:DAYLIGHT
BEGIN:STANDARD
TZOFFSETFROM:-0400
TZOFFSETTO:-0500
TZNAME:EST
DTSTART:20221106T060000
END:STANDARD
BEGIN:DAYLIGHT
TZOFFSETFROM:-0500
TZOFFSETTO:-0400
TZNAME:EDT
DTSTART:20230312T070000
END:DAYLIGHT
BEGIN:STANDARD
TZOFFSETFROM:-0400
TZOFFSETTO:-0500
TZNAME:EST
DTSTART:20231105T060000
END:STANDARD
END:VTIMEZONE
BEGIN:VEVENT
DTSTART;TZID=America/New_York:20221025T120000
DTEND;TZID=America/New_York:20221025T130000
DTSTAMP:20260423T225811
CREATED:20220927T124741Z
LAST-MODIFIED:20220927T124741Z
UID:11704-1666699200-1666702800@allianceforsafekids.org
SUMMARY:Relationships\, Family\, and Mental Health
DESCRIPTION:The complicated nature of mental illnesses can make relationships challenging\, and caregiver stress — the emotional and physical stress of caregiving — is common. Learn strategies to set boundaries\, respond to difficult behavior\, and manage your own stress in this one-hour webinar with a licensed therapist. \nAbout the instructor: Jaymi Dormaier is a Licensed Master Social Worker with ten years of experience in the mental health field. In Jaymi’s career as a social worker and therapist she has worked with diverse populations focusing on anxiety\, depression\, grief\, trauma\, foster care\, adoption\, homelessness\, and addiction. She is passionate about helping others live a life they love. \nRegister for FREE here.
URL:https://allianceforsafekids.org/calendar/relationships-family-and-mental-health-2/
END:VEVENT
BEGIN:VEVENT
DTSTART;TZID=America/New_York:20221025T183000
DTEND;TZID=America/New_York:20221025T200000
DTSTAMP:20260423T225811
CREATED:20220928T111344Z
LAST-MODIFIED:20220928T111344Z
UID:11721-1666722600-1666728000@allianceforsafekids.org
SUMMARY:Spotlight on Recovery - Family Support Group
DESCRIPTION:Drug Crisis in Our Backyard is pleased to offer Family Support Groups\, an interactive forum for family support and education. We have recurring meetings where parents and families can obtain information and support in dealing with problems with drug abuse and addiction in their homes. ​ \nTuesday 6:30-8:00pm\nLink to join: https://zoom.us/j/2241277364\n​Passcode:  456745!
URL:https://allianceforsafekids.org/calendar/spotlight-on-recovery-family-support-group-36/
END:VEVENT
BEGIN:VEVENT
DTSTART;TZID=America/New_York:20221025T190000
DTEND;TZID=America/New_York:20221025T200000
DTSTAMP:20260423T225811
CREATED:20221021T120841Z
LAST-MODIFIED:20221021T120841Z
UID:11753-1666724400-1666728000@allianceforsafekids.org
SUMMARY:Thrivers!  A Roadmap for Building the Skills  Our Kids Need to Thrive
DESCRIPTION:All parents and adult community members are invited to join K.N.O.W.2Prevent for a presentation by nationally renowned author and educational psychologist\, Michele Borba\, EdD.  Based on her book\, Thrivers! The Surprising Reasons Why Some Kids Struggle and Others Shine\, Dr. Borba will share tips and strategies to help parents foster traits such as confidence\, empathy\, integrity\, and curiosity to help our children thrive in an increasingly complicated world. \nRegister for FREE here. \n 
URL:https://allianceforsafekids.org/calendar/thrivers-a-roadmap-for-building-the-skills-our-kids-need-to-thrive/
END:VEVENT
END:VCALENDAR