BEGIN:VCALENDAR
VERSION:2.0
PRODID:-//Alliance For Safe Kids - ECPv6.15.20//NONSGML v1.0//EN
CALSCALE:GREGORIAN
METHOD:PUBLISH
X-WR-CALNAME:Alliance For Safe Kids
X-ORIGINAL-URL:https://allianceforsafekids.org
X-WR-CALDESC:Events for Alliance For Safe Kids
REFRESH-INTERVAL;VALUE=DURATION:PT1H
X-Robots-Tag:noindex
X-PUBLISHED-TTL:PT1H
BEGIN:VTIMEZONE
TZID:America/New_York
BEGIN:DAYLIGHT
TZOFFSETFROM:-0500
TZOFFSETTO:-0400
TZNAME:EDT
DTSTART:20210314T070000
END:DAYLIGHT
BEGIN:STANDARD
TZOFFSETFROM:-0400
TZOFFSETTO:-0500
TZNAME:EST
DTSTART:20211107T060000
END:STANDARD
BEGIN:DAYLIGHT
TZOFFSETFROM:-0500
TZOFFSETTO:-0400
TZNAME:EDT
DTSTART:20220313T070000
END:DAYLIGHT
BEGIN:STANDARD
TZOFFSETFROM:-0400
TZOFFSETTO:-0500
TZNAME:EST
DTSTART:20221106T060000
END:STANDARD
BEGIN:DAYLIGHT
TZOFFSETFROM:-0500
TZOFFSETTO:-0400
TZNAME:EDT
DTSTART:20230312T070000
END:DAYLIGHT
BEGIN:STANDARD
TZOFFSETFROM:-0400
TZOFFSETTO:-0500
TZNAME:EST
DTSTART:20231105T060000
END:STANDARD
END:VTIMEZONE
BEGIN:VEVENT
DTSTART;TZID=America/New_York:20221026T120000
DTEND;TZID=America/New_York:20221026T130000
DTSTAMP:20260423T230027
CREATED:20220927T124905Z
LAST-MODIFIED:20220927T124905Z
UID:11706-1666785600-1666789200@allianceforsafekids.org
SUMMARY:Setting Healthy Boundaries in Relationships
DESCRIPTION:Maintaining a balance between taking care of loved ones and setting healthy boundaries for yourself can be challenging. Learn how to express your own needs without guilt\, strike a healthy balance between caregiving and self-care\, and tips for negotiating compromises with a licensed therapist. \nAbout the instructor: Jaymi Dormaier is a Licensed Master Social Worker with ten years of experience in the mental health field. In Jaymi’s career as a social worker and therapist she has worked with diverse populations focusing on anxiety\, depression\, grief\, trauma\, foster care\, adoption\, homelessness\, and addiction. She is passionate about helping others live a life they love. \nRegister for FREE here.
URL:https://allianceforsafekids.org/calendar/setting-healthy-boundaries-in-relationships-2/
END:VEVENT
BEGIN:VEVENT
DTSTART;TZID=America/New_York:20221026T190000
DTEND;TZID=America/New_York:20221026T200000
DTSTAMP:20260423T230027
CREATED:20220928T111653Z
LAST-MODIFIED:20220928T111653Z
UID:11729-1666810800-1666814400@allianceforsafekids.org
SUMMARY:Spotlight on Recovery - Family Support Group
DESCRIPTION:Drug Crisis in Our Backyard is pleased to offer Family Support Groups\, an interactive forum for family support and education. We have recurring meetings where parents and families can obtain information and support in dealing with problems with drug abuse and addiction in their homes. ​ \nWednesday 7-8pm\nLink to join: https://zoom.us/j/8534470100\n*No passcode required.
URL:https://allianceforsafekids.org/calendar/spotlight-on-recovery-family-support-group-40/
END:VEVENT
BEGIN:VEVENT
DTSTART;TZID=America/New_York:20221026T193000
DTEND;TZID=America/New_York:20221026T210000
DTSTAMP:20260423T230027
CREATED:20221004T183259Z
LAST-MODIFIED:20221004T183353Z
UID:11749-1666812600-1666818000@allianceforsafekids.org
SUMMARY:NAMI - Parents / Caregivers of Adolescents and Young Adults Support Group – 4th Wednesday
DESCRIPTION:The Parents/Caregivers of Adolescents and Young Adults Support Group is a peer-led support group for loved ones of adolescents and young adults who are living with mental illness. \nFor more information or to register please call NAMI Westchester at 914-592-5458.
URL:https://allianceforsafekids.org/calendar/parents-caregivers-of-adolescents-and-young-adults-support-group-4th-wednesday/
END:VEVENT
END:VCALENDAR