BEGIN:VCALENDAR
VERSION:2.0
PRODID:-//Alliance For Safe Kids - ECPv6.15.20//NONSGML v1.0//EN
CALSCALE:GREGORIAN
METHOD:PUBLISH
X-ORIGINAL-URL:https://allianceforsafekids.org
X-WR-CALDESC:Events for Alliance For Safe Kids
REFRESH-INTERVAL;VALUE=DURATION:PT1H
X-Robots-Tag:noindex
X-PUBLISHED-TTL:PT1H
BEGIN:VTIMEZONE
TZID:America/New_York
BEGIN:DAYLIGHT
TZOFFSETFROM:-0500
TZOFFSETTO:-0400
TZNAME:EDT
DTSTART:20210314T070000
END:DAYLIGHT
BEGIN:STANDARD
TZOFFSETFROM:-0400
TZOFFSETTO:-0500
TZNAME:EST
DTSTART:20211107T060000
END:STANDARD
BEGIN:DAYLIGHT
TZOFFSETFROM:-0500
TZOFFSETTO:-0400
TZNAME:EDT
DTSTART:20220313T070000
END:DAYLIGHT
BEGIN:STANDARD
TZOFFSETFROM:-0400
TZOFFSETTO:-0500
TZNAME:EST
DTSTART:20221106T060000
END:STANDARD
BEGIN:DAYLIGHT
TZOFFSETFROM:-0500
TZOFFSETTO:-0400
TZNAME:EDT
DTSTART:20230312T070000
END:DAYLIGHT
BEGIN:STANDARD
TZOFFSETFROM:-0400
TZOFFSETTO:-0500
TZNAME:EST
DTSTART:20231105T060000
END:STANDARD
END:VTIMEZONE
BEGIN:VEVENT
DTSTART;TZID=America/New_York:20221129T120000
DTEND;TZID=America/New_York:20221129T130000
DTSTAMP:20260423T194809
CREATED:20221027T185108Z
LAST-MODIFIED:20221027T185108Z
UID:11800-1669723200-1669726800@allianceforsafekids.org
SUMMARY:Stress: Signs\, Symptoms\, Management\, and Prevention
DESCRIPTION:The term ‘stress’ is used loosely in our culture. What does it really mean and how vulnerable are you? Understand the biology of stress and explore realistic and practical ways to manage distress in this one-hour seminar with a licensed therapist. \nRegister for free here.
URL:https://allianceforsafekids.org/calendar/stress-signs-symptoms-management-and-prevention-2/
END:VEVENT
BEGIN:VEVENT
DTSTART;TZID=America/New_York:20221129T183000
DTEND;TZID=America/New_York:20221129T200000
DTSTAMP:20260423T194809
CREATED:20221027T181958Z
LAST-MODIFIED:20221027T181958Z
UID:11768-1669746600-1669752000@allianceforsafekids.org
SUMMARY:Spotlight on Recovery - Family Support Group
DESCRIPTION:Drug Crisis in Our Backyard is pleased to offer Family Support Groups\, an interactive forum for family support and education. We have recurring meetings where parents and families can obtain information and support in dealing with problems with drug abuse and addiction in their homes. ​ \nTuesday 6:30-8:00pm\nLink to join: https://zoom.us/j/2241277364\n​Passcode:  456745!
URL:https://allianceforsafekids.org/calendar/spotlight-on-recovery-family-support-group-45/
END:VEVENT
END:VCALENDAR