BEGIN:VCALENDAR
VERSION:2.0
PRODID:-//Alliance For Safe Kids - ECPv6.15.20//NONSGML v1.0//EN
CALSCALE:GREGORIAN
METHOD:PUBLISH
X-WR-CALNAME:Alliance For Safe Kids
X-ORIGINAL-URL:https://allianceforsafekids.org
X-WR-CALDESC:Events for Alliance For Safe Kids
REFRESH-INTERVAL;VALUE=DURATION:PT1H
X-Robots-Tag:noindex
X-PUBLISHED-TTL:PT1H
BEGIN:VTIMEZONE
TZID:America/New_York
BEGIN:DAYLIGHT
TZOFFSETFROM:-0500
TZOFFSETTO:-0400
TZNAME:EDT
DTSTART:20220313T070000
END:DAYLIGHT
BEGIN:STANDARD
TZOFFSETFROM:-0400
TZOFFSETTO:-0500
TZNAME:EST
DTSTART:20221106T060000
END:STANDARD
BEGIN:DAYLIGHT
TZOFFSETFROM:-0500
TZOFFSETTO:-0400
TZNAME:EDT
DTSTART:20230312T070000
END:DAYLIGHT
BEGIN:STANDARD
TZOFFSETFROM:-0400
TZOFFSETTO:-0500
TZNAME:EST
DTSTART:20231105T060000
END:STANDARD
BEGIN:DAYLIGHT
TZOFFSETFROM:-0500
TZOFFSETTO:-0400
TZNAME:EDT
DTSTART:20240310T070000
END:DAYLIGHT
BEGIN:STANDARD
TZOFFSETFROM:-0400
TZOFFSETTO:-0500
TZNAME:EST
DTSTART:20241103T060000
END:STANDARD
END:VTIMEZONE
BEGIN:VEVENT
DTSTART;TZID=America/New_York:20230111T120000
DTEND;TZID=America/New_York:20230111T130000
DTSTAMP:20260423T182126
CREATED:20230103T133542Z
LAST-MODIFIED:20230103T133542Z
UID:11882-1673438400-1673442000@allianceforsafekids.org
SUMMARY:Understanding Anxiety
DESCRIPTION:Occasional anxiety is an expected part of life. But anxiety disorders involve more than temporary worry. An accessible guide to understanding what causes anxiety disorders and the types of anxiety\, their symptoms\, common misconceptions\, and how relationships are impacted. Discuss co-occurring disorders\, treatment options\, and learn practical tips for managing symptoms and helping others with a licensed therapist. \nFine print: Certificates of attendance are provided at no cost. CEUs are not provided. Everyone who registers will receive the webinar recording & resource info 24 hours after the live event. \nAbout the instructor: Jaymi Dormaier is a Licensed Master Social Worker with ten years of experience in the mental health field. In Jaymi’s career as a social worker and therapist she has worked with diverse populations focusing on anxiety\, depression\, grief\, trauma\, foster care\, adoption\, homelessness\, and addiction. She is passionate about helping others live a life they love. \nRegister for FREE here
URL:https://allianceforsafekids.org/calendar/understanding-anxiety-3/
END:VEVENT
BEGIN:VEVENT
DTSTART;TZID=America/New_York:20230111T190000
DTEND;TZID=America/New_York:20230111T200000
DTSTAMP:20260423T182126
CREATED:20230103T135838Z
LAST-MODIFIED:20230103T135838Z
UID:11912-1673463600-1673467200@allianceforsafekids.org
SUMMARY:Spotlight on Recovery - Family Support Group
DESCRIPTION:Drug Crisis in Our Backyard is pleased to offer Family Support Groups\, an interactive forum for family support and education. We have recurring meetings where parents and families can obtain information and support in dealing with problems with drug abuse and addiction in their homes. ​ \nWednesday 7-8pm\nLink to join: https://zoom.us/j/8534470100\n*No passcode required
URL:https://allianceforsafekids.org/calendar/spotlight-on-recovery-family-support-group-66/
END:VEVENT
END:VCALENDAR