BEGIN:VCALENDAR
VERSION:2.0
PRODID:-//Alliance For Safe Kids - ECPv6.15.20//NONSGML v1.0//EN
CALSCALE:GREGORIAN
METHOD:PUBLISH
X-ORIGINAL-URL:https://allianceforsafekids.org
X-WR-CALDESC:Events for Alliance For Safe Kids
REFRESH-INTERVAL;VALUE=DURATION:PT1H
X-Robots-Tag:noindex
X-PUBLISHED-TTL:PT1H
BEGIN:VTIMEZONE
TZID:America/New_York
BEGIN:DAYLIGHT
TZOFFSETFROM:-0500
TZOFFSETTO:-0400
TZNAME:EDT
DTSTART:20220313T070000
END:DAYLIGHT
BEGIN:STANDARD
TZOFFSETFROM:-0400
TZOFFSETTO:-0500
TZNAME:EST
DTSTART:20221106T060000
END:STANDARD
BEGIN:DAYLIGHT
TZOFFSETFROM:-0500
TZOFFSETTO:-0400
TZNAME:EDT
DTSTART:20230312T070000
END:DAYLIGHT
BEGIN:STANDARD
TZOFFSETFROM:-0400
TZOFFSETTO:-0500
TZNAME:EST
DTSTART:20231105T060000
END:STANDARD
BEGIN:DAYLIGHT
TZOFFSETFROM:-0500
TZOFFSETTO:-0400
TZNAME:EDT
DTSTART:20240310T070000
END:DAYLIGHT
BEGIN:STANDARD
TZOFFSETFROM:-0400
TZOFFSETTO:-0500
TZNAME:EST
DTSTART:20241103T060000
END:STANDARD
END:VTIMEZONE
BEGIN:VEVENT
DTSTART;TZID=America/New_York:20230119T120000
DTEND;TZID=America/New_York:20230119T130000
DTSTAMP:20260423T182402
CREATED:20230103T133714Z
LAST-MODIFIED:20230103T133714Z
UID:11884-1674129600-1674133200@allianceforsafekids.org
SUMMARY:Understanding Cutting and Self-Harm
DESCRIPTION:Self-injury is a complex behavior that is difficult to understand if you haven’t experienced it. Explore what self-harm is and is not\, why people purposefully hurt themselves\, and the symptoms to look for. Dispel myths and stereotypes and learn what treatments are most effective with a licensed therapist. \nFine print: Certificates of attendance are provided at no cost. CEUs are not provided. Everyone who registers will receive the webinar recording & resource info 24 hours after the live event. \nAbout the instructor: Jaymi Dormaier is a Licensed Master Social Worker with ten years of experience in the mental health field. In Jaymi’s career as a social worker and therapist she has worked with diverse populations focusing on anxiety\, depression\, grief\, trauma\, foster care\, adoption\, homelessness\, and addiction. She is passionate about helping others live a life they love. \nRegister for FREE here
URL:https://allianceforsafekids.org/calendar/understanding-cutting-and-self-harm/
END:VEVENT
BEGIN:VEVENT
DTSTART;TZID=America/New_York:20230119T183000
DTEND;TZID=America/New_York:20230119T200000
DTSTAMP:20260423T182402
CREATED:20230324T033211Z
LAST-MODIFIED:20230324T033211Z
UID:11997-1674153000-1674158400@allianceforsafekids.org
SUMMARY:Virtual Naloxone Training
DESCRIPTION:Naloxone is a prescription medicine that reverses an overdose by blocking heroin or other opioids in the nervous system for 30-90 minutes. Naloxone is administered by injection or intranasal. Following training\, participants receive a kit by mail. Presented by our partners at Drug Crisis in Our Backyard. \nRegister by email: ssal@drugcrisisinourbackyard.com
URL:https://allianceforsafekids.org/calendar/virtual-naloxone-training-3/
ATTACH;FMTTYPE=image/jpeg:https://allianceforsafekids.org/wp-content/uploads/2022/09/Max_Naloxone-trng_ASK_Town-Calendar-.jpg
END:VEVENT
END:VCALENDAR