BEGIN:VCALENDAR
VERSION:2.0
PRODID:-//Alliance For Safe Kids - ECPv6.15.20//NONSGML v1.0//EN
CALSCALE:GREGORIAN
METHOD:PUBLISH
X-ORIGINAL-URL:https://allianceforsafekids.org
X-WR-CALDESC:Events for Alliance For Safe Kids
REFRESH-INTERVAL;VALUE=DURATION:PT1H
X-Robots-Tag:noindex
X-PUBLISHED-TTL:PT1H
BEGIN:VTIMEZONE
TZID:America/New_York
BEGIN:DAYLIGHT
TZOFFSETFROM:-0500
TZOFFSETTO:-0400
TZNAME:EDT
DTSTART:20220313T070000
END:DAYLIGHT
BEGIN:STANDARD
TZOFFSETFROM:-0400
TZOFFSETTO:-0500
TZNAME:EST
DTSTART:20221106T060000
END:STANDARD
BEGIN:DAYLIGHT
TZOFFSETFROM:-0500
TZOFFSETTO:-0400
TZNAME:EDT
DTSTART:20230312T070000
END:DAYLIGHT
BEGIN:STANDARD
TZOFFSETFROM:-0400
TZOFFSETTO:-0500
TZNAME:EST
DTSTART:20231105T060000
END:STANDARD
BEGIN:DAYLIGHT
TZOFFSETFROM:-0500
TZOFFSETTO:-0400
TZNAME:EDT
DTSTART:20240310T070000
END:DAYLIGHT
BEGIN:STANDARD
TZOFFSETFROM:-0400
TZOFFSETTO:-0500
TZNAME:EST
DTSTART:20241103T060000
END:STANDARD
END:VTIMEZONE
BEGIN:VEVENT
DTSTART;TZID=America/New_York:20230301T120000
DTEND;TZID=America/New_York:20230301T130000
DTSTAMP:20260423T164702
CREATED:20230324T034041Z
LAST-MODIFIED:20230324T034041Z
UID:12009-1677672000-1677675600@allianceforsafekids.org
SUMMARY:Stress: Signs\, symptoms\, management and prevention
DESCRIPTION:The term ‘stress’ is used loosely in our culture. What does it really mean and how vulnerable are you? Understand the biology of stress and explore realistic and practical ways to manage distress. \nRegister now.
URL:https://allianceforsafekids.org/calendar/stress-signs-symptoms-management-and-prevention-3/
END:VEVENT
BEGIN:VEVENT
DTSTART;TZID=America/New_York:20230301T190000
DTEND;TZID=America/New_York:20230301T200000
DTSTAMP:20260423T164702
CREATED:20230324T025620Z
LAST-MODIFIED:20230324T025620Z
UID:11959-1677697200-1677700800@allianceforsafekids.org
SUMMARY:Spotlight on Recovery - Family Support Group
DESCRIPTION:Drug Crisis in Our Backyard is pleased to offer Family Support Groups\, an interactive forum for family support and education. We have recurring meetings where parents and families can obtain information and support in dealing with problems with drug abuse and addiction in their homes. ​ \nWednesday 7-8pm\nLink to join: https://zoom.us/j/8534470100\n*No passcode required
URL:https://allianceforsafekids.org/calendar/spotlight-on-recovery-family-support-group-77/
END:VEVENT
END:VCALENDAR