BEGIN:VCALENDAR
VERSION:2.0
PRODID:-//Alliance For Safe Kids - ECPv6.15.20//NONSGML v1.0//EN
CALSCALE:GREGORIAN
METHOD:PUBLISH
X-ORIGINAL-URL:https://allianceforsafekids.org
X-WR-CALDESC:Events for Alliance For Safe Kids
REFRESH-INTERVAL;VALUE=DURATION:PT1H
X-Robots-Tag:noindex
X-PUBLISHED-TTL:PT1H
BEGIN:VTIMEZONE
TZID:America/New_York
BEGIN:DAYLIGHT
TZOFFSETFROM:-0500
TZOFFSETTO:-0400
TZNAME:EDT
DTSTART:20230312T070000
END:DAYLIGHT
BEGIN:STANDARD
TZOFFSETFROM:-0400
TZOFFSETTO:-0500
TZNAME:EST
DTSTART:20231105T060000
END:STANDARD
BEGIN:DAYLIGHT
TZOFFSETFROM:-0500
TZOFFSETTO:-0400
TZNAME:EDT
DTSTART:20240310T070000
END:DAYLIGHT
BEGIN:STANDARD
TZOFFSETFROM:-0400
TZOFFSETTO:-0500
TZNAME:EST
DTSTART:20241103T060000
END:STANDARD
BEGIN:DAYLIGHT
TZOFFSETFROM:-0500
TZOFFSETTO:-0400
TZNAME:EDT
DTSTART:20250309T070000
END:DAYLIGHT
BEGIN:STANDARD
TZOFFSETFROM:-0400
TZOFFSETTO:-0500
TZNAME:EST
DTSTART:20251102T060000
END:STANDARD
END:VTIMEZONE
BEGIN:VEVENT
DTSTART;VALUE=DATE:20240919
DTEND;VALUE=DATE:20240920
DTSTAMP:20260423T212647
CREATED:20240829T103356Z
LAST-MODIFIED:20240829T103356Z
UID:12482-1726704000-1726790399@allianceforsafekids.org
SUMMARY:Virtual Naloxone Training
DESCRIPTION:Naloxone is a prescription medicine that reverses an overdose by blocking heroin or other opioids in the nervous system for 30-90 minutes. Naloxone is administered by injection or intranasal. Following training\, participants receive a kit by mail. Presented by our partners at Drug Crisis in Our Backyard. Register by email: ssal@drugcrisisinourbackyard.com
URL:https://allianceforsafekids.org/calendar/virtual-naloxone-training-14/
CATEGORIES:Program
END:VEVENT
BEGIN:VEVENT
DTSTART;TZID=America/New_York:20240919T190000
DTEND;TZID=America/New_York:20240919T200000
DTSTAMP:20260423T212647
CREATED:20240829T103310Z
LAST-MODIFIED:20240829T103310Z
UID:12480-1726772400-1726776000@allianceforsafekids.org
SUMMARY:Yoga for Resilience
DESCRIPTION:Do you have a loved one struggling with addiction? Are you feeling overwhelmed? Carve out time for yourself so you may respond to your loved one with a clear mind and an open heart. Join us on Zoom and we will come together in a safe space to practice somatic mindfulness\, grounding and centering\, containment and breath regulation. For more information\, click here.
URL:https://allianceforsafekids.org/calendar/yoga-for-resilience-3/
CATEGORIES:Program
END:VEVENT
END:VCALENDAR