BEGIN:VCALENDAR
VERSION:2.0
PRODID:-//Alliance For Safe Kids - ECPv6.15.20//NONSGML v1.0//EN
CALSCALE:GREGORIAN
METHOD:PUBLISH
X-ORIGINAL-URL:https://allianceforsafekids.org
X-WR-CALDESC:Events for Alliance For Safe Kids
REFRESH-INTERVAL;VALUE=DURATION:PT1H
X-Robots-Tag:noindex
X-PUBLISHED-TTL:PT1H
BEGIN:VTIMEZONE
TZID:America/New_York
BEGIN:DAYLIGHT
TZOFFSETFROM:-0500
TZOFFSETTO:-0400
TZNAME:EDT
DTSTART:20230312T070000
END:DAYLIGHT
BEGIN:STANDARD
TZOFFSETFROM:-0400
TZOFFSETTO:-0500
TZNAME:EST
DTSTART:20231105T060000
END:STANDARD
BEGIN:DAYLIGHT
TZOFFSETFROM:-0500
TZOFFSETTO:-0400
TZNAME:EDT
DTSTART:20240310T070000
END:DAYLIGHT
BEGIN:STANDARD
TZOFFSETFROM:-0400
TZOFFSETTO:-0500
TZNAME:EST
DTSTART:20241103T060000
END:STANDARD
BEGIN:DAYLIGHT
TZOFFSETFROM:-0500
TZOFFSETTO:-0400
TZNAME:EDT
DTSTART:20250309T070000
END:DAYLIGHT
BEGIN:STANDARD
TZOFFSETFROM:-0400
TZOFFSETTO:-0500
TZNAME:EST
DTSTART:20251102T060000
END:STANDARD
END:VTIMEZONE
BEGIN:VEVENT
DTSTART;VALUE=DATE:20241028
DTEND;VALUE=DATE:20241029
DTSTAMP:20260423T183211
CREATED:20241029T001701Z
LAST-MODIFIED:20241029T001701Z
UID:12508-1730073600-1730159999@allianceforsafekids.org
SUMMARY:GivingTuesday
DESCRIPTION:ASK provides a safety net that supports a healthy lifestyle for our youth and families. ASK’s mission is to connect the community to important resources that promote Youth Mental Health; Substance Use Prevention\, Treatment and Recovery; and Opportunities for Thoughtful Service.\n\n \n\nAs the fiscal sponsor for Drug Crisis in Our Backyard\, ASK supports their mission to bring awareness of the rampant abuse of prescription and illegal drugs in our community; bring recognition that substance misuse is a chronic disease; and to assist individuals and their families who are struggling with the effects of substance use in a friend or loved one.\n\n \n\nYour donation will not only support the ongoing connections between the community and potentially lifesaving resources\, but will allow for important programs to continue.
URL:https://allianceforsafekids.org/calendar/givingtuesday-3/
END:VEVENT
END:VCALENDAR