BEGIN:VCALENDAR
VERSION:2.0
PRODID:-//Alliance For Safe Kids - ECPv6.15.20//NONSGML v1.0//EN
CALSCALE:GREGORIAN
METHOD:PUBLISH
X-ORIGINAL-URL:https://allianceforsafekids.org
X-WR-CALDESC:Events for Alliance For Safe Kids
REFRESH-INTERVAL;VALUE=DURATION:PT1H
X-Robots-Tag:noindex
X-PUBLISHED-TTL:PT1H
BEGIN:VTIMEZONE
TZID:America/New_York
BEGIN:DAYLIGHT
TZOFFSETFROM:-0500
TZOFFSETTO:-0400
TZNAME:EDT
DTSTART:20240310T070000
END:DAYLIGHT
BEGIN:STANDARD
TZOFFSETFROM:-0400
TZOFFSETTO:-0500
TZNAME:EST
DTSTART:20241103T060000
END:STANDARD
BEGIN:DAYLIGHT
TZOFFSETFROM:-0500
TZOFFSETTO:-0400
TZNAME:EDT
DTSTART:20250309T070000
END:DAYLIGHT
BEGIN:STANDARD
TZOFFSETFROM:-0400
TZOFFSETTO:-0500
TZNAME:EST
DTSTART:20251102T060000
END:STANDARD
BEGIN:DAYLIGHT
TZOFFSETFROM:-0500
TZOFFSETTO:-0400
TZNAME:EDT
DTSTART:20260308T070000
END:DAYLIGHT
BEGIN:STANDARD
TZOFFSETFROM:-0400
TZOFFSETTO:-0500
TZNAME:EST
DTSTART:20261101T060000
END:STANDARD
END:VTIMEZONE
BEGIN:VEVENT
DTSTART;TZID=America/New_York:20250304T130000
DTEND;TZID=America/New_York:20250304T140000
DTSTAMP:20260423T212915
CREATED:20250126T113014Z
LAST-MODIFIED:20250126T113014Z
UID:12714-1741093200-1741096800@allianceforsafekids.org
SUMMARY:Webinar: Unpacking the Risks of Modern Marijuana
DESCRIPTION:Laura Stack\, founder of Johnny’s Ambassadors\, shares her powerful personal story of loss and sheds light on how high-THC marijuana can lead to addiction\, anxiety\, psychosis\, and even suicide. Backed by science and her own experience\, Laura’s heartfelt presentation will empower parents to understand the risks and start essential conversations with their kids. Register now.
URL:https://allianceforsafekids.org/calendar/webinar-unpacking-the-risks-of-modern-marijuana/
CATEGORIES:Community Events
END:VEVENT
BEGIN:VEVENT
DTSTART;TZID=America/New_York:20250304T183000
DTEND;TZID=America/New_York:20250304T200000
DTSTAMP:20260423T212915
CREATED:20250126T193931Z
LAST-MODIFIED:20250126T193931Z
UID:12724-1741113000-1741118400@allianceforsafekids.org
SUMMARY:Family Support Group
DESCRIPTION:Drug Crisis in Our Backyard is pleased to offer Family Support Groups\, an interactive forum for family support and education. We have recurring meetings where parents and families can obtain information and support in dealing with problems with drug abuse and addiction in their homes. ​ \nTuesday 6:30-8:00pm\nLink to join: https://zoom.us/j/2241277364\n​Passcode:  456745!
URL:https://allianceforsafekids.org/calendar/family-support-group-113/
CATEGORIES:Program
END:VEVENT
END:VCALENDAR