BEGIN:VCALENDAR
VERSION:2.0
PRODID:-//Alliance For Safe Kids - ECPv6.15.20//NONSGML v1.0//EN
CALSCALE:GREGORIAN
METHOD:PUBLISH
X-ORIGINAL-URL:https://allianceforsafekids.org
X-WR-CALDESC:Events for Alliance For Safe Kids
REFRESH-INTERVAL;VALUE=DURATION:PT1H
X-Robots-Tag:noindex
X-PUBLISHED-TTL:PT1H
BEGIN:VTIMEZONE
TZID:America/New_York
BEGIN:DAYLIGHT
TZOFFSETFROM:-0500
TZOFFSETTO:-0400
TZNAME:EDT
DTSTART:20220313T070000
END:DAYLIGHT
BEGIN:STANDARD
TZOFFSETFROM:-0400
TZOFFSETTO:-0500
TZNAME:EST
DTSTART:20221106T060000
END:STANDARD
BEGIN:DAYLIGHT
TZOFFSETFROM:-0500
TZOFFSETTO:-0400
TZNAME:EDT
DTSTART:20230312T070000
END:DAYLIGHT
BEGIN:STANDARD
TZOFFSETFROM:-0400
TZOFFSETTO:-0500
TZNAME:EST
DTSTART:20231105T060000
END:STANDARD
BEGIN:DAYLIGHT
TZOFFSETFROM:-0500
TZOFFSETTO:-0400
TZNAME:EDT
DTSTART:20240310T070000
END:DAYLIGHT
BEGIN:STANDARD
TZOFFSETFROM:-0400
TZOFFSETTO:-0500
TZNAME:EST
DTSTART:20241103T060000
END:STANDARD
BEGIN:DAYLIGHT
TZOFFSETFROM:-0500
TZOFFSETTO:-0400
TZNAME:EDT
DTSTART:20250309T070000
END:DAYLIGHT
BEGIN:STANDARD
TZOFFSETFROM:-0400
TZOFFSETTO:-0500
TZNAME:EST
DTSTART:20251102T060000
END:STANDARD
END:VTIMEZONE
BEGIN:VEVENT
DTSTART;TZID=America/New_York:20240716T183000
DTEND;TZID=America/New_York:20240716T200000
DTSTAMP:20260425T101156
CREATED:20240531T102311Z
LAST-MODIFIED:20240531T102311Z
UID:12344-1721154600-1721160000@allianceforsafekids.org
SUMMARY:Family Support Group
DESCRIPTION:Drug Crisis in Our Backyard is pleased to offer Family Support Groups\, an interactive forum for family support and education. We have recurring meetings where parents and families can obtain information and support in dealing with problems with drug abuse and addiction in their homes. ​ \nTuesday 6:30-8:00pm\nLink to join: https://zoom.us/j/2241277364\n​Passcode:  456745!
URL:https://allianceforsafekids.org/calendar/family-support-group-44/
CATEGORIES:Program
END:VEVENT
BEGIN:VEVENT
DTSTART;TZID=America/New_York:20240710T190000
DTEND;TZID=America/New_York:20240710T200000
DTSTAMP:20260425T101156
CREATED:20240531T102843Z
LAST-MODIFIED:20240531T102843Z
UID:12361-1720638000-1720641600@allianceforsafekids.org
SUMMARY:Family Support Group
DESCRIPTION:Drug Crisis in Our Backyard is pleased to offer Family Support Groups\, an interactive forum for family support and education. We have recurring meetings where parents and families can obtain information and support in dealing with problems with drug abuse and addiction in their homes. ​ \nWednesday 7-8pm\nLink to join: https://zoom.us/j/8534470100\n*No passcode required.
URL:https://allianceforsafekids.org/calendar/family-support-group-52/
CATEGORIES:Program
END:VEVENT
BEGIN:VEVENT
DTSTART;TZID=America/New_York:20240709T183000
DTEND;TZID=America/New_York:20240709T200000
DTSTAMP:20260425T101156
CREATED:20240531T102217Z
LAST-MODIFIED:20240531T102217Z
UID:12340-1720549800-1720555200@allianceforsafekids.org
SUMMARY:Family Support Group
DESCRIPTION:Drug Crisis in Our Backyard is pleased to offer Family Support Groups\, an interactive forum for family support and education. We have recurring meetings where parents and families can obtain information and support in dealing with problems with drug abuse and addiction in their homes. ​ \nTuesday 6:30-8:00pm\nLink to join: https://zoom.us/j/2241277364\n​Passcode:  456745!
URL:https://allianceforsafekids.org/calendar/family-support-group-43/
CATEGORIES:Program
END:VEVENT
BEGIN:VEVENT
DTSTART;TZID=America/New_York:20240703T190000
DTEND;TZID=America/New_York:20240703T200000
DTSTAMP:20260425T101156
CREATED:20240531T102810Z
LAST-MODIFIED:20240531T102810Z
UID:12359-1720033200-1720036800@allianceforsafekids.org
SUMMARY:Family Support Group
DESCRIPTION:Drug Crisis in Our Backyard is pleased to offer Family Support Groups\, an interactive forum for family support and education. We have recurring meetings where parents and families can obtain information and support in dealing with problems with drug abuse and addiction in their homes. ​ \nWednesday 7-8pm\nLink to join: https://zoom.us/j/8534470100\n*No passcode required.
URL:https://allianceforsafekids.org/calendar/family-support-group-51/
CATEGORIES:Program
END:VEVENT
BEGIN:VEVENT
DTSTART;TZID=America/New_York:20240702T183000
DTEND;TZID=America/New_York:20240702T200000
DTSTAMP:20260425T101156
CREATED:20240531T102153Z
LAST-MODIFIED:20240531T102153Z
UID:12338-1719945000-1719950400@allianceforsafekids.org
SUMMARY:Family Support Group
DESCRIPTION:Drug Crisis in Our Backyard is pleased to offer Family Support Groups\, an interactive forum for family support and education. We have recurring meetings where parents and families can obtain information and support in dealing with problems with drug abuse and addiction in their homes. ​ \nTuesday 6:30-8:00pm\nLink to join: https://zoom.us/j/2241277364\n​Passcode:  456745!
URL:https://allianceforsafekids.org/calendar/family-support-group-42/
CATEGORIES:Program
END:VEVENT
BEGIN:VEVENT
DTSTART;TZID=America/New_York:20240626T190000
DTEND;TZID=America/New_York:20240626T200000
DTSTAMP:20260425T101156
CREATED:20240531T102712Z
LAST-MODIFIED:20240531T102712Z
UID:12357-1719428400-1719432000@allianceforsafekids.org
SUMMARY:Family Support Group
DESCRIPTION:Drug Crisis in Our Backyard is pleased to offer Family Support Groups\, an interactive forum for family support and education. We have recurring meetings where parents and families can obtain information and support in dealing with problems with drug abuse and addiction in their homes. ​ \nWednesday 7-8pm\nLink to join: https://zoom.us/j/8534470100\n*No passcode required.
URL:https://allianceforsafekids.org/calendar/family-support-group-50/
CATEGORIES:Program
END:VEVENT
BEGIN:VEVENT
DTSTART;TZID=America/New_York:20240625T183000
DTEND;TZID=America/New_York:20240625T200000
DTSTAMP:20260425T101156
CREATED:20240531T102115Z
LAST-MODIFIED:20240531T102115Z
UID:12336-1719340200-1719345600@allianceforsafekids.org
SUMMARY:Family Support Group
DESCRIPTION:Drug Crisis in Our Backyard is pleased to offer Family Support Groups\, an interactive forum for family support and education. We have recurring meetings where parents and families can obtain information and support in dealing with problems with drug abuse and addiction in their homes. ​ \nTuesday 6:30-8:00pm\nLink to join: https://zoom.us/j/2241277364\n​Passcode:  456745!
URL:https://allianceforsafekids.org/calendar/family-support-group-41/
CATEGORIES:Program
END:VEVENT
BEGIN:VEVENT
DTSTART;TZID=America/New_York:20240619T190000
DTEND;TZID=America/New_York:20240619T200000
DTSTAMP:20260425T101156
CREATED:20240531T102648Z
LAST-MODIFIED:20240531T102648Z
UID:12355-1718823600-1718827200@allianceforsafekids.org
SUMMARY:Family Support Group
DESCRIPTION:Drug Crisis in Our Backyard is pleased to offer Family Support Groups\, an interactive forum for family support and education. We have recurring meetings where parents and families can obtain information and support in dealing with problems with drug abuse and addiction in their homes. ​ \nWednesday 7-8pm\nLink to join: https://zoom.us/j/8534470100\n*No passcode required.
URL:https://allianceforsafekids.org/calendar/family-support-group-49/
CATEGORIES:Program
END:VEVENT
BEGIN:VEVENT
DTSTART;TZID=America/New_York:20240618T183000
DTEND;TZID=America/New_York:20240618T200000
DTSTAMP:20260425T101156
CREATED:20240531T101620Z
LAST-MODIFIED:20240531T101620Z
UID:12319-1718735400-1718740800@allianceforsafekids.org
SUMMARY:Family Support Group
DESCRIPTION:Drug Crisis in Our Backyard is pleased to offer Family Support Groups\, an interactive forum for family support and education. We have recurring meetings where parents and families can obtain information and support in dealing with problems with drug abuse and addiction in their homes. ​ \nTuesday 6:30-8:00pm\nLink to join: https://zoom.us/j/2241277364\n​Passcode:  456745!
URL:https://allianceforsafekids.org/calendar/family-support-group-40/
CATEGORIES:Program
END:VEVENT
BEGIN:VEVENT
DTSTART;TZID=America/New_York:20240612T190000
DTEND;TZID=America/New_York:20240612T200000
DTSTAMP:20260425T101156
CREATED:20240531T102623Z
LAST-MODIFIED:20240531T102623Z
UID:12353-1718218800-1718222400@allianceforsafekids.org
SUMMARY:Family Support Group
DESCRIPTION:Drug Crisis in Our Backyard is pleased to offer Family Support Groups\, an interactive forum for family support and education. We have recurring meetings where parents and families can obtain information and support in dealing with problems with drug abuse and addiction in their homes. ​ \nWednesday 7-8pm\nLink to join: https://zoom.us/j/8534470100\n*No passcode required.
URL:https://allianceforsafekids.org/calendar/family-support-group-48/
CATEGORIES:Program
END:VEVENT
BEGIN:VEVENT
DTSTART;TZID=America/New_York:20240611T183000
DTEND;TZID=America/New_York:20240611T200000
DTSTAMP:20260425T101156
CREATED:20240531T101419Z
LAST-MODIFIED:20240531T101419Z
UID:12316-1718130600-1718136000@allianceforsafekids.org
SUMMARY:Family Support Group
DESCRIPTION:Drug Crisis in Our Backyard is pleased to offer Family Support Groups\, an interactive forum for family support and education. We have recurring meetings where parents and families can obtain information and support in dealing with problems with drug abuse and addiction in their homes. ​ \nTuesday 6:30-8:00pm\nLink to join: https://zoom.us/j/2241277364\n​Passcode:  456745!
URL:https://allianceforsafekids.org/calendar/family-support-group-39/
CATEGORIES:Program
END:VEVENT
BEGIN:VEVENT
DTSTART;TZID=America/New_York:20240605T190000
DTEND;TZID=America/New_York:20240605T200000
DTSTAMP:20260425T101156
CREATED:20240531T102549Z
LAST-MODIFIED:20240531T102549Z
UID:12351-1717614000-1717617600@allianceforsafekids.org
SUMMARY:Family Support Group
DESCRIPTION:Drug Crisis in Our Backyard is pleased to offer Family Support Groups\, an interactive forum for family support and education. We have recurring meetings where parents and families can obtain information and support in dealing with problems with drug abuse and addiction in their homes. ​ \nWednesday 7-8pm\nLink to join: https://zoom.us/j/8534470100\n*No passcode required.
URL:https://allianceforsafekids.org/calendar/family-support-group-47/
CATEGORIES:Program
END:VEVENT
BEGIN:VEVENT
DTSTART;TZID=America/New_York:20240604T183000
DTEND;TZID=America/New_York:20240604T200000
DTSTAMP:20260425T101156
CREATED:20240531T101343Z
LAST-MODIFIED:20240531T101343Z
UID:12313-1717525800-1717531200@allianceforsafekids.org
SUMMARY:Family Support Group
DESCRIPTION:Drug Crisis in Our Backyard is pleased to offer Family Support Groups\, an interactive forum for family support and education. We have recurring meetings where parents and families can obtain information and support in dealing with problems with drug abuse and addiction in their homes. ​ \nTuesday 6:30-8:00pm\nLink to join: https://zoom.us/j/2241277364\n​Passcode:  456745!
URL:https://allianceforsafekids.org/calendar/family-support-group-38/
CATEGORIES:Program
END:VEVENT
BEGIN:VEVENT
DTSTART;TZID=America/New_York:20240206T183000
DTEND;TZID=America/New_York:20240206T200000
DTSTAMP:20260425T101156
CREATED:20240129T114020Z
LAST-MODIFIED:20240129T114020Z
UID:12264-1707244200-1707249600@allianceforsafekids.org
SUMMARY:Family Support Group
DESCRIPTION:Drug Crisis in Our Backyard is pleased to offer Family Support Groups\, an interactive forum for family support and education. We have recurring meetings where parents and families can obtain information and support in dealing with problems with drug abuse and addiction in their homes. ​ \nTuesday 6:30-8:00pm\nLink to join: https://zoom.us/j/2241277364\n​Passcode:  456745!
URL:https://allianceforsafekids.org/calendar/family-support-group-30/
CATEGORIES:Program
END:VEVENT
BEGIN:VEVENT
DTSTART;TZID=America/New_York:20240131T190000
DTEND;TZID=America/New_York:20240131T200000
DTSTAMP:20260425T101156
CREATED:20231222T114340Z
LAST-MODIFIED:20231222T114340Z
UID:12223-1706727600-1706731200@allianceforsafekids.org
SUMMARY:Family Support Group
DESCRIPTION:Drug Crisis in Our Backyard is pleased to offer Family Support Groups\, an interactive forum for family support and education. We have recurring meetings where parents and families can obtain information and support in dealing with problems with drug abuse and addiction in their homes. ​ \nWednesday 7-8pm\nLink to join: https://zoom.us/j/8534470100\n*No passcode required.
URL:https://allianceforsafekids.org/calendar/family-support-group-24/
CATEGORIES:Program
END:VEVENT
BEGIN:VEVENT
DTSTART;TZID=America/New_York:20240130T183000
DTEND;TZID=America/New_York:20240130T200000
DTSTAMP:20260425T101156
CREATED:20231222T114638Z
LAST-MODIFIED:20231222T114638Z
UID:12233-1706639400-1706644800@allianceforsafekids.org
SUMMARY:Family Support Group
DESCRIPTION:Drug Crisis in Our Backyard is pleased to offer Family Support Groups\, an interactive forum for family support and education. We have recurring meetings where parents and families can obtain information and support in dealing with problems with drug abuse and addiction in their homes. ​ \nTuesday 6:30-8:00pm\nLink to join: https://zoom.us/j/2241277364\n​Passcode:  456745!
URL:https://allianceforsafekids.org/calendar/family-support-group-29/
CATEGORIES:Program
END:VEVENT
BEGIN:VEVENT
DTSTART;TZID=America/New_York:20240124T190000
DTEND;TZID=America/New_York:20240124T200000
DTSTAMP:20260425T101156
CREATED:20231222T114310Z
LAST-MODIFIED:20231222T114310Z
UID:12221-1706122800-1706126400@allianceforsafekids.org
SUMMARY:Family Support Group
DESCRIPTION:Drug Crisis in Our Backyard is pleased to offer Family Support Groups\, an interactive forum for family support and education. We have recurring meetings where parents and families can obtain information and support in dealing with problems with drug abuse and addiction in their homes. ​ \nWednesday 7-8pm\nLink to join: https://zoom.us/j/8534470100\n*No passcode required.
URL:https://allianceforsafekids.org/calendar/family-support-group-23/
CATEGORIES:Program
END:VEVENT
BEGIN:VEVENT
DTSTART;TZID=America/New_York:20240123T183000
DTEND;TZID=America/New_York:20240123T200000
DTSTAMP:20260425T101156
CREATED:20231222T114609Z
LAST-MODIFIED:20231222T114609Z
UID:12231-1706034600-1706040000@allianceforsafekids.org
SUMMARY:Family Support Group
DESCRIPTION:Drug Crisis in Our Backyard is pleased to offer Family Support Groups\, an interactive forum for family support and education. We have recurring meetings where parents and families can obtain information and support in dealing with problems with drug abuse and addiction in their homes. ​ \nTuesday 6:30-8:00pm\nLink to join: https://zoom.us/j/2241277364\n​Passcode:  456745!
URL:https://allianceforsafekids.org/calendar/family-support-group-28/
CATEGORIES:Program
END:VEVENT
BEGIN:VEVENT
DTSTART;TZID=America/New_York:20240117T190000
DTEND;TZID=America/New_York:20240117T200000
DTSTAMP:20260425T101156
CREATED:20231222T114242Z
LAST-MODIFIED:20231222T114242Z
UID:12219-1705518000-1705521600@allianceforsafekids.org
SUMMARY:Family Support Group
DESCRIPTION:Drug Crisis in Our Backyard is pleased to offer Family Support Groups\, an interactive forum for family support and education. We have recurring meetings where parents and families can obtain information and support in dealing with problems with drug abuse and addiction in their homes. ​ \nWednesday 7-8pm\nLink to join: https://zoom.us/j/8534470100\n*No passcode required.
URL:https://allianceforsafekids.org/calendar/family-support-group-22/
CATEGORIES:Program
END:VEVENT
BEGIN:VEVENT
DTSTART;TZID=America/New_York:20240116T183000
DTEND;TZID=America/New_York:20240116T200000
DTSTAMP:20260425T101156
CREATED:20231222T114545Z
LAST-MODIFIED:20231222T114545Z
UID:12229-1705429800-1705435200@allianceforsafekids.org
SUMMARY:Family Support Group
DESCRIPTION:Drug Crisis in Our Backyard is pleased to offer Family Support Groups\, an interactive forum for family support and education. We have recurring meetings where parents and families can obtain information and support in dealing with problems with drug abuse and addiction in their homes. ​ \nTuesday 6:30-8:00pm\nLink to join: https://zoom.us/j/2241277364\n​Passcode:  456745!
URL:https://allianceforsafekids.org/calendar/family-support-group-27/
CATEGORIES:Program
END:VEVENT
BEGIN:VEVENT
DTSTART;TZID=America/New_York:20240109T183000
DTEND;TZID=America/New_York:20240109T200000
DTSTAMP:20260425T101156
CREATED:20231222T114500Z
LAST-MODIFIED:20231222T114500Z
UID:12227-1704825000-1704830400@allianceforsafekids.org
SUMMARY:Family Support Group
DESCRIPTION:Drug Crisis in Our Backyard is pleased to offer Family Support Groups\, an interactive forum for family support and education. We have recurring meetings where parents and families can obtain information and support in dealing with problems with drug abuse and addiction in their homes. ​ \nTuesday 6:30-8:00pm\nLink to join: https://zoom.us/j/2241277364\n​Passcode:  456745!
URL:https://allianceforsafekids.org/calendar/family-support-group-26/
CATEGORIES:Program
END:VEVENT
BEGIN:VEVENT
DTSTART;TZID=America/New_York:20240103T190000
DTEND;TZID=America/New_York:20240103T200000
DTSTAMP:20260425T101156
CREATED:20231222T114139Z
LAST-MODIFIED:20231222T114139Z
UID:12215-1704308400-1704312000@allianceforsafekids.org
SUMMARY:Family Support Group
DESCRIPTION:Drug Crisis in Our Backyard is pleased to offer Family Support Groups\, an interactive forum for family support and education. We have recurring meetings where parents and families can obtain information and support in dealing with problems with drug abuse and addiction in their homes. ​ \nWednesday 7-8pm\nLink to join: https://zoom.us/j/8534470100\n*No passcode required.
URL:https://allianceforsafekids.org/calendar/family-support-group-20/
CATEGORIES:Program
END:VEVENT
BEGIN:VEVENT
DTSTART;TZID=America/New_York:20240102T183000
DTEND;TZID=America/New_York:20240102T200000
DTSTAMP:20260425T101156
CREATED:20231222T114433Z
LAST-MODIFIED:20231222T114433Z
UID:12225-1704220200-1704225600@allianceforsafekids.org
SUMMARY:Family Support Group
DESCRIPTION:Drug Crisis in Our Backyard is pleased to offer Family Support Groups\, an interactive forum for family support and education. We have recurring meetings where parents and families can obtain information and support in dealing with problems with drug abuse and addiction in their homes. ​ \nTuesday 6:30-8:00pm\nLink to join: https://zoom.us/j/2241277364\n​Passcode:  456745!
URL:https://allianceforsafekids.org/calendar/family-support-group-25/
CATEGORIES:Program
END:VEVENT
BEGIN:VEVENT
DTSTART;TZID=America/New_York:20231227T190000
DTEND;TZID=America/New_York:20231227T200000
DTSTAMP:20260425T101156
CREATED:20231025T105825Z
LAST-MODIFIED:20231025T105825Z
UID:12206-1703703600-1703707200@allianceforsafekids.org
SUMMARY:Family Support Group
DESCRIPTION:Drug Crisis in Our Backyard is pleased to offer Family Support Groups\, an interactive forum for family support and education. We have recurring meetings where parents and families can obtain information and support in dealing with problems with drug abuse and addiction in their homes. ​ \nWednesday 7-8pm\nLink to join: https://zoom.us/j/8534470100\n*No passcode required.
URL:https://allianceforsafekids.org/calendar/family-support-group-19/
CATEGORIES:Program
END:VEVENT
BEGIN:VEVENT
DTSTART;TZID=America/New_York:20231226T183000
DTEND;TZID=America/New_York:20231226T200000
DTSTAMP:20260425T101157
CREATED:20231025T105317Z
LAST-MODIFIED:20231025T105317Z
UID:12188-1703615400-1703620800@allianceforsafekids.org
SUMMARY:Family Support Group
DESCRIPTION:Drug Crisis in Our Backyard is pleased to offer Family Support Groups\, an interactive forum for family support and education. We have recurring meetings where parents and families can obtain information and support in dealing with problems with drug abuse and addiction in their homes. ​ \nTuesday 6:30-8:00pm\nLink to join: https://zoom.us/j/2241277364\n​Passcode:  456745!
URL:https://allianceforsafekids.org/calendar/family-support-group-10/
CATEGORIES:Program
END:VEVENT
BEGIN:VEVENT
DTSTART;TZID=America/New_York:20231220T190000
DTEND;TZID=America/New_York:20231220T200000
DTSTAMP:20260425T101157
CREATED:20231025T105758Z
LAST-MODIFIED:20231025T105758Z
UID:12204-1703098800-1703102400@allianceforsafekids.org
SUMMARY:Family Support Group
DESCRIPTION:Drug Crisis in Our Backyard is pleased to offer Family Support Groups\, an interactive forum for family support and education. We have recurring meetings where parents and families can obtain information and support in dealing with problems with drug abuse and addiction in their homes. ​ \nWednesday 7-8pm\nLink to join: https://zoom.us/j/8534470100\n*No passcode required.
URL:https://allianceforsafekids.org/calendar/family-support-group-18/
CATEGORIES:Program
END:VEVENT
BEGIN:VEVENT
DTSTART;TZID=America/New_York:20231219T183000
DTEND;TZID=America/New_York:20231219T200000
DTSTAMP:20260425T101157
CREATED:20231025T105248Z
LAST-MODIFIED:20231025T105248Z
UID:12186-1703010600-1703016000@allianceforsafekids.org
SUMMARY:Family Support Group
DESCRIPTION:Drug Crisis in Our Backyard is pleased to offer Family Support Groups\, an interactive forum for family support and education. We have recurring meetings where parents and families can obtain information and support in dealing with problems with drug abuse and addiction in their homes. ​ \nTuesday 6:30-8:00pm\nLink to join: https://zoom.us/j/2241277364\n​Passcode:  456745!
URL:https://allianceforsafekids.org/calendar/family-support-group-9/
CATEGORIES:Program
END:VEVENT
BEGIN:VEVENT
DTSTART;TZID=America/New_York:20231213T190000
DTEND;TZID=America/New_York:20231213T200000
DTSTAMP:20260425T101157
CREATED:20231025T105730Z
LAST-MODIFIED:20231025T105730Z
UID:12202-1702494000-1702497600@allianceforsafekids.org
SUMMARY:Family Support Group
DESCRIPTION:Drug Crisis in Our Backyard is pleased to offer Family Support Groups\, an interactive forum for family support and education. We have recurring meetings where parents and families can obtain information and support in dealing with problems with drug abuse and addiction in their homes. ​ \nWednesday 7-8pm\nLink to join: https://zoom.us/j/8534470100\n*No passcode required.
URL:https://allianceforsafekids.org/calendar/family-support-group-17/
CATEGORIES:Program
END:VEVENT
BEGIN:VEVENT
DTSTART;TZID=America/New_York:20231212T183000
DTEND;TZID=America/New_York:20231212T200000
DTSTAMP:20260425T101157
CREATED:20231025T105212Z
LAST-MODIFIED:20231025T105212Z
UID:12184-1702405800-1702411200@allianceforsafekids.org
SUMMARY:Family Support Group
DESCRIPTION:Drug Crisis in Our Backyard is pleased to offer Family Support Groups\, an interactive forum for family support and education. We have recurring meetings where parents and families can obtain information and support in dealing with problems with drug abuse and addiction in their homes. ​ \nTuesday 6:30-8:00pm\nLink to join: https://zoom.us/j/2241277364\n​Passcode:  456745!
URL:https://allianceforsafekids.org/calendar/family-support-group-8/
CATEGORIES:Program
END:VEVENT
BEGIN:VEVENT
DTSTART;TZID=America/New_York:20231206T190000
DTEND;TZID=America/New_York:20231206T200000
DTSTAMP:20260425T101157
CREATED:20231025T105657Z
LAST-MODIFIED:20231025T105657Z
UID:12200-1701889200-1701892800@allianceforsafekids.org
SUMMARY:Family Support Group
DESCRIPTION:Drug Crisis in Our Backyard is pleased to offer Family Support Groups\, an interactive forum for family support and education. We have recurring meetings where parents and families can obtain information and support in dealing with problems with drug abuse and addiction in their homes. ​ \nWednesday 7-8pm\nLink to join: https://zoom.us/j/8534470100\n*No passcode required.
URL:https://allianceforsafekids.org/calendar/family-support-group-16/
CATEGORIES:Program
END:VEVENT
END:VCALENDAR