BEGIN:VCALENDAR
VERSION:2.0
PRODID:-//Alliance For Safe Kids - ECPv6.15.20//NONSGML v1.0//EN
CALSCALE:GREGORIAN
METHOD:PUBLISH
X-WR-CALNAME:Alliance For Safe Kids
X-ORIGINAL-URL:https://allianceforsafekids.org
X-WR-CALDESC:Events for Alliance For Safe Kids
REFRESH-INTERVAL;VALUE=DURATION:PT1H
X-Robots-Tag:noindex
X-PUBLISHED-TTL:PT1H
BEGIN:VTIMEZONE
TZID:America/New_York
BEGIN:DAYLIGHT
TZOFFSETFROM:-0500
TZOFFSETTO:-0400
TZNAME:EDT
DTSTART:20210314T070000
END:DAYLIGHT
BEGIN:STANDARD
TZOFFSETFROM:-0400
TZOFFSETTO:-0500
TZNAME:EST
DTSTART:20211107T060000
END:STANDARD
BEGIN:DAYLIGHT
TZOFFSETFROM:-0500
TZOFFSETTO:-0400
TZNAME:EDT
DTSTART:20220313T070000
END:DAYLIGHT
BEGIN:STANDARD
TZOFFSETFROM:-0400
TZOFFSETTO:-0500
TZNAME:EST
DTSTART:20221106T060000
END:STANDARD
BEGIN:DAYLIGHT
TZOFFSETFROM:-0500
TZOFFSETTO:-0400
TZNAME:EDT
DTSTART:20230312T070000
END:DAYLIGHT
BEGIN:STANDARD
TZOFFSETFROM:-0400
TZOFFSETTO:-0500
TZNAME:EST
DTSTART:20231105T060000
END:STANDARD
BEGIN:DAYLIGHT
TZOFFSETFROM:-0500
TZOFFSETTO:-0400
TZNAME:EDT
DTSTART:20240310T070000
END:DAYLIGHT
BEGIN:STANDARD
TZOFFSETFROM:-0400
TZOFFSETTO:-0500
TZNAME:EST
DTSTART:20241103T060000
END:STANDARD
END:VTIMEZONE
BEGIN:VEVENT
DTSTART;TZID=America/New_York:20221201T120000
DTEND;TZID=America/New_York:20221201T130000
DTSTAMP:20260423T195106
CREATED:20221123T145611Z
LAST-MODIFIED:20221123T145611Z
UID:11834-1669896000-1669899600@allianceforsafekids.org
SUMMARY:Understanding Seasonal Affective Disorder
DESCRIPTION:Do the winter months get you down more than you think they should? Explore the signs and symptoms of seasonal affective disorder\, when it’s time to see a doctor\, and what treatment options are available. Learn practical tips for managing symptoms and supporting loved ones who are struggling with a licensed therapist. Webinar sponsored by Hollie & Cindy Smith. \nRegister for FREE here.
URL:https://allianceforsafekids.org/calendar/understanding-seasonal-affective-disorder-2/
END:VEVENT
BEGIN:VEVENT
DTSTART;TZID=America/New_York:20221202T093000
DTEND;TZID=America/New_York:20221202T103000
DTSTAMP:20260423T195106
CREATED:20221123T153325Z
LAST-MODIFIED:20221123T153748Z
UID:11848-1669973400-1669977000@allianceforsafekids.org
SUMMARY:Westchester Breathes
DESCRIPTION:Register below for this FREE 50 minute weekly program. As confirmation of your registration\, a meeting link will be sent to the email you provide below.  You can use the same link for each session. \nRegister for FREE here. 
URL:https://allianceforsafekids.org/calendar/westchester-breathes-4/
END:VEVENT
BEGIN:VEVENT
DTSTART;TZID=America/New_York:20221205T120000
DTEND;TZID=America/New_York:20221205T130000
DTSTAMP:20260423T195106
CREATED:20221123T150615Z
LAST-MODIFIED:20221123T150615Z
UID:11836-1670241600-1670245200@allianceforsafekids.org
SUMMARY:Why Can’t I Just Stop? Understanding OCD in Children and Adolescents
DESCRIPTION:Children with obsessive compulsive disorder usually know that persistent negative thoughts & compulsive behaviors are not typical and desperately want to stop\, but they don’t know how. Oftentimes they hide their symptoms from the world out of embarrassment and shame\, causing them to feel isolated & misunderstood. Discuss OCD symptoms and causes with a licensed therapist\, as well as the impact on social and emotional development. Learn what treatment options are available and discover practical tips to provide a supportive environment. \nRegister for FREE here.
URL:https://allianceforsafekids.org/calendar/why-cant-i-just-stop-understanding-ocd-in-children-and-adolescents-2/
END:VEVENT
BEGIN:VEVENT
DTSTART;TZID=America/New_York:20221206T183000
DTEND;TZID=America/New_York:20221206T200000
DTSTAMP:20260423T195106
CREATED:20221123T143539Z
LAST-MODIFIED:20221123T143539Z
UID:11822-1670351400-1670356800@allianceforsafekids.org
SUMMARY:Spotlight on Recovery - Family Support Group
DESCRIPTION:Drug Crisis in Our Backyard is pleased to offer Family Support Groups\, an interactive forum for family support and education. We have recurring meetings where parents and families can obtain information and support in dealing with problems with drug abuse and addiction in their homes. ​ \nTuesday 6:30-8:00pm\nLink to join: https://zoom.us/j/2241277364\n​Passcode:  456745!
URL:https://allianceforsafekids.org/calendar/spotlight-on-recovery-family-support-group-55/
END:VEVENT
BEGIN:VEVENT
DTSTART;TZID=America/New_York:20221207T120000
DTEND;TZID=America/New_York:20221207T130000
DTSTAMP:20260423T195106
CREATED:20221123T142108Z
LAST-MODIFIED:20221123T142108Z
UID:11810-1670414400-1670418000@allianceforsafekids.org
SUMMARY:Holiday Stress & Self-Care
DESCRIPTION:The “most wonderful time of the year” doesn’t always feel that wonderful. Demands on our time and energy often leaving us feeling tired\, disappointed\, and depressed. This one-hour seminar includes practical tips to manage the stress that accompanies the holidays\, prioritizing self-care\, and getting the support you need. Let’s bring more “peace & joy” back into your holiday season! \nAbout the instructor: Jaymi Dormaier is a Licensed Master Social Worker with ten years of experience in the mental health field. In Jaymi’s career as a social worker and therapist she has worked with diverse populations focusing on anxiety\, depression\, grief\, trauma\, foster care\, adoption\, homelessness\, and addiction. She is passionate about helping others live a life they love. \nRegister for FREE here. \n 
URL:https://allianceforsafekids.org/calendar/holiday-stress-self-care/
END:VEVENT
BEGIN:VEVENT
DTSTART;TZID=America/New_York:20221207T190000
DTEND;TZID=America/New_York:20221207T200000
DTSTAMP:20260423T195106
CREATED:20221123T142538Z
LAST-MODIFIED:20221123T142538Z
UID:11812-1670439600-1670443200@allianceforsafekids.org
SUMMARY:K.N.O.W. to Prevent: Creating Stability in a Changing World Cultivating Teen Mental Health in 2023
DESCRIPTION:The world is shifting – between emerging from COVID-19 precautions\, war in Europe\, climate concerns\, and political polarization\, society feels very different now than it did just a few years ago. Although it’s been stressful on all of us\, youth have had the additional challenge of coping with these changes without the same perspective or mental tools as adults\, leading to a nationally-recognized emergency in youth mental health. As a parent\, it can be difficult to know where to start – how to create a sense of stability for our children in a very unstable time. \nJoin psychologist Dr. Aaron Weiner for an exploration of three foundational principles in creating emotional stability – connection\, structure\, and confidence – and how parents can work with their kids to build these tools for emotional resilience from home. \nRegister for FREE now.
URL:https://allianceforsafekids.org/calendar/k-n-o-w-to-prevent-creating-stability-in-a-changing-world-cultivating-teen-mental-health-in-2023/
END:VEVENT
BEGIN:VEVENT
DTSTART;TZID=America/New_York:20221207T190000
DTEND;TZID=America/New_York:20221207T200000
DTSTAMP:20260423T195106
CREATED:20221123T142944Z
LAST-MODIFIED:20221123T142944Z
UID:11814-1670439600-1670443200@allianceforsafekids.org
SUMMARY:Spotlight on Recovery - Family Support Group
DESCRIPTION:Drug Crisis in Our Backyard is pleased to offer Family Support Groups\, an interactive forum for family support and education. We have recurring meetings where parents and families can obtain information and support in dealing with problems with drug abuse and addiction in their homes. ​ \nWednesday 7-8pm\nLink to join: https://zoom.us/j/8534470100\n*No passcode required.
URL:https://allianceforsafekids.org/calendar/spotlight-on-recovery-family-support-group-51/
END:VEVENT
BEGIN:VEVENT
DTSTART;TZID=America/New_York:20221208T120000
DTEND;TZID=America/New_York:20221208T130000
DTSTAMP:20260423T195106
CREATED:20221123T151148Z
LAST-MODIFIED:20221123T151148Z
UID:11838-1670500800-1670504400@allianceforsafekids.org
SUMMARY:Understanding Compassion Fatigue and Burnout
DESCRIPTION:Does compassion cause suffering? When does it go too far and how can caregivers protect their own wellbeing? Learn the warning signs\, who is at risk\, and how to restore your emotional energy with a licensed therapist. \nRegister here for FREE.
URL:https://allianceforsafekids.org/calendar/understanding-compassion-fatigue-and-burnout/
END:VEVENT
BEGIN:VEVENT
DTSTART;TZID=America/New_York:20221209T093000
DTEND;TZID=America/New_York:20221209T103000
DTSTAMP:20260423T195106
CREATED:20221123T153502Z
LAST-MODIFIED:20221123T153502Z
UID:11850-1670578200-1670581800@allianceforsafekids.org
SUMMARY:Westchester Breathes
DESCRIPTION:Register below for this FREE 50 minute weekly program. As confirmation of your registration\, a meeting link will be sent to the email you provide below.  You can use the same link for each session. \nRegister for FREE here. 
URL:https://allianceforsafekids.org/calendar/westchester-breathes-5/
END:VEVENT
BEGIN:VEVENT
DTSTART;TZID=America/New_York:20221213T183000
DTEND;TZID=America/New_York:20221213T200000
DTSTAMP:20260423T195106
CREATED:20221123T143652Z
LAST-MODIFIED:20221123T143652Z
UID:11824-1670956200-1670961600@allianceforsafekids.org
SUMMARY:Spotlight on Recovery - Family Support Group
DESCRIPTION:Drug Crisis in Our Backyard is pleased to offer Family Support Groups\, an interactive forum for family support and education. We have recurring meetings where parents and families can obtain information and support in dealing with problems with drug abuse and addiction in their homes. ​ \nTuesday 6:30-8:00pm\nLink to join: https://zoom.us/j/2241277364\n​Passcode:  456745!
URL:https://allianceforsafekids.org/calendar/spotlight-on-recovery-family-support-group-56/
END:VEVENT
BEGIN:VEVENT
DTSTART;TZID=America/New_York:20221214T190000
DTEND;TZID=America/New_York:20221214T200000
DTSTAMP:20260423T195106
CREATED:20221123T143140Z
LAST-MODIFIED:20221123T143140Z
UID:11816-1671044400-1671048000@allianceforsafekids.org
SUMMARY:Spotlight on Recovery - Family Support Group
DESCRIPTION:Drug Crisis in Our Backyard is pleased to offer Family Support Groups\, an interactive forum for family support and education. We have recurring meetings where parents and families can obtain information and support in dealing with problems with drug abuse and addiction in their homes. ​ \nWednesday 7-8pm\nLink to join: https://zoom.us/j/8534470100\n*No passcode required.
URL:https://allianceforsafekids.org/calendar/spotlight-on-recovery-family-support-group-52/
END:VEVENT
BEGIN:VEVENT
DTSTART;TZID=America/New_York:20221215T120000
DTEND;TZID=America/New_York:20221215T130000
DTSTAMP:20260423T195106
CREATED:20221123T151324Z
LAST-MODIFIED:20221123T151324Z
UID:11840-1671105600-1671109200@allianceforsafekids.org
SUMMARY:Creating a Low-Stress Environment and Minimizing Crises
DESCRIPTION:Families are susceptible to strain from a number of sources including work and school obligations\, illness\, finances\, interpersonal conflict\, and more. Learn strategies to create and maintain a low-stress environment\, identify & respond to ‘red flags’\, and communicate in times of crisis with a licensed therapist. \nRegister for FREE here.
URL:https://allianceforsafekids.org/calendar/creating-a-low-stress-environment-and-minimizing-crises-2/
END:VEVENT
BEGIN:VEVENT
DTSTART;TZID=America/New_York:20221215T183000
DTEND;TZID=America/New_York:20221215T200000
DTSTAMP:20260423T195106
CREATED:20221123T144026Z
LAST-MODIFIED:20221123T144026Z
UID:11832-1671129000-1671134400@allianceforsafekids.org
SUMMARY:Virtual Overdose Prevention Training
DESCRIPTION:Naloxone is a prescription medicine that reverses an overdose by blocking heroin or other opioids in the nervous system for 30-90 minutes. Naloxone is administered by injection or intranasal. Following training\, participants receive a kit by mail. Presented by our partners at Drug Crisis in Our Backyard. \nRegister by email: ssal@drugcrisisinourbackyard.com
URL:https://allianceforsafekids.org/calendar/virtual-overdose-prevention-training-11/
ATTACH;FMTTYPE=image/jpeg:https://allianceforsafekids.org/wp-content/uploads/2022/09/Max_Naloxone-trng_ASK_Town-Calendar-.jpg
END:VEVENT
BEGIN:VEVENT
DTSTART;TZID=America/New_York:20221216T093000
DTEND;TZID=America/New_York:20221216T103000
DTSTAMP:20260423T195106
CREATED:20221123T153850Z
LAST-MODIFIED:20221123T154159Z
UID:11855-1671183000-1671186600@allianceforsafekids.org
SUMMARY:Westchester Breathes
DESCRIPTION:Register below for this FREE 50 minute weekly program. As confirmation of your registration\, a meeting link will be sent to the email you provide below.  You can use the same link for each session. \nRegister for FREE here. 
URL:https://allianceforsafekids.org/calendar/11855/
END:VEVENT
BEGIN:VEVENT
DTSTART;TZID=America/New_York:20221219T120000
DTEND;TZID=America/New_York:20221219T130000
DTSTAMP:20260423T195106
CREATED:20221123T151518Z
LAST-MODIFIED:20221123T151518Z
UID:11842-1671451200-1671454800@allianceforsafekids.org
SUMMARY:The Power of Play
DESCRIPTION:Play is so important to child development that it has been recognized as a “right” by the United Nations High Commission for Human Rights. Learn how play impacts mental health\, learning\, and social-emotional connections from childhood through adolescence and how to engage & communicate with children in play in this one-hour webinar with a licensed therapist. We’ll also explore how play can strengthen positive connections in families and what you can do to promote the power of play in your home & community. \nRegister for FREE here. 
URL:https://allianceforsafekids.org/calendar/the-power-of-play/
END:VEVENT
BEGIN:VEVENT
DTSTART;TZID=America/New_York:20221220T183000
DTEND;TZID=America/New_York:20221220T200000
DTSTAMP:20260423T195106
CREATED:20221123T143733Z
LAST-MODIFIED:20221123T143733Z
UID:11826-1671561000-1671566400@allianceforsafekids.org
SUMMARY:Spotlight on Recovery - Family Support Group
DESCRIPTION:Drug Crisis in Our Backyard is pleased to offer Family Support Groups\, an interactive forum for family support and education. We have recurring meetings where parents and families can obtain information and support in dealing with problems with drug abuse and addiction in their homes. ​ \nTuesday 6:30-8:00pm\nLink to join: https://zoom.us/j/2241277364\n​Passcode:  456745!
URL:https://allianceforsafekids.org/calendar/spotlight-on-recovery-family-support-group-57/
END:VEVENT
BEGIN:VEVENT
DTSTART;TZID=America/New_York:20221220T183000
DTEND;TZID=America/New_York:20221220T200000
DTSTAMP:20260423T195106
CREATED:20221123T143818Z
LAST-MODIFIED:20221123T143818Z
UID:11828-1671561000-1671566400@allianceforsafekids.org
SUMMARY:Spotlight on Recovery - Family Support Group
DESCRIPTION:Drug Crisis in Our Backyard is pleased to offer Family Support Groups\, an interactive forum for family support and education. We have recurring meetings where parents and families can obtain information and support in dealing with problems with drug abuse and addiction in their homes. ​ \nTuesday 6:30-8:00pm\nLink to join: https://zoom.us/j/2241277364\n​Passcode:  456745!
URL:https://allianceforsafekids.org/calendar/spotlight-on-recovery-family-support-group-58/
END:VEVENT
BEGIN:VEVENT
DTSTART;TZID=America/New_York:20221221T190000
DTEND;TZID=America/New_York:20221221T200000
DTSTAMP:20260423T195106
CREATED:20221123T143236Z
LAST-MODIFIED:20221123T143236Z
UID:11818-1671649200-1671652800@allianceforsafekids.org
SUMMARY:Spotlight on Recovery - Family Support Group
DESCRIPTION:Drug Crisis in Our Backyard is pleased to offer Family Support Groups\, an interactive forum for family support and education. We have recurring meetings where parents and families can obtain information and support in dealing with problems with drug abuse and addiction in their homes. ​ \nWednesday 7-8pm\nLink to join: https://zoom.us/j/8534470100\n*No passcode required.
URL:https://allianceforsafekids.org/calendar/spotlight-on-recovery-family-support-group-53/
END:VEVENT
BEGIN:VEVENT
DTSTART;TZID=America/New_York:20221222T120000
DTEND;TZID=America/New_York:20221222T130000
DTSTAMP:20260423T195106
CREATED:20221123T151647Z
LAST-MODIFIED:20221123T151647Z
UID:11844-1671710400-1671714000@allianceforsafekids.org
SUMMARY:Family Reactions to Mental Illness
DESCRIPTION:Understanding why people experience things differently can help to ease tension & increase acceptance. Discuss the caregiving experience\, the stages of emotional response\, and learn how to respond and cope in this one-hour seminar with a licensed therapist. \nRegister for FREE here. \n 
URL:https://allianceforsafekids.org/calendar/family-reactions-to-mental-illness/
END:VEVENT
BEGIN:VEVENT
DTSTART;TZID=America/New_York:20221223T093000
DTEND;TZID=America/New_York:20221223T103000
DTSTAMP:20260423T195106
CREATED:20221123T153946Z
LAST-MODIFIED:20221123T153946Z
UID:11857-1671787800-1671791400@allianceforsafekids.org
SUMMARY:Westchester Breathes
DESCRIPTION:Register below for this FREE 50 minute weekly program. As confirmation of your registration\, a meeting link will be sent to the email you provide below.  You can use the same link for each session. \nRegister for FREE here. 
URL:https://allianceforsafekids.org/calendar/westchester-breathes-6/
END:VEVENT
BEGIN:VEVENT
DTSTART;TZID=America/New_York:20221227T120000
DTEND;TZID=America/New_York:20221227T130000
DTSTAMP:20260423T195106
CREATED:20221123T151840Z
LAST-MODIFIED:20221123T152504Z
UID:11846-1672142400-1672146000@allianceforsafekids.org
SUMMARY:How Does Therapy Work?
DESCRIPTION:For many of us\, what happens in psychotherapy is a mystery. Discuss the reasons why people go to therapy\, how to choose a therapist\, what the therapy process truly looks like\, and how it works in this one-hour seminar. \nRegister for FREE here.
URL:https://allianceforsafekids.org/calendar/how-does-therapy-work/
END:VEVENT
BEGIN:VEVENT
DTSTART;TZID=America/New_York:20221227T183000
DTEND;TZID=America/New_York:20221227T200000
DTSTAMP:20260423T195106
CREATED:20221123T143853Z
LAST-MODIFIED:20221123T143853Z
UID:11830-1672165800-1672171200@allianceforsafekids.org
SUMMARY:Spotlight on Recovery - Family Support Group
DESCRIPTION:Drug Crisis in Our Backyard is pleased to offer Family Support Groups\, an interactive forum for family support and education. We have recurring meetings where parents and families can obtain information and support in dealing with problems with drug abuse and addiction in their homes. ​ \nTuesday 6:30-8:00pm\nLink to join: https://zoom.us/j/2241277364\n​Passcode:  456745!
URL:https://allianceforsafekids.org/calendar/spotlight-on-recovery-family-support-group-59/
END:VEVENT
BEGIN:VEVENT
DTSTART;TZID=America/New_York:20221228T190000
DTEND;TZID=America/New_York:20221228T200000
DTSTAMP:20260423T195106
CREATED:20221123T143419Z
LAST-MODIFIED:20221123T143419Z
UID:11820-1672254000-1672257600@allianceforsafekids.org
SUMMARY:Spotlight on Recovery - Family Support Group
DESCRIPTION:Drug Crisis in Our Backyard is pleased to offer Family Support Groups\, an interactive forum for family support and education. We have recurring meetings where parents and families can obtain information and support in dealing with problems with drug abuse and addiction in their homes. ​ \nWednesday 7-8pm\nLink to join: https://zoom.us/j/8534470100\n*No passcode required
URL:https://allianceforsafekids.org/calendar/spotlight-on-recovery-family-support-group-54/
END:VEVENT
BEGIN:VEVENT
DTSTART;TZID=America/New_York:20221230T093000
DTEND;TZID=America/New_York:20221230T103000
DTSTAMP:20260423T195106
CREATED:20221123T154040Z
LAST-MODIFIED:20221123T154040Z
UID:11859-1672392600-1672396200@allianceforsafekids.org
SUMMARY:Westchester Breathes
DESCRIPTION:Register below for this FREE 50 minute weekly program. As confirmation of your registration\, a meeting link will be sent to the email you provide below.  You can use the same link for each session. \nRegister for FREE here. 
URL:https://allianceforsafekids.org/calendar/westchester-breathes-7/
END:VEVENT
BEGIN:VEVENT
DTSTART;TZID=America/New_York:20230103T183000
DTEND;TZID=America/New_York:20230103T200000
DTSTAMP:20260423T195106
CREATED:20230103T135234Z
LAST-MODIFIED:20230103T135234Z
UID:11900-1672770600-1672776000@allianceforsafekids.org
SUMMARY:Spotlight on Recovery - Family Support Group
DESCRIPTION:Drug Crisis in Our Backyard is pleased to offer Family Support Groups\, an interactive forum for family support and education. We have recurring meetings where parents and families can obtain information and support in dealing with problems with drug abuse and addiction in their homes. ​ \nTuesday 6:30-8:00pm\nLink to join: https://zoom.us/j/2241277364\n​Passcode:  456745!
URL:https://allianceforsafekids.org/calendar/spotlight-on-recovery-family-support-group-60/
END:VEVENT
BEGIN:VEVENT
DTSTART;TZID=America/New_York:20230104T120000
DTEND;TZID=America/New_York:20230104T130000
DTSTAMP:20260423T195106
CREATED:20230103T133410Z
LAST-MODIFIED:20230103T133410Z
UID:11880-1672833600-1672837200@allianceforsafekids.org
SUMMARY:Setting Healthy Boundaries in Relationships
DESCRIPTION:Maintaining a balance between caring for loved ones and setting healthy boundaries for yourself can be challenging. Learn how to express your own needs without guilt\, strike a healthy balance between caregiving and self-care\, and tips for negotiating compromises with a licensed therapist. \nFine print: Certificates of attendance are provided at no cost. CEUs are not provided. Everyone who registers will receive the webinar recording & resource info 24 hours after the live event. \nAbout the instructor: Jaymi Dormaier is a Licensed Master Social Worker with ten years of experience in the mental health field. In Jaymi’s career as a social worker and therapist she has worked with diverse populations focusing on anxiety\, depression\, grief\, trauma\, foster care\, adoption\, homelessness\, and addiction. She is passionate about helping others live a life they love. \nRegister for FREE here
URL:https://allianceforsafekids.org/calendar/setting-healthy-boundaries-in-relationships-3/
END:VEVENT
BEGIN:VEVENT
DTSTART;TZID=America/New_York:20230104T190000
DTEND;TZID=America/New_York:20230104T200000
DTSTAMP:20260423T195106
CREATED:20230103T135750Z
LAST-MODIFIED:20230103T135750Z
UID:11910-1672858800-1672862400@allianceforsafekids.org
SUMMARY:Spotlight on Recovery - Family Support Group
DESCRIPTION:Drug Crisis in Our Backyard is pleased to offer Family Support Groups\, an interactive forum for family support and education. We have recurring meetings where parents and families can obtain information and support in dealing with problems with drug abuse and addiction in their homes. ​ \nWednesday 7-8pm\nLink to join: https://zoom.us/j/8534470100\n*No passcode required
URL:https://allianceforsafekids.org/calendar/spotlight-on-recovery-family-support-group-65/
END:VEVENT
BEGIN:VEVENT
DTSTART;TZID=America/New_York:20230106T093000
DTEND;TZID=America/New_York:20230106T103000
DTSTAMP:20260423T195106
CREATED:20230103T134853Z
LAST-MODIFIED:20230103T134853Z
UID:11893-1672997400-1673001000@allianceforsafekids.org
SUMMARY:Westchester Breathes
DESCRIPTION:Register below for this FREE 50 minute weekly program. As confirmation of your registration\, a meeting link will be sent to the email you provide below.  You can use the same link for each session \nRegister for FREE here
URL:https://allianceforsafekids.org/calendar/westchester-breathes-8/
ATTACH;FMTTYPE=image/jpeg:https://allianceforsafekids.org/wp-content/uploads/2023/01/2022-BBM-October-January-scaled-1.jpg
END:VEVENT
BEGIN:VEVENT
DTSTART;TZID=America/New_York:20230110T183000
DTEND;TZID=America/New_York:20230110T200000
DTSTAMP:20260423T195106
CREATED:20230103T135428Z
LAST-MODIFIED:20230103T135428Z
UID:11902-1673375400-1673380800@allianceforsafekids.org
SUMMARY:Spotlight on Recovery - Family Support Group
DESCRIPTION:Drug Crisis in Our Backyard is pleased to offer Family Support Groups\, an interactive forum for family support and education. We have recurring meetings where parents and families can obtain information and support in dealing with problems with drug abuse and addiction in their homes. ​ \nTuesday 6:30-8:00pm\nLink to join: https://zoom.us/j/2241277364\n​Passcode:  456745!
URL:https://allianceforsafekids.org/calendar/spotlight-on-recovery-family-support-group-61/
END:VEVENT
BEGIN:VEVENT
DTSTART;TZID=America/New_York:20230111T120000
DTEND;TZID=America/New_York:20230111T130000
DTSTAMP:20260423T195106
CREATED:20230103T133542Z
LAST-MODIFIED:20230103T133542Z
UID:11882-1673438400-1673442000@allianceforsafekids.org
SUMMARY:Understanding Anxiety
DESCRIPTION:Occasional anxiety is an expected part of life. But anxiety disorders involve more than temporary worry. An accessible guide to understanding what causes anxiety disorders and the types of anxiety\, their symptoms\, common misconceptions\, and how relationships are impacted. Discuss co-occurring disorders\, treatment options\, and learn practical tips for managing symptoms and helping others with a licensed therapist. \nFine print: Certificates of attendance are provided at no cost. CEUs are not provided. Everyone who registers will receive the webinar recording & resource info 24 hours after the live event. \nAbout the instructor: Jaymi Dormaier is a Licensed Master Social Worker with ten years of experience in the mental health field. In Jaymi’s career as a social worker and therapist she has worked with diverse populations focusing on anxiety\, depression\, grief\, trauma\, foster care\, adoption\, homelessness\, and addiction. She is passionate about helping others live a life they love. \nRegister for FREE here
URL:https://allianceforsafekids.org/calendar/understanding-anxiety-3/
END:VEVENT
END:VCALENDAR