BEGIN:VCALENDAR
VERSION:2.0
PRODID:-//Alliance For Safe Kids - ECPv6.15.20//NONSGML v1.0//EN
CALSCALE:GREGORIAN
METHOD:PUBLISH
X-WR-CALNAME:Alliance For Safe Kids
X-ORIGINAL-URL:https://allianceforsafekids.org
X-WR-CALDESC:Events for Alliance For Safe Kids
REFRESH-INTERVAL;VALUE=DURATION:PT1H
X-Robots-Tag:noindex
X-PUBLISHED-TTL:PT1H
BEGIN:VTIMEZONE
TZID:America/New_York
BEGIN:DAYLIGHT
TZOFFSETFROM:-0500
TZOFFSETTO:-0400
TZNAME:EDT
DTSTART:20220313T070000
END:DAYLIGHT
BEGIN:STANDARD
TZOFFSETFROM:-0400
TZOFFSETTO:-0500
TZNAME:EST
DTSTART:20221106T060000
END:STANDARD
BEGIN:DAYLIGHT
TZOFFSETFROM:-0500
TZOFFSETTO:-0400
TZNAME:EDT
DTSTART:20230312T070000
END:DAYLIGHT
BEGIN:STANDARD
TZOFFSETFROM:-0400
TZOFFSETTO:-0500
TZNAME:EST
DTSTART:20231105T060000
END:STANDARD
BEGIN:DAYLIGHT
TZOFFSETFROM:-0500
TZOFFSETTO:-0400
TZNAME:EDT
DTSTART:20240310T070000
END:DAYLIGHT
BEGIN:STANDARD
TZOFFSETFROM:-0400
TZOFFSETTO:-0500
TZNAME:EST
DTSTART:20241103T060000
END:STANDARD
END:VTIMEZONE
BEGIN:VEVENT
DTSTART;TZID=America/New_York:20230110T183000
DTEND;TZID=America/New_York:20230110T200000
DTSTAMP:20260423T195110
CREATED:20230103T135428Z
LAST-MODIFIED:20230103T135428Z
UID:11902-1673375400-1673380800@allianceforsafekids.org
SUMMARY:Spotlight on Recovery - Family Support Group
DESCRIPTION:Drug Crisis in Our Backyard is pleased to offer Family Support Groups\, an interactive forum for family support and education. We have recurring meetings where parents and families can obtain information and support in dealing with problems with drug abuse and addiction in their homes. ​ \nTuesday 6:30-8:00pm\nLink to join: https://zoom.us/j/2241277364\n​Passcode:  456745!
URL:https://allianceforsafekids.org/calendar/spotlight-on-recovery-family-support-group-61/
END:VEVENT
BEGIN:VEVENT
DTSTART;TZID=America/New_York:20230111T120000
DTEND;TZID=America/New_York:20230111T130000
DTSTAMP:20260423T195110
CREATED:20230103T133542Z
LAST-MODIFIED:20230103T133542Z
UID:11882-1673438400-1673442000@allianceforsafekids.org
SUMMARY:Understanding Anxiety
DESCRIPTION:Occasional anxiety is an expected part of life. But anxiety disorders involve more than temporary worry. An accessible guide to understanding what causes anxiety disorders and the types of anxiety\, their symptoms\, common misconceptions\, and how relationships are impacted. Discuss co-occurring disorders\, treatment options\, and learn practical tips for managing symptoms and helping others with a licensed therapist. \nFine print: Certificates of attendance are provided at no cost. CEUs are not provided. Everyone who registers will receive the webinar recording & resource info 24 hours after the live event. \nAbout the instructor: Jaymi Dormaier is a Licensed Master Social Worker with ten years of experience in the mental health field. In Jaymi’s career as a social worker and therapist she has worked with diverse populations focusing on anxiety\, depression\, grief\, trauma\, foster care\, adoption\, homelessness\, and addiction. She is passionate about helping others live a life they love. \nRegister for FREE here
URL:https://allianceforsafekids.org/calendar/understanding-anxiety-3/
END:VEVENT
BEGIN:VEVENT
DTSTART;TZID=America/New_York:20230111T190000
DTEND;TZID=America/New_York:20230111T200000
DTSTAMP:20260423T195110
CREATED:20230103T135838Z
LAST-MODIFIED:20230103T135838Z
UID:11912-1673463600-1673467200@allianceforsafekids.org
SUMMARY:Spotlight on Recovery - Family Support Group
DESCRIPTION:Drug Crisis in Our Backyard is pleased to offer Family Support Groups\, an interactive forum for family support and education. We have recurring meetings where parents and families can obtain information and support in dealing with problems with drug abuse and addiction in their homes. ​ \nWednesday 7-8pm\nLink to join: https://zoom.us/j/8534470100\n*No passcode required
URL:https://allianceforsafekids.org/calendar/spotlight-on-recovery-family-support-group-66/
END:VEVENT
BEGIN:VEVENT
DTSTART;TZID=America/New_York:20230113T093000
DTEND;TZID=America/New_York:20230113T103000
DTSTAMP:20260423T195110
CREATED:20230103T134943Z
LAST-MODIFIED:20230103T134943Z
UID:11896-1673602200-1673605800@allianceforsafekids.org
SUMMARY:Westchester Breathes
DESCRIPTION:Register below for this FREE 50 minute weekly program. As confirmation of your registration\, a meeting link will be sent to the email you provide below.  You can use the same link for each session \nRegister for FREE here
URL:https://allianceforsafekids.org/calendar/westchester-breathes-9/
ATTACH;FMTTYPE=image/jpeg:https://allianceforsafekids.org/wp-content/uploads/2023/01/2022-BBM-October-January-scaled-1.jpg
END:VEVENT
BEGIN:VEVENT
DTSTART;TZID=America/New_York:20230117T183000
DTEND;TZID=America/New_York:20230117T200000
DTSTAMP:20260423T195110
CREATED:20230103T135501Z
LAST-MODIFIED:20230103T135501Z
UID:11904-1673980200-1673985600@allianceforsafekids.org
SUMMARY:Spotlight on Recovery - Family Support Group
DESCRIPTION:Drug Crisis in Our Backyard is pleased to offer Family Support Groups\, an interactive forum for family support and education. We have recurring meetings where parents and families can obtain information and support in dealing with problems with drug abuse and addiction in their homes. ​ \nTuesday 6:30-8:00pm\nLink to join: https://zoom.us/j/2241277364\n​Passcode:  456745!
URL:https://allianceforsafekids.org/calendar/spotlight-on-recovery-family-support-group-62/
END:VEVENT
BEGIN:VEVENT
DTSTART;TZID=America/New_York:20230118T190000
DTEND;TZID=America/New_York:20230118T200000
DTSTAMP:20260423T195110
CREATED:20230103T135924Z
LAST-MODIFIED:20230103T135924Z
UID:11914-1674068400-1674072000@allianceforsafekids.org
SUMMARY:Spotlight on Recovery - Family Support Group
DESCRIPTION:Drug Crisis in Our Backyard is pleased to offer Family Support Groups\, an interactive forum for family support and education. We have recurring meetings where parents and families can obtain information and support in dealing with problems with drug abuse and addiction in their homes. ​ \nWednesday 7-8pm\nLink to join: https://zoom.us/j/8534470100\n*No passcode required
URL:https://allianceforsafekids.org/calendar/spotlight-on-recovery-family-support-group-67/
END:VEVENT
BEGIN:VEVENT
DTSTART;TZID=America/New_York:20230119T120000
DTEND;TZID=America/New_York:20230119T130000
DTSTAMP:20260423T195110
CREATED:20230103T133714Z
LAST-MODIFIED:20230103T133714Z
UID:11884-1674129600-1674133200@allianceforsafekids.org
SUMMARY:Understanding Cutting and Self-Harm
DESCRIPTION:Self-injury is a complex behavior that is difficult to understand if you haven’t experienced it. Explore what self-harm is and is not\, why people purposefully hurt themselves\, and the symptoms to look for. Dispel myths and stereotypes and learn what treatments are most effective with a licensed therapist. \nFine print: Certificates of attendance are provided at no cost. CEUs are not provided. Everyone who registers will receive the webinar recording & resource info 24 hours after the live event. \nAbout the instructor: Jaymi Dormaier is a Licensed Master Social Worker with ten years of experience in the mental health field. In Jaymi’s career as a social worker and therapist she has worked with diverse populations focusing on anxiety\, depression\, grief\, trauma\, foster care\, adoption\, homelessness\, and addiction. She is passionate about helping others live a life they love. \nRegister for FREE here
URL:https://allianceforsafekids.org/calendar/understanding-cutting-and-self-harm/
END:VEVENT
BEGIN:VEVENT
DTSTART;TZID=America/New_York:20230119T183000
DTEND;TZID=America/New_York:20230119T200000
DTSTAMP:20260423T195110
CREATED:20230324T033211Z
LAST-MODIFIED:20230324T033211Z
UID:11997-1674153000-1674158400@allianceforsafekids.org
SUMMARY:Virtual Naloxone Training
DESCRIPTION:Naloxone is a prescription medicine that reverses an overdose by blocking heroin or other opioids in the nervous system for 30-90 minutes. Naloxone is administered by injection or intranasal. Following training\, participants receive a kit by mail. Presented by our partners at Drug Crisis in Our Backyard. \nRegister by email: ssal@drugcrisisinourbackyard.com
URL:https://allianceforsafekids.org/calendar/virtual-naloxone-training-3/
ATTACH;FMTTYPE=image/jpeg:https://allianceforsafekids.org/wp-content/uploads/2022/09/Max_Naloxone-trng_ASK_Town-Calendar-.jpg
END:VEVENT
BEGIN:VEVENT
DTSTART;TZID=America/New_York:20230120T093000
DTEND;TZID=America/New_York:20230120T103000
DTSTAMP:20260423T195110
CREATED:20230103T135025Z
LAST-MODIFIED:20230103T135025Z
UID:11898-1674207000-1674210600@allianceforsafekids.org
SUMMARY:Westchester Breathes
DESCRIPTION:Register below for this FREE 50 minute weekly program. As confirmation of your registration\, a meeting link will be sent to the email you provide below.  You can use the same link for each session \nRegister for FREE here
URL:https://allianceforsafekids.org/calendar/westchester-breathes-10/
ATTACH;FMTTYPE=image/jpeg:https://allianceforsafekids.org/wp-content/uploads/2023/01/2022-BBM-October-January-scaled-1.jpg
END:VEVENT
BEGIN:VEVENT
DTSTART;TZID=America/New_York:20230124T183000
DTEND;TZID=America/New_York:20230124T200000
DTSTAMP:20260423T195110
CREATED:20230103T135540Z
LAST-MODIFIED:20230103T135540Z
UID:11906-1674585000-1674590400@allianceforsafekids.org
SUMMARY:Spotlight on Recovery - Family Support Group
DESCRIPTION:Drug Crisis in Our Backyard is pleased to offer Family Support Groups\, an interactive forum for family support and education. We have recurring meetings where parents and families can obtain information and support in dealing with problems with drug abuse and addiction in their homes. ​ \nTuesday 6:30-8:00pm\nLink to join: https://zoom.us/j/2241277364\n​Passcode:  456745!
URL:https://allianceforsafekids.org/calendar/spotlight-on-recovery-family-support-group-63/
END:VEVENT
BEGIN:VEVENT
DTSTART;TZID=America/New_York:20230125T190000
DTEND;TZID=America/New_York:20230125T200000
DTSTAMP:20260423T195110
CREATED:20230103T140000Z
LAST-MODIFIED:20230103T140000Z
UID:11916-1674673200-1674676800@allianceforsafekids.org
SUMMARY:Spotlight on Recovery - Family Support Group
DESCRIPTION:Drug Crisis in Our Backyard is pleased to offer Family Support Groups\, an interactive forum for family support and education. We have recurring meetings where parents and families can obtain information and support in dealing with problems with drug abuse and addiction in their homes. ​ \nWednesday 7-8pm\nLink to join: https://zoom.us/j/8534470100\n*No passcode required
URL:https://allianceforsafekids.org/calendar/spotlight-on-recovery-family-support-group-68/
END:VEVENT
BEGIN:VEVENT
DTSTART;TZID=America/New_York:20230126T120000
DTEND;TZID=America/New_York:20230126T130000
DTSTAMP:20260423T195110
CREATED:20230103T134020Z
LAST-MODIFIED:20230103T134020Z
UID:11888-1674734400-1674738000@allianceforsafekids.org
SUMMARY:Empowering Loved Ones
DESCRIPTION:Understanding how to effectively support friends and family members with mental health disorders is essential. Discuss the complications of mental illness\, the four dimensions of recovery\, and how to develop a recovery plan with a licensed therapist. \nFine print: Certificates of attendance are provided at no cost. CEUs are not provided. Everyone who registers will receive the webinar recording & resource info 24 hours after the live event.About the instructor: Jaymi Dormaier is a Licensed Master Social Worker with ten years of experience in the mental health field. In Jaymi’s career as a social worker and therapist she has worked with diverse populations focusing on anxiety\, depression\, grief\, trauma\, foster care\, adoption\, homelessness\, and addiction. She is passionate about helping others live a life they love. \nRegister for FREE here
URL:https://allianceforsafekids.org/calendar/empowering-loved-ones-3/
END:VEVENT
BEGIN:VEVENT
DTSTART;TZID=America/New_York:20230126T190000
DTEND;TZID=America/New_York:20230126T203000
DTSTAMP:20260423T195110
CREATED:20230103T133854Z
LAST-MODIFIED:20230103T133854Z
UID:11886-1674759600-1674765000@allianceforsafekids.org
SUMMARY:Youth Marijuana Use: What Do We Know and What Should We Do?
DESCRIPTION:Amid a shifting legal\, policy\, and public opinion landscape\, we are all faced with an array of mixed messages regarding marijuana/cannabis and cannabinoids. This is particularly challenging when navigating approaches to messaging for youth\, who are most vulnerable to adverse outcomes related to marijuana use. Dr. Gray will provide a scientific update on what is known about cannabis and cannabinoids\, ranging from therapeutic applications to risks and harms\, and will specifically focus on the implications of cannabis use during adolescent development. He will distill this information to inform recommendations for messaging\, prevention\, and intervention efforts to address youth marijuana use. \nRegister for FREE here
URL:https://allianceforsafekids.org/calendar/youth-marijuana-use-what-do-we-know-and-what-should-we-do/
END:VEVENT
BEGIN:VEVENT
DTSTART;TZID=America/New_York:20230130T120000
DTEND;TZID=America/New_York:20230130T130000
DTSTAMP:20260423T195110
CREATED:20230103T134203Z
LAST-MODIFIED:20230103T134203Z
UID:11890-1675080000-1675083600@allianceforsafekids.org
SUMMARY:Emotional Regulation in Kids: Providing a Foundation to Manage Big Emotions
DESCRIPTION:Children aren’t born knowing how to manage emotions or express feelings in appropriate ways. And when children don’t understand their emotions\, challenging behavior can arise. This webinar will help you find ways to create healthy connections with kids\, understand how to calm the child’s nervous system\, and teach you skills to practice. \nFine print: Certificates of attendance are provided at no cost. CEUs are not provided. Everyone who registers will receive the webinar recording & resource info 24 hours after the live event. Webinar sponsored by Polk County Iowa’s Behavioral Health & Disability Services agency. \nAbout the instructor: Susan Dannen is a Licensed Independent Social Worker with over 25 years of experience in the mental health field. Susan trained at Jane Addams College of Social Work\, University of Illinois Chicago for her MSW and specializes in child and adult mental health\, anxiety\, depression\, grief\, trauma\, play therapy\, and foster care/adoption. She is passionate about educating and supporting others to find hope and healing. \nSusan has held positions as an in-home therapist\, day treatment therapist\, school-based therapist\, outpatient therapist\, hospital/clinic therapist\, program supervisor\, and director. She has served as a trainer/writer for the Minnesota Child Welfare Training System\, and as an Adjunct Professor at Adler Graduate School. \nRegister for FREE here 
URL:https://allianceforsafekids.org/calendar/emotional-regulation-in-kids-providing-a-foundation-to-manage-big-emotions/
END:VEVENT
BEGIN:VEVENT
DTSTART;TZID=America/New_York:20230131T183000
DTEND;TZID=America/New_York:20230131T200000
DTSTAMP:20260423T195110
CREATED:20230103T135616Z
LAST-MODIFIED:20230103T135616Z
UID:11908-1675189800-1675195200@allianceforsafekids.org
SUMMARY:Spotlight on Recovery - Family Support Group
DESCRIPTION:Drug Crisis in Our Backyard is pleased to offer Family Support Groups\, an interactive forum for family support and education. We have recurring meetings where parents and families can obtain information and support in dealing with problems with drug abuse and addiction in their homes. ​ \nTuesday 6:30-8:00pm\nLink to join: https://zoom.us/j/2241277364\n​Passcode:  456745!
URL:https://allianceforsafekids.org/calendar/spotlight-on-recovery-family-support-group-64/
END:VEVENT
BEGIN:VEVENT
DTSTART;TZID=America/New_York:20230201T190000
DTEND;TZID=America/New_York:20230201T200000
DTSTAMP:20260423T195110
CREATED:20230324T025955Z
LAST-MODIFIED:20230324T032429Z
UID:11967-1675278000-1675281600@allianceforsafekids.org
SUMMARY:Spotlight on Recovery - Family Support Group - Wednesday
DESCRIPTION:Drug Crisis in Our Backyard is pleased to offer Family Support Groups\, an interactive forum for family support and education. We have recurring meetings where parents and families can obtain information and support in dealing with problems with drug abuse and addiction in their homes. ​ \nWednesday 7-8pm\nLink to join: https://zoom.us/j/8534470100\n*No passcode required
URL:https://allianceforsafekids.org/calendar/spotlight-on-recovery-family-support-group-81/
END:VEVENT
BEGIN:VEVENT
DTSTART;TZID=America/New_York:20230207T183000
DTEND;TZID=America/New_York:20230207T200000
DTSTAMP:20260423T195110
CREATED:20230324T033010Z
LAST-MODIFIED:20230324T033010Z
UID:11989-1675794600-1675800000@allianceforsafekids.org
SUMMARY:Spotlight on Recovery - Family Support Group - Tuesday
DESCRIPTION:Drug Crisis in Our Backyard is pleased to offer Family Support Groups\, an interactive forum for family support and education. We have recurring meetings where parents and families can obtain information and support in dealing with problems with drug abuse and addiction in their homes. ​ \nTuesday 6:30-8:00pm\nLink to join: https://zoom.us/j/2241277364\n​Passcode:  456745!
URL:https://allianceforsafekids.org/calendar/spotlight-on-recovery-family-support-group-tuesday/
END:VEVENT
BEGIN:VEVENT
DTSTART;TZID=America/New_York:20230207T190000
DTEND;TZID=America/New_York:20230207T200000
DTSTAMP:20260423T195110
CREATED:20230324T033428Z
LAST-MODIFIED:20230324T033428Z
UID:11999-1675796400-1675800000@allianceforsafekids.org
SUMMARY:Opioid Prevention in the Home and in the Community
DESCRIPTION:Captain Michael King from the Substance Abuse and Mental Health Services Administration (SAMHSA) will be highlighting what he has seen in the field regarding opioid addiction as well as sharing examples for what communities can do for opioid addiction prevention and recovery. He will also share resources that can be utilized by parents\, schools\, and communities. Register now.
URL:https://allianceforsafekids.org/calendar/opioid-prevention-in-the-home-and-in-the-community/
END:VEVENT
BEGIN:VEVENT
DTSTART;TZID=America/New_York:20230208T120000
DTEND;TZID=America/New_York:20230208T130000
DTSTAMP:20260423T195110
CREATED:20230324T033533Z
LAST-MODIFIED:20230324T033533Z
UID:12001-1675857600-1675861200@allianceforsafekids.org
SUMMARY:I Don't Need Help
DESCRIPTION:Why do people sometimes reject help? Discuss the reasons why people refuse mental health care and how to respond & cope in this one-hour seminar with a licensed therapist. \nRegister now. \n 
URL:https://allianceforsafekids.org/calendar/i-dont-need-help/
END:VEVENT
BEGIN:VEVENT
DTSTART;TZID=America/New_York:20230208T190000
DTEND;TZID=America/New_York:20230208T200000
DTSTAMP:20260423T195110
CREATED:20230213T204838Z
LAST-MODIFIED:20230213T205726Z
UID:11929-1675882800-1675886400@allianceforsafekids.org
SUMMARY:Spotlight on Recovery - Family Support Group
DESCRIPTION:Drug Crisis in Our Backyard is pleased to offer Family Support Groups\, an interactive forum for family support and education. We have recurring meetings where parents and families can obtain information and support in dealing with problems with drug abuse and addiction in their homes. ​ \nWednesday 7-8pm\nLink to join: https://zoom.us/j/8534470100\n*No passcode required
URL:https://allianceforsafekids.org/calendar/spotlight-on-recovery-family-support-group-69/
END:VEVENT
BEGIN:VEVENT
DTSTART;TZID=America/New_York:20230209T120000
DTEND;TZID=America/New_York:20230209T130000
DTSTAMP:20260423T195110
CREATED:20230324T033729Z
LAST-MODIFIED:20230324T033729Z
UID:12003-1675944000-1675947600@allianceforsafekids.org
SUMMARY:Responding in a Mental Health Emergency
DESCRIPTION:We know what to do when someone breaks their arm: brace it and go to the hospital. But what should you do when someone is experiencing a mental health emergency? Learn what causes crisis situations and the warning signs\, how to respond\, and what to do once the crisis has ended. Register now.
URL:https://allianceforsafekids.org/calendar/responding-in-a-mental-health-emergency/
END:VEVENT
BEGIN:VEVENT
DTSTART;TZID=America/New_York:20230213T180000
DTEND;TZID=America/New_York:20230213T190000
DTSTAMP:20260423T195110
CREATED:20230324T033846Z
LAST-MODIFIED:20230324T033846Z
UID:12005-1676311200-1676314800@allianceforsafekids.org
SUMMARY:Supporting Emotional Regulation in Kids
DESCRIPTION:Despite our best efforts to prepare children to manage big storms of emotions\, they will struggle sometimes. Managing emotional storms takes emotional & physical maturity\, and practice. In this webinar we’ll look at the warning signs that indicate an emotional storm is on the horizon\, interventions to support children when they feel an emotional storm brewing\, and how to reduce the impact of the storm. \nRegister now.
URL:https://allianceforsafekids.org/calendar/supporting-emotional-regulation-in-kids/
END:VEVENT
BEGIN:VEVENT
DTSTART;TZID=America/New_York:20230214T183000
DTEND;TZID=America/New_York:20230214T200000
DTSTAMP:20260423T195110
CREATED:20230213T204938Z
LAST-MODIFIED:20230213T204938Z
UID:11931-1676399400-1676404800@allianceforsafekids.org
SUMMARY:Spotlight on Recovery - Family Support Group
DESCRIPTION:Drug Crisis in Our Backyard is pleased to offer Family Support Groups\, an interactive forum for family support and education. We have recurring meetings where parents and families can obtain information and support in dealing with problems with drug abuse and addiction in their homes. ​ \nTuesday 6:30-8:00pm\nLink to join: https://zoom.us/j/2241277364\n​Passcode:  456745!
URL:https://allianceforsafekids.org/calendar/spotlight-on-recovery-family-support-group-70/
END:VEVENT
BEGIN:VEVENT
DTSTART;TZID=America/New_York:20230215T190000
DTEND;TZID=America/New_York:20230215T200000
DTSTAMP:20260423T195110
CREATED:20230324T032632Z
LAST-MODIFIED:20230324T032632Z
UID:11992-1676487600-1676491200@allianceforsafekids.org
SUMMARY:Spotlight on Recovery - Family Support Group - Wednesday
DESCRIPTION:Drug Crisis in Our Backyard is pleased to offer Family Support Groups\, an interactive forum for family support and education. We have recurring meetings where parents and families can obtain information and support in dealing with problems with drug abuse and addiction in their homes. ​ \nWednesday 7-8pm\nLink to join: https://zoom.us/j/8534470100\n*No passcode required
URL:https://allianceforsafekids.org/calendar/spotlight-on-recovery-family-support-group-wednesday-2/
END:VEVENT
BEGIN:VEVENT
DTSTART;TZID=America/New_York:20230216T183000
DTEND;TZID=America/New_York:20230216T200000
DTSTAMP:20260423T195110
CREATED:20230324T031919Z
LAST-MODIFIED:20230324T031919Z
UID:11983-1676572200-1676577600@allianceforsafekids.org
SUMMARY:Virtual Naloxone Training
DESCRIPTION:Naloxone is a prescription medicine that reverses an overdose by blocking heroin or other opioids in the nervous system for 30-90 minutes. Naloxone is administered by injection or intranasal. Following training\, participants receive a kit by mail. Presented by our partners at Drug Crisis in Our Backyard. \nRegister by email: ssal@drugcrisisinourbackyard.com
URL:https://allianceforsafekids.org/calendar/virtual-naloxone-training-2/
ATTACH;FMTTYPE=image/jpeg:https://allianceforsafekids.org/wp-content/uploads/2022/09/Max_Naloxone-trng_ASK_Town-Calendar-.jpg
END:VEVENT
BEGIN:VEVENT
DTSTART;TZID=America/New_York:20230221T120000
DTEND;TZID=America/New_York:20230221T130000
DTSTAMP:20260423T195110
CREATED:20230324T033944Z
LAST-MODIFIED:20230324T033944Z
UID:12007-1676980800-1676984400@allianceforsafekids.org
SUMMARY:Understanding Eating Disorders
DESCRIPTION:Although our culture is preoccupied with food and weight\, and disordered patterns of eating are very common\, clinical diagnosis is less common. Register now.
URL:https://allianceforsafekids.org/calendar/understanding-eating-disorders-3/
END:VEVENT
BEGIN:VEVENT
DTSTART;TZID=America/New_York:20230221T183000
DTEND;TZID=America/New_York:20230221T200000
DTSTAMP:20260423T195110
CREATED:20230213T205022Z
LAST-MODIFIED:20230213T205022Z
UID:11933-1677004200-1677009600@allianceforsafekids.org
SUMMARY:Spotlight on Recovery - Family Support Group
DESCRIPTION:Drug Crisis in Our Backyard is pleased to offer Family Support Groups\, an interactive forum for family support and education. We have recurring meetings where parents and families can obtain information and support in dealing with problems with drug abuse and addiction in their homes. ​ \nTuesday 6:30-8:00pm\nLink to join: https://zoom.us/j/2241277364\n​Passcode:  456745!
URL:https://allianceforsafekids.org/calendar/spotlight-on-recovery-family-support-group-71/
END:VEVENT
BEGIN:VEVENT
DTSTART;TZID=America/New_York:20230222T190000
DTEND;TZID=America/New_York:20230222T200000
DTSTAMP:20260423T195110
CREATED:20230324T032724Z
LAST-MODIFIED:20230324T032724Z
UID:11994-1677092400-1677096000@allianceforsafekids.org
SUMMARY:Spotlight on Recovery - Family Support Group - Wednesday
DESCRIPTION:Drug Crisis in Our Backyard is pleased to offer Family Support Groups\, an interactive forum for family support and education. We have recurring meetings where parents and families can obtain information and support in dealing with problems with drug abuse and addiction in their homes. ​ \nWednesday 7-8pm\nLink to join: https://zoom.us/j/8534470100\n*No passcode required
URL:https://allianceforsafekids.org/calendar/spotlight-on-recovery-family-support-group-wednesday-3/
END:VEVENT
BEGIN:VEVENT
DTSTART;TZID=America/New_York:20230228T183000
DTEND;TZID=America/New_York:20230228T200000
DTSTAMP:20260423T195110
CREATED:20230213T205114Z
LAST-MODIFIED:20230213T205114Z
UID:11935-1677609000-1677614400@allianceforsafekids.org
SUMMARY:Spotlight on Recovery - Family Support Group
DESCRIPTION:Drug Crisis in Our Backyard is pleased to offer Family Support Groups\, an interactive forum for family support and education. We have recurring meetings where parents and families can obtain information and support in dealing with problems with drug abuse and addiction in their homes. ​ \nTuesday 6:30-8:00pm\nLink to join: https://zoom.us/j/2241277364\n​Passcode:  456745!
URL:https://allianceforsafekids.org/calendar/spotlight-on-recovery-family-support-group-72/
END:VEVENT
BEGIN:VEVENT
DTSTART;TZID=America/New_York:20230301T120000
DTEND;TZID=America/New_York:20230301T130000
DTSTAMP:20260423T195110
CREATED:20230324T034041Z
LAST-MODIFIED:20230324T034041Z
UID:12009-1677672000-1677675600@allianceforsafekids.org
SUMMARY:Stress: Signs\, symptoms\, management and prevention
DESCRIPTION:The term ‘stress’ is used loosely in our culture. What does it really mean and how vulnerable are you? Understand the biology of stress and explore realistic and practical ways to manage distress. \nRegister now.
URL:https://allianceforsafekids.org/calendar/stress-signs-symptoms-management-and-prevention-3/
END:VEVENT
END:VCALENDAR