BEGIN:VCALENDAR
VERSION:2.0
PRODID:-//Alliance For Safe Kids - ECPv6.15.20//NONSGML v1.0//EN
CALSCALE:GREGORIAN
METHOD:PUBLISH
X-WR-CALNAME:Alliance For Safe Kids
X-ORIGINAL-URL:https://allianceforsafekids.org
X-WR-CALDESC:Events for Alliance For Safe Kids
REFRESH-INTERVAL;VALUE=DURATION:PT1H
X-Robots-Tag:noindex
X-PUBLISHED-TTL:PT1H
BEGIN:VTIMEZONE
TZID:America/New_York
BEGIN:DAYLIGHT
TZOFFSETFROM:-0500
TZOFFSETTO:-0400
TZNAME:EDT
DTSTART:20230312T070000
END:DAYLIGHT
BEGIN:STANDARD
TZOFFSETFROM:-0400
TZOFFSETTO:-0500
TZNAME:EST
DTSTART:20231105T060000
END:STANDARD
BEGIN:DAYLIGHT
TZOFFSETFROM:-0500
TZOFFSETTO:-0400
TZNAME:EDT
DTSTART:20240310T070000
END:DAYLIGHT
BEGIN:STANDARD
TZOFFSETFROM:-0400
TZOFFSETTO:-0500
TZNAME:EST
DTSTART:20241103T060000
END:STANDARD
BEGIN:DAYLIGHT
TZOFFSETFROM:-0500
TZOFFSETTO:-0400
TZNAME:EDT
DTSTART:20250309T070000
END:DAYLIGHT
BEGIN:STANDARD
TZOFFSETFROM:-0400
TZOFFSETTO:-0500
TZNAME:EST
DTSTART:20251102T060000
END:STANDARD
END:VTIMEZONE
BEGIN:VEVENT
DTSTART;TZID=America/New_York:20241001T183000
DTEND;TZID=America/New_York:20241001T200000
DTSTAMP:20260423T195111
CREATED:20240829T102357Z
LAST-MODIFIED:20240829T102357Z
UID:12449-1727807400-1727812800@allianceforsafekids.org
SUMMARY:Family Support Group
DESCRIPTION:Drug Crisis in Our Backyard is pleased to offer Family Support Groups\, an interactive forum for family support and education. We have recurring meetings where parents and families can obtain information and support in dealing with problems with drug abuse and addiction in their homes. ​ \nTuesday 6:30-8:00pm\nLink to join: https://zoom.us/j/2241277364\n​Passcode:  456745!
URL:https://allianceforsafekids.org/calendar/family-support-group-68/
CATEGORIES:Program
END:VEVENT
BEGIN:VEVENT
DTSTART;TZID=America/New_York:20241002T190000
DTEND;TZID=America/New_York:20241002T200000
DTSTAMP:20260423T195111
CREATED:20240829T102923Z
LAST-MODIFIED:20240829T102923Z
UID:12467-1727895600-1727899200@allianceforsafekids.org
SUMMARY:Family Support Group
DESCRIPTION:Drug Crisis in Our Backyard is pleased to offer Family Support Groups\, an interactive forum for family support and education. We have recurring meetings where parents and families can obtain information and support in dealing with problems with drug abuse and addiction in their homes. ​ \nWednesday 7-8pm\nLink to join: https://zoom.us/j/8534470100\n*No passcode required.
URL:https://allianceforsafekids.org/calendar/family-support-group-77/
CATEGORIES:Program
END:VEVENT
BEGIN:VEVENT
DTSTART;TZID=America/New_York:20241008T183000
DTEND;TZID=America/New_York:20241008T200000
DTSTAMP:20260423T195111
CREATED:20240829T102422Z
LAST-MODIFIED:20240829T102422Z
UID:12451-1728412200-1728417600@allianceforsafekids.org
SUMMARY:Family Support Group
DESCRIPTION:Drug Crisis in Our Backyard is pleased to offer Family Support Groups\, an interactive forum for family support and education. We have recurring meetings where parents and families can obtain information and support in dealing with problems with drug abuse and addiction in their homes. ​ \nTuesday 6:30-8:00pm\nLink to join: https://zoom.us/j/2241277364\n​Passcode:  456745!
URL:https://allianceforsafekids.org/calendar/family-support-group-69/
CATEGORIES:Program
END:VEVENT
BEGIN:VEVENT
DTSTART;TZID=America/New_York:20241009T190000
DTEND;TZID=America/New_York:20241009T200000
DTSTAMP:20260423T195111
CREATED:20240829T102947Z
LAST-MODIFIED:20240829T102947Z
UID:12469-1728500400-1728504000@allianceforsafekids.org
SUMMARY:Family Support Group
DESCRIPTION:Drug Crisis in Our Backyard is pleased to offer Family Support Groups\, an interactive forum for family support and education. We have recurring meetings where parents and families can obtain information and support in dealing with problems with drug abuse and addiction in their homes. ​ \nWednesday 7-8pm\nLink to join: https://zoom.us/j/8534470100\n*No passcode required.
URL:https://allianceforsafekids.org/calendar/family-support-group-78/
CATEGORIES:Program
END:VEVENT
BEGIN:VEVENT
DTSTART;TZID=America/New_York:20241015T183000
DTEND;TZID=America/New_York:20241015T200000
DTSTAMP:20260423T195111
CREATED:20240829T102449Z
LAST-MODIFIED:20240829T102449Z
UID:12453-1729017000-1729022400@allianceforsafekids.org
SUMMARY:Family Support Group
DESCRIPTION:Drug Crisis in Our Backyard is pleased to offer Family Support Groups\, an interactive forum for family support and education. We have recurring meetings where parents and families can obtain information and support in dealing with problems with drug abuse and addiction in their homes. ​ \nTuesday 6:30-8:00pm\nLink to join: https://zoom.us/j/2241277364\n​Passcode:  456745!
URL:https://allianceforsafekids.org/calendar/family-support-group-70/
CATEGORIES:Program
END:VEVENT
BEGIN:VEVENT
DTSTART;TZID=America/New_York:20241016T190000
DTEND;TZID=America/New_York:20241016T200000
DTSTAMP:20260423T195111
CREATED:20240829T103008Z
LAST-MODIFIED:20240829T103008Z
UID:12471-1729105200-1729108800@allianceforsafekids.org
SUMMARY:Family Support Group
DESCRIPTION:Drug Crisis in Our Backyard is pleased to offer Family Support Groups\, an interactive forum for family support and education. We have recurring meetings where parents and families can obtain information and support in dealing with problems with drug abuse and addiction in their homes. ​ \nWednesday 7-8pm\nLink to join: https://zoom.us/j/8534470100\n*No passcode required.
URL:https://allianceforsafekids.org/calendar/family-support-group-79/
CATEGORIES:Program
END:VEVENT
BEGIN:VEVENT
DTSTART;VALUE=DATE:20241017
DTEND;VALUE=DATE:20241018
DTSTAMP:20260423T195111
CREATED:20240829T103439Z
LAST-MODIFIED:20240829T103439Z
UID:12484-1729123200-1729209599@allianceforsafekids.org
SUMMARY:Virtual Naloxone Training
DESCRIPTION:Naloxone is a prescription medicine that reverses an overdose by blocking heroin or other opioids in the nervous system for 30-90 minutes. Naloxone is administered by injection or intranasal. Following training\, participants receive a kit by mail. Presented by our partners at Drug Crisis in Our Backyard. Register by email: ssal@drugcrisisinourbackyard.com
URL:https://allianceforsafekids.org/calendar/virtual-naloxone-training-15/
CATEGORIES:Program
END:VEVENT
BEGIN:VEVENT
DTSTART;TZID=America/New_York:20241022T183000
DTEND;TZID=America/New_York:20241022T200000
DTSTAMP:20260423T195111
CREATED:20240829T102617Z
LAST-MODIFIED:20240829T102617Z
UID:12457-1729621800-1729627200@allianceforsafekids.org
SUMMARY:Family Support Group
DESCRIPTION:Drug Crisis in Our Backyard is pleased to offer Family Support Groups\, an interactive forum for family support and education. We have recurring meetings where parents and families can obtain information and support in dealing with problems with drug abuse and addiction in their homes. ​ \nTuesday 6:30-8:00pm\nLink to join: https://zoom.us/j/2241277364\n​Passcode:  456745!
URL:https://allianceforsafekids.org/calendar/family-support-group-72/
CATEGORIES:Program
END:VEVENT
BEGIN:VEVENT
DTSTART;TZID=America/New_York:20241023T190000
DTEND;TZID=America/New_York:20241023T200000
DTSTAMP:20260423T195111
CREATED:20240829T103031Z
LAST-MODIFIED:20240829T103031Z
UID:12473-1729710000-1729713600@allianceforsafekids.org
SUMMARY:Family Support Group
DESCRIPTION:Drug Crisis in Our Backyard is pleased to offer Family Support Groups\, an interactive forum for family support and education. We have recurring meetings where parents and families can obtain information and support in dealing with problems with drug abuse and addiction in their homes. ​ \nWednesday 7-8pm\nLink to join: https://zoom.us/j/8534470100\n*No passcode required.
URL:https://allianceforsafekids.org/calendar/family-support-group-80/
END:VEVENT
BEGIN:VEVENT
DTSTART;VALUE=DATE:20241028
DTEND;VALUE=DATE:20241029
DTSTAMP:20260423T195111
CREATED:20241029T001701Z
LAST-MODIFIED:20241029T001701Z
UID:12508-1730073600-1730159999@allianceforsafekids.org
SUMMARY:GivingTuesday
DESCRIPTION:ASK provides a safety net that supports a healthy lifestyle for our youth and families. ASK’s mission is to connect the community to important resources that promote Youth Mental Health; Substance Use Prevention\, Treatment and Recovery; and Opportunities for Thoughtful Service.\n\n \n\nAs the fiscal sponsor for Drug Crisis in Our Backyard\, ASK supports their mission to bring awareness of the rampant abuse of prescription and illegal drugs in our community; bring recognition that substance misuse is a chronic disease; and to assist individuals and their families who are struggling with the effects of substance use in a friend or loved one.\n\n \n\nYour donation will not only support the ongoing connections between the community and potentially lifesaving resources\, but will allow for important programs to continue.
URL:https://allianceforsafekids.org/calendar/givingtuesday-3/
END:VEVENT
BEGIN:VEVENT
DTSTART;TZID=America/New_York:20241029T183000
DTEND;TZID=America/New_York:20241029T200000
DTSTAMP:20260423T195111
CREATED:20240829T102524Z
LAST-MODIFIED:20240829T102524Z
UID:12455-1730226600-1730232000@allianceforsafekids.org
SUMMARY:Family Support Group
DESCRIPTION:Drug Crisis in Our Backyard is pleased to offer Family Support Groups\, an interactive forum for family support and education. We have recurring meetings where parents and families can obtain information and support in dealing with problems with drug abuse and addiction in their homes. ​ \nTuesday 6:30-8:00pm\nLink to join: https://zoom.us/j/2241277364\n​Passcode:  456745!
URL:https://allianceforsafekids.org/calendar/family-support-group-71/
CATEGORIES:Program
END:VEVENT
BEGIN:VEVENT
DTSTART;TZID=America/New_York:20241030T190000
DTEND;TZID=America/New_York:20241030T200000
DTSTAMP:20260423T195111
CREATED:20240829T103112Z
LAST-MODIFIED:20240829T103112Z
UID:12475-1730314800-1730318400@allianceforsafekids.org
SUMMARY:Family Support Group
DESCRIPTION:Drug Crisis in Our Backyard is pleased to offer Family Support Groups\, an interactive forum for family support and education. We have recurring meetings where parents and families can obtain information and support in dealing with problems with drug abuse and addiction in their homes. ​ \nWednesday 7-8pm\nLink to join: https://zoom.us/j/8534470100\n*No passcode required.
URL:https://allianceforsafekids.org/calendar/family-support-group-81/
CATEGORIES:Program
END:VEVENT
BEGIN:VEVENT
DTSTART;TZID=America/New_York:20241031T190000
DTEND;TZID=America/New_York:20241031T200000
DTSTAMP:20260423T195111
CREATED:20241029T004628Z
LAST-MODIFIED:20241029T004628Z
UID:12533-1730401200-1730404800@allianceforsafekids.org
SUMMARY:Yoga for Resilience
DESCRIPTION:Do You Have a Loved One Struggling with Addiction? Are you Feeling Overwhelmed? \nCarve out time for yourself so you may respond to your loved one with a clear mind and open heart \nIn this class we will come together in a safe space to practice somatic mindfulness\, grounding & centering\, containment\, and breath regulation. \nWe will practice moving from freeze to flow to regulate the nervous system so we can become equipped to handle daily stressors. \nThis is not a place to share thoughts\, but rather an opportunity to dwell in the space between. \nBeginners are absolutely welcome. \nNo experience is needed. \n45 minute Zoom Class\nEvery Thursday at 7PM\nInstructor: Justine Potenzo RYT 500 \nZoom Link: https://us02web.zoom.us/j/2241277364?pwd=Q3E4Umc2SU1sN0NTZGdYTmpicUg1UT09&omn=84737936123#success \nMeeting ID 2241277364
URL:https://allianceforsafekids.org/calendar/yoga-for-resilience-4/
CATEGORIES:Program
END:VEVENT
BEGIN:VEVENT
DTSTART;TZID=America/New_York:20241105T183000
DTEND;TZID=America/New_York:20241105T200000
DTSTAMP:20260423T195111
CREATED:20241029T003431Z
LAST-MODIFIED:20241029T003431Z
UID:12510-1730831400-1730836800@allianceforsafekids.org
SUMMARY:Family Support Group
DESCRIPTION:Drug Crisis in Our Backyard is pleased to offer Family Support Groups\, an interactive forum for family support and education. We have recurring meetings where parents and families can obtain information and support in dealing with problems with drug abuse and addiction in their homes. ​ \nTuesday 6:30-8:00pm\nLink to join: https://zoom.us/j/2241277364\n​Passcode:  456745!
URL:https://allianceforsafekids.org/calendar/family-support-group-82/
CATEGORIES:Program
END:VEVENT
BEGIN:VEVENT
DTSTART;TZID=America/New_York:20241106T190000
DTEND;TZID=America/New_York:20241106T200000
DTSTAMP:20260423T195111
CREATED:20241029T003951Z
LAST-MODIFIED:20241029T003951Z
UID:12527-1730919600-1730923200@allianceforsafekids.org
SUMMARY:Family Support Group
DESCRIPTION:Drug Crisis in Our Backyard is pleased to offer Family Support Groups\, an interactive forum for family support and education. We have recurring meetings where parents and families can obtain information and support in dealing with problems with drug abuse and addiction in their homes. \nWednesday 7-8pm\nLink to join: https://zoom.us/j/8534470100\n*No passcode required.
URL:https://allianceforsafekids.org/calendar/family-support-group-90/
CATEGORIES:Program
END:VEVENT
BEGIN:VEVENT
DTSTART;TZID=America/New_York:20241107T190000
DTEND;TZID=America/New_York:20241107T200000
DTSTAMP:20260423T195111
CREATED:20241029T004658Z
LAST-MODIFIED:20241029T004658Z
UID:12535-1731006000-1731009600@allianceforsafekids.org
SUMMARY:Yoga for Resilience
DESCRIPTION:Do You Have a Loved One Struggling with Addiction? Are you Feeling Overwhelmed? \nCarve out time for yourself so you may respond to your loved one with a clear mind and open heart \nIn this class we will come together in a safe space to practice somatic mindfulness\, grounding & centering\, containment\, and breath regulation. \nWe will practice moving from freeze to flow to regulate the nervous system so we can become equipped to handle daily stressors. \nThis is not a place to share thoughts\, but rather an opportunity to dwell in the space between. \nBeginners are absolutely welcome. \nNo experience is needed. \n45 minute Zoom Class\nEvery Thursday at 7PM\nInstructor: Justine Potenzo RYT 500 \nZoom Link: https://us02web.zoom.us/j/2241277364?pwd=Q3E4Umc2SU1sN0NTZGdYTmpicUg1UT09&omn=84737936123#success \nMeeting ID 2241277364
URL:https://allianceforsafekids.org/calendar/yoga-for-resilience-5/
CATEGORIES:Program
END:VEVENT
BEGIN:VEVENT
DTSTART;TZID=America/New_York:20241109T093000
DTEND;TZID=America/New_York:20241109T140000
DTSTAMP:20260423T195111
CREATED:20240829T103732Z
LAST-MODIFIED:20240829T103732Z
UID:12487-1731144600-1731160800@allianceforsafekids.org
SUMMARY:Invitation to Change Workshop with CRAFT Strategies
DESCRIPTION:CRAFT (Community Reinforcement and Family Training) presented by Center for Motivation and Change and Drug Crisis in Our Backyard. Learn tools that can give you hope\, help a loved one move away from substance use and apply better techniques to help you take care of yourself. Excellent workshop for anyone hoping to influence change in a loved one’s behavior. Register here.
URL:https://allianceforsafekids.org/calendar/invitation-to-change-workshop-with-craft-strategies-2/
CATEGORIES:Program
ATTACH;FMTTYPE=image/png:https://allianceforsafekids.org/wp-content/uploads/2024/08/CRAFT-Nov.-9-2024-1-1.png
END:VEVENT
BEGIN:VEVENT
DTSTART;TZID=America/New_York:20241112T183000
DTEND;TZID=America/New_York:20241112T200000
DTSTAMP:20260423T195111
CREATED:20241029T003515Z
LAST-MODIFIED:20241029T003515Z
UID:12512-1731436200-1731441600@allianceforsafekids.org
SUMMARY:Family Support Group
DESCRIPTION:Drug Crisis in Our Backyard is pleased to offer Family Support Groups\, an interactive forum for family support and education. We have recurring meetings where parents and families can obtain information and support in dealing with problems with drug abuse and addiction in their homes. ​ \nTuesday 6:30-8:00pm\nLink to join: https://zoom.us/j/2241277364\n​Passcode:  456745!
URL:https://allianceforsafekids.org/calendar/family-support-group-83/
CATEGORIES:Program
END:VEVENT
BEGIN:VEVENT
DTSTART;TZID=America/New_York:20241113T190000
DTEND;TZID=America/New_York:20241113T200000
DTSTAMP:20260423T195111
CREATED:20241029T003852Z
LAST-MODIFIED:20241029T003852Z
UID:12524-1731524400-1731528000@allianceforsafekids.org
SUMMARY:Family Support Group
DESCRIPTION:Drug Crisis in Our Backyard is pleased to offer Family Support Groups\, an interactive forum for family support and education. We have recurring meetings where parents and families can obtain information and support in dealing with problems with drug abuse and addiction in their homes. \nWednesday 7-8pm\nLink to join: https://zoom.us/j/8534470100\n*No passcode required.
URL:https://allianceforsafekids.org/calendar/family-support-group-89/
CATEGORIES:Program
END:VEVENT
BEGIN:VEVENT
DTSTART;TZID=America/New_York:20241114T190000
DTEND;TZID=America/New_York:20241114T194500
DTSTAMP:20260423T195111
CREATED:20241029T004733Z
LAST-MODIFIED:20241029T004733Z
UID:12537-1731610800-1731613500@allianceforsafekids.org
SUMMARY:Yoga for Resilience
DESCRIPTION:Do You Have a Loved One Struggling with Addiction? Are you Feeling Overwhelmed? \nCarve out time for yourself so you may respond to your loved one with a clear mind and open heart \nIn this class we will come together in a safe space to practice somatic mindfulness\, grounding & centering\, containment\, and breath regulation. \nWe will practice moving from freeze to flow to regulate the nervous system so we can become equipped to handle daily stressors. \nThis is not a place to share thoughts\, but rather an opportunity to dwell in the space between. \nBeginners are absolutely welcome. \nNo experience is needed. \n45 minute Zoom Class\nEvery Thursday at 7PM\nInstructor: Justine Potenzo RYT 500 \nZoom Link: https://us02web.zoom.us/j/2241277364?pwd=Q3E4Umc2SU1sN0NTZGdYTmpicUg1UT09&omn=84737936123#success \nMeeting ID 2241277364
URL:https://allianceforsafekids.org/calendar/yoga-for-resilience-6/
END:VEVENT
BEGIN:VEVENT
DTSTART;TZID=America/New_York:20241119T183000
DTEND;TZID=America/New_York:20241119T200000
DTSTAMP:20260423T195111
CREATED:20241029T003546Z
LAST-MODIFIED:20241029T003546Z
UID:12514-1732041000-1732046400@allianceforsafekids.org
SUMMARY:Family Support Group
DESCRIPTION:Drug Crisis in Our Backyard is pleased to offer Family Support Groups\, an interactive forum for family support and education. We have recurring meetings where parents and families can obtain information and support in dealing with problems with drug abuse and addiction in their homes. ​ \nTuesday 6:30-8:00pm\nLink to join: https://zoom.us/j/2241277364\n​Passcode:  456745!
URL:https://allianceforsafekids.org/calendar/family-support-group-84/
CATEGORIES:Program
END:VEVENT
BEGIN:VEVENT
DTSTART;TZID=America/New_York:20241120T190000
DTEND;TZID=America/New_York:20241120T200000
DTSTAMP:20260423T195111
CREATED:20241029T004057Z
LAST-MODIFIED:20241029T004057Z
UID:12529-1732129200-1732132800@allianceforsafekids.org
SUMMARY:Family Support Group
DESCRIPTION:Drug Crisis in Our Backyard is pleased to offer Family Support Groups\, an interactive forum for family support and education. We have recurring meetings where parents and families can obtain information and support in dealing with problems with drug abuse and addiction in their homes. \nWednesday 7-8pm\nLink to join: https://zoom.us/j/8534470100\n*No passcode required.
URL:https://allianceforsafekids.org/calendar/family-support-group-91/
CATEGORIES:Program
END:VEVENT
BEGIN:VEVENT
DTSTART;TZID=America/New_York:20241121T190000
DTEND;TZID=America/New_York:20241121T194500
DTSTAMP:20260423T195111
CREATED:20241029T004802Z
LAST-MODIFIED:20241029T004802Z
UID:12539-1732215600-1732218300@allianceforsafekids.org
SUMMARY:Yoga for Resilience
DESCRIPTION:Do You Have a Loved One Struggling with Addiction? Are you Feeling Overwhelmed? \nCarve out time for yourself so you may respond to your loved one with a clear mind and open heart \nIn this class we will come together in a safe space to practice somatic mindfulness\, grounding & centering\, containment\, and breath regulation. \nWe will practice moving from freeze to flow to regulate the nervous system so we can become equipped to handle daily stressors. \nThis is not a place to share thoughts\, but rather an opportunity to dwell in the space between. \nBeginners are absolutely welcome. \nNo experience is needed. \n45 minute Zoom Class\nEvery Thursday at 7PM\nInstructor: Justine Potenzo RYT 500 \nZoom Link: https://us02web.zoom.us/j/2241277364?pwd=Q3E4Umc2SU1sN0NTZGdYTmpicUg1UT09&omn=84737936123#success \nMeeting ID 2241277364
URL:https://allianceforsafekids.org/calendar/yoga-for-resilience-7/
CATEGORIES:Program
END:VEVENT
BEGIN:VEVENT
DTSTART;TZID=America/New_York:20241126T183000
DTEND;TZID=America/New_York:20241126T200000
DTSTAMP:20260423T195111
CREATED:20241029T003618Z
LAST-MODIFIED:20241029T003618Z
UID:12516-1732645800-1732651200@allianceforsafekids.org
SUMMARY:Family Support Group
DESCRIPTION:Drug Crisis in Our Backyard is pleased to offer Family Support Groups\, an interactive forum for family support and education. We have recurring meetings where parents and families can obtain information and support in dealing with problems with drug abuse and addiction in their homes. ​ \nTuesday 6:30-8:00pm\nLink to join: https://zoom.us/j/2241277364\n​Passcode:  456745!
URL:https://allianceforsafekids.org/calendar/family-support-group-85/
CATEGORIES:Program
END:VEVENT
BEGIN:VEVENT
DTSTART;TZID=America/New_York:20241127T190000
DTEND;TZID=America/New_York:20241127T200000
DTSTAMP:20260423T195111
CREATED:20241029T004120Z
LAST-MODIFIED:20241029T004120Z
UID:12531-1732734000-1732737600@allianceforsafekids.org
SUMMARY:Family Support Group
DESCRIPTION:Drug Crisis in Our Backyard is pleased to offer Family Support Groups\, an interactive forum for family support and education. We have recurring meetings where parents and families can obtain information and support in dealing with problems with drug abuse and addiction in their homes. \nWednesday 7-8pm\nLink to join: https://zoom.us/j/8534470100\n*No passcode required.
URL:https://allianceforsafekids.org/calendar/family-support-group-92/
CATEGORIES:Program
END:VEVENT
BEGIN:VEVENT
DTSTART;TZID=America/New_York:20241203T183000
DTEND;TZID=America/New_York:20241203T200000
DTSTAMP:20260423T195111
CREATED:20241029T003641Z
LAST-MODIFIED:20241029T003641Z
UID:12518-1733250600-1733256000@allianceforsafekids.org
SUMMARY:Family Support Group
DESCRIPTION:Drug Crisis in Our Backyard is pleased to offer Family Support Groups\, an interactive forum for family support and education. We have recurring meetings where parents and families can obtain information and support in dealing with problems with drug abuse and addiction in their homes. ​ \nTuesday 6:30-8:00pm\nLink to join: https://zoom.us/j/2241277364\n​Passcode:  456745!
URL:https://allianceforsafekids.org/calendar/family-support-group-86/
CATEGORIES:Program
END:VEVENT
BEGIN:VEVENT
DTSTART;TZID=America/New_York:20241204T190000
DTEND;TZID=America/New_York:20241204T200000
DTSTAMP:20260423T195111
CREATED:20241129T121217Z
LAST-MODIFIED:20241129T121217Z
UID:12566-1733338800-1733342400@allianceforsafekids.org
SUMMARY:Spotlight Family Support Group
DESCRIPTION:Drug Crisis in Our Backyard is pleased to offer Family Support Groups\, an interactive forum for family support and education. We have recurring meetings where parents and families can obtain information and support in dealing with problems with drug abuse and addiction in their homes. ​ \nWednesday 7-8pm\nLink to join: https://zoom.us/j/8534470100\n*No passcode required.
URL:https://allianceforsafekids.org/calendar/spotlight-family-support-group-24/
CATEGORIES:Program
END:VEVENT
BEGIN:VEVENT
DTSTART;TZID=America/New_York:20241205T190000
DTEND;TZID=America/New_York:20241205T194500
DTSTAMP:20260423T195111
CREATED:20241029T004831Z
LAST-MODIFIED:20241029T004831Z
UID:12541-1733425200-1733427900@allianceforsafekids.org
SUMMARY:Yoga for Resilience
DESCRIPTION:Do You Have a Loved One Struggling with Addiction? Are you Feeling Overwhelmed? \nCarve out time for yourself so you may respond to your loved one with a clear mind and open heart \nIn this class we will come together in a safe space to practice somatic mindfulness\, grounding & centering\, containment\, and breath regulation. \nWe will practice moving from freeze to flow to regulate the nervous system so we can become equipped to handle daily stressors. \nThis is not a place to share thoughts\, but rather an opportunity to dwell in the space between. \nBeginners are absolutely welcome. \nNo experience is needed. \n45 minute Zoom Class\nEvery Thursday at 7PM\nInstructor: Justine Potenzo RYT 500 \nZoom Link: https://us02web.zoom.us/j/2241277364?pwd=Q3E4Umc2SU1sN0NTZGdYTmpicUg1UT09&omn=84737936123#success \nMeeting ID 2241277364
URL:https://allianceforsafekids.org/calendar/yoga-for-resilience-8/
CATEGORIES:Program
END:VEVENT
BEGIN:VEVENT
DTSTART;TZID=America/New_York:20241210T183000
DTEND;TZID=America/New_York:20241210T200000
DTSTAMP:20260423T195111
CREATED:20241029T003710Z
LAST-MODIFIED:20241029T003710Z
UID:12520-1733855400-1733860800@allianceforsafekids.org
SUMMARY:Family Support Group
DESCRIPTION:Drug Crisis in Our Backyard is pleased to offer Family Support Groups\, an interactive forum for family support and education. We have recurring meetings where parents and families can obtain information and support in dealing with problems with drug abuse and addiction in their homes. ​ \nTuesday 6:30-8:00pm\nLink to join: https://zoom.us/j/2241277364\n​Passcode:  456745!
URL:https://allianceforsafekids.org/calendar/family-support-group-87/
CATEGORIES:Program
END:VEVENT
BEGIN:VEVENT
DTSTART;TZID=America/New_York:20241211T190000
DTEND;TZID=America/New_York:20241211T200000
DTSTAMP:20260423T195111
CREATED:20241129T121255Z
LAST-MODIFIED:20241129T121255Z
UID:12568-1733943600-1733947200@allianceforsafekids.org
SUMMARY:Spotlight Family Support Group
DESCRIPTION:Drug Crisis in Our Backyard is pleased to offer Family Support Groups\, an interactive forum for family support and education. We have recurring meetings where parents and families can obtain information and support in dealing with problems with drug abuse and addiction in their homes. ​ \nWednesday 7-8pm\nLink to join: https://zoom.us/j/8534470100\n*No passcode required.
URL:https://allianceforsafekids.org/calendar/spotlight-family-support-group-25/
CATEGORIES:Program
END:VEVENT
END:VCALENDAR