BEGIN:VCALENDAR
VERSION:2.0
PRODID:-//Alliance For Safe Kids - ECPv6.15.20//NONSGML v1.0//EN
CALSCALE:GREGORIAN
METHOD:PUBLISH
X-ORIGINAL-URL:https://allianceforsafekids.org
X-WR-CALDESC:Events for Alliance For Safe Kids
REFRESH-INTERVAL;VALUE=DURATION:PT1H
X-Robots-Tag:noindex
X-PUBLISHED-TTL:PT1H
BEGIN:VTIMEZONE
TZID:America/New_York
BEGIN:DAYLIGHT
TZOFFSETFROM:-0500
TZOFFSETTO:-0400
TZNAME:EDT
DTSTART:20240310T070000
END:DAYLIGHT
BEGIN:STANDARD
TZOFFSETFROM:-0400
TZOFFSETTO:-0500
TZNAME:EST
DTSTART:20241103T060000
END:STANDARD
BEGIN:DAYLIGHT
TZOFFSETFROM:-0500
TZOFFSETTO:-0400
TZNAME:EDT
DTSTART:20250309T070000
END:DAYLIGHT
BEGIN:STANDARD
TZOFFSETFROM:-0400
TZOFFSETTO:-0500
TZNAME:EST
DTSTART:20251102T060000
END:STANDARD
BEGIN:DAYLIGHT
TZOFFSETFROM:-0500
TZOFFSETTO:-0400
TZNAME:EDT
DTSTART:20260308T070000
END:DAYLIGHT
BEGIN:STANDARD
TZOFFSETFROM:-0400
TZOFFSETTO:-0500
TZNAME:EST
DTSTART:20261101T060000
END:STANDARD
END:VTIMEZONE
BEGIN:VEVENT
DTSTART;TZID=America/New_York:20250318T183000
DTEND;TZID=America/New_York:20250318T200000
DTSTAMP:20260425T083350
CREATED:20250126T194033Z
LAST-MODIFIED:20250126T194033Z
UID:12728-1742322600-1742328000@allianceforsafekids.org
SUMMARY:Family Support Group
DESCRIPTION:Drug Crisis in Our Backyard is pleased to offer Family Support Groups\, an interactive forum for family support and education. We have recurring meetings where parents and families can obtain information and support in dealing with problems with drug abuse and addiction in their homes. ​ \nTuesday 6:30-8:00pm\nLink to join: https://zoom.us/j/2241277364\n​Passcode:  456745!
URL:https://allianceforsafekids.org/calendar/family-support-group-115/
CATEGORIES:Program
END:VEVENT
BEGIN:VEVENT
DTSTART;TZID=America/New_York:20250319T190000
DTEND;TZID=America/New_York:20250319T200000
DTSTAMP:20260425T083350
CREATED:20250126T193814Z
LAST-MODIFIED:20250126T193814Z
UID:12720-1742410800-1742414400@allianceforsafekids.org
SUMMARY:Family Support Group
DESCRIPTION:Drug Crisis in Our Backyard is pleased to offer Family Support Groups\, an interactive forum for family support and education. We have recurring meetings where parents and families can obtain information and support in dealing with problems with drug abuse and addiction in their homes. ​ \nWednesday 7-8pm\nLink to join: https://zoom.us/j/8534470100\n*No passcode required.
URL:https://allianceforsafekids.org/calendar/family-support-group-111/
CATEGORIES:Program
END:VEVENT
BEGIN:VEVENT
DTSTART;TZID=America/New_York:20250320T183000
DTEND;TZID=America/New_York:20250320T200000
DTSTAMP:20260425T083350
CREATED:20250126T112720Z
LAST-MODIFIED:20250126T112720Z
UID:12707-1742495400-1742500800@allianceforsafekids.org
SUMMARY:Virtual Naloxone Training
DESCRIPTION:Naloxone is a prescription medicine that reverses an overdose by blocking heroin or other opioids in the nervous system for 30-90 minutes. Naloxone is administered by injection or intranasal. Following training\, participants receive a kit by mail. Presented by our partners at Drug Crisis in Our Backyard. Register by email: ssal@drugcrisisinourbackyard.com
URL:https://allianceforsafekids.org/calendar/virtual-naloxone-training-19/
CATEGORIES:Program
END:VEVENT
BEGIN:VEVENT
DTSTART;TZID=America/New_York:20250320T190000
DTEND;TZID=America/New_York:20250320T200000
DTSTAMP:20260425T083350
CREATED:20250126T194327Z
LAST-MODIFIED:20250126T194327Z
UID:12736-1742497200-1742500800@allianceforsafekids.org
SUMMARY:Yoga for Resilience
DESCRIPTION:Do You Have a Loved One Struggling with Addiction? Are you Feeling Overwhelmed? Carve out time for yourself so you may respond to your loved one with a clear mind and open heart. \nIn this class we will come together in a safe space to practice somatic mindfulness\, grounding & centering\, containment\, and breath regulation. \nWe will practice moving from freeze to flow to regulate the nervous system so we can become equipped to handle daily stressors. \nThis is not a place to share thoughts\, but rather an opportunity to dwell in the space between. \nBeginners are absolutely welcome. No experience is needed. \n45 minute Zoom Class\nEvery Thursday at 7PM\nInstructor: Justine Potenzo RYT 500
URL:https://allianceforsafekids.org/calendar/yoga-for-resilience-23/
CATEGORIES:Program
END:VEVENT
BEGIN:VEVENT
DTSTART;TZID=America/New_York:20250325T183000
DTEND;TZID=America/New_York:20250325T200000
DTSTAMP:20260425T083350
CREATED:20250126T194136Z
LAST-MODIFIED:20250126T194136Z
UID:12730-1742927400-1742932800@allianceforsafekids.org
SUMMARY:Family Support Group
DESCRIPTION:Drug Crisis in Our Backyard is pleased to offer Family Support Groups\, an interactive forum for family support and education. We have recurring meetings where parents and families can obtain information and support in dealing with problems with drug abuse and addiction in their homes. ​ \nTuesday 6:30-8:00pm\nLink to join: https://zoom.us/j/2241277364\n​Passcode:  456745!
URL:https://allianceforsafekids.org/calendar/family-support-group-116/
CATEGORIES:Program
END:VEVENT
BEGIN:VEVENT
DTSTART;TZID=America/New_York:20250326T190000
DTEND;TZID=America/New_York:20250326T200000
DTSTAMP:20260425T083350
CREATED:20250126T193840Z
LAST-MODIFIED:20250126T193840Z
UID:12722-1743015600-1743019200@allianceforsafekids.org
SUMMARY:Family Support Group
DESCRIPTION:Drug Crisis in Our Backyard is pleased to offer Family Support Groups\, an interactive forum for family support and education. We have recurring meetings where parents and families can obtain information and support in dealing with problems with drug abuse and addiction in their homes. ​ \nWednesday 7-8pm\nLink to join: https://zoom.us/j/8534470100\n*No passcode required.
URL:https://allianceforsafekids.org/calendar/family-support-group-112/
CATEGORIES:Program
END:VEVENT
BEGIN:VEVENT
DTSTART;TZID=America/New_York:20250327T190000
DTEND;TZID=America/New_York:20250327T200000
DTSTAMP:20260425T083350
CREATED:20250126T194358Z
LAST-MODIFIED:20250126T194358Z
UID:12738-1743102000-1743105600@allianceforsafekids.org
SUMMARY:Yoga for Resilience
DESCRIPTION:Do You Have a Loved One Struggling with Addiction? Are you Feeling Overwhelmed? Carve out time for yourself so you may respond to your loved one with a clear mind and open heart. \nIn this class we will come together in a safe space to practice somatic mindfulness\, grounding & centering\, containment\, and breath regulation. \nWe will practice moving from freeze to flow to regulate the nervous system so we can become equipped to handle daily stressors. \nThis is not a place to share thoughts\, but rather an opportunity to dwell in the space between. \nBeginners are absolutely welcome. No experience is needed. \n45 minute Zoom Class\nEvery Thursday at 7PM\nInstructor: Justine Potenzo RYT 500
URL:https://allianceforsafekids.org/calendar/yoga-for-resilience-24/
CATEGORIES:Program
END:VEVENT
BEGIN:VEVENT
DTSTART;TZID=America/New_York:20250401T183000
DTEND;TZID=America/New_York:20250401T200000
DTSTAMP:20260425T083350
CREATED:20250328T175812Z
LAST-MODIFIED:20250328T175812Z
UID:12819-1743532200-1743537600@allianceforsafekids.org
SUMMARY:Family Support Group
DESCRIPTION:Drug Crisis in Our Backyard is pleased to offer Family Support Groups\, an interactive forum for family support and education. We have recurring meetings where parents and families can obtain information and support in dealing with problems with drug abuse and addiction in their homes. ​ \nTuesday 6:30-8:00pm\nLink to join: https://zoom.us/j/2241277364\n​Passcode:  456745!
URL:https://allianceforsafekids.org/calendar/family-support-group-117/
CATEGORIES:Program
END:VEVENT
BEGIN:VEVENT
DTSTART;TZID=America/New_York:20250402T190000
DTEND;TZID=America/New_York:20250402T200000
DTSTAMP:20260425T083350
CREATED:20250328T180038Z
LAST-MODIFIED:20250328T180038Z
UID:12829-1743620400-1743624000@allianceforsafekids.org
SUMMARY:Family Support Group
DESCRIPTION:Drug Crisis in Our Backyard is pleased to offer Family Support Groups\, an interactive forum for family support and education. We have recurring meetings where parents and families can obtain information and support in dealing with problems with drug abuse and addiction in their homes. ​ \nWednesday 7-8pm\nLink to join: https://zoom.us/j/8534470100\n*No passcode required.
URL:https://allianceforsafekids.org/calendar/family-support-group-122/
CATEGORIES:Program
END:VEVENT
BEGIN:VEVENT
DTSTART;TZID=America/New_York:20250403T190000
DTEND;TZID=America/New_York:20250403T200000
DTSTAMP:20260425T083350
CREATED:20250328T175526Z
LAST-MODIFIED:20250328T175526Z
UID:12811-1743706800-1743710400@allianceforsafekids.org
SUMMARY:Yoga for Resilience
DESCRIPTION:Do You Have a Loved One Struggling with Addiction? Are you Feeling Overwhelmed? Carve out time for yourself so you may respond to your loved one with a clear mind and open heart. \nIn this class we will come together in a safe space to practice somatic mindfulness\, grounding & centering\, containment\, and breath regulation. \nWe will practice moving from freeze to flow to regulate the nervous system so we can become equipped to handle daily stressors. \nThis is not a place to share thoughts\, but rather an opportunity to dwell in the space between. \nBeginners are absolutely welcome. No experience is needed. \n45 minute Zoom Class\nEvery Thursday at 7PM\nInstructor: Justine Potenzo RYT 500 \nZoom Link: Meeting ID 2241277364
URL:https://allianceforsafekids.org/calendar/yoga-for-resilience-25/
CATEGORIES:Program
END:VEVENT
BEGIN:VEVENT
DTSTART;TZID=America/New_York:20250408T183000
DTEND;TZID=America/New_York:20250408T200000
DTSTAMP:20260425T083350
CREATED:20250328T175841Z
LAST-MODIFIED:20250328T175841Z
UID:12821-1744137000-1744142400@allianceforsafekids.org
SUMMARY:Family Support Group
DESCRIPTION:Drug Crisis in Our Backyard is pleased to offer Family Support Groups\, an interactive forum for family support and education. We have recurring meetings where parents and families can obtain information and support in dealing with problems with drug abuse and addiction in their homes. ​ \nTuesday 6:30-8:00pm\nLink to join: https://zoom.us/j/2241277364\n​Passcode:  456745!
URL:https://allianceforsafekids.org/calendar/family-support-group-118/
CATEGORIES:Program
END:VEVENT
BEGIN:VEVENT
DTSTART;TZID=America/New_York:20250409T180000
DTEND;TZID=America/New_York:20250409T190000
DTSTAMP:20260425T083350
CREATED:20250328T181013Z
LAST-MODIFIED:20250328T181013Z
UID:12866-1744221600-1744225200@allianceforsafekids.org
SUMMARY:Empowering Families: Navigating Co-Occurring Disorders for a Resilient Future
DESCRIPTION:This presentation will highlight the power of prevention and early identification\, exploring the three pathways to COD\, along with risk and protective factors. Participants will also gain insights on recognizing early signs and being proactive in getting support. Hosted by K.N.O.W. 2 Prevent and presented by Stephanie Marquesano\, founder of The Harris Project and Lorena Rucaj\, LMHC and Westchester County Encompass Coordinator. Register here.
URL:https://allianceforsafekids.org/calendar/empowering-families-navigating-co-occurring-disorders-for-a-resilient-future/
CATEGORIES:Program
END:VEVENT
BEGIN:VEVENT
DTSTART;TZID=America/New_York:20250409T190000
DTEND;TZID=America/New_York:20250409T200000
DTSTAMP:20260425T083350
CREATED:20250328T180106Z
LAST-MODIFIED:20250328T180106Z
UID:12831-1744225200-1744228800@allianceforsafekids.org
SUMMARY:Family Support Group
DESCRIPTION:Drug Crisis in Our Backyard is pleased to offer Family Support Groups\, an interactive forum for family support and education. We have recurring meetings where parents and families can obtain information and support in dealing with problems with drug abuse and addiction in their homes. ​ \nWednesday 7-8pm\nLink to join: https://zoom.us/j/8534470100\n*No passcode required.
URL:https://allianceforsafekids.org/calendar/family-support-group-123/
CATEGORIES:Program
END:VEVENT
BEGIN:VEVENT
DTSTART;TZID=America/New_York:20250410T190000
DTEND;TZID=America/New_York:20250410T200000
DTSTAMP:20260425T083350
CREATED:20250328T175613Z
LAST-MODIFIED:20250328T175613Z
UID:12813-1744311600-1744315200@allianceforsafekids.org
SUMMARY:Yoga for Resilience
DESCRIPTION:Do You Have a Loved One Struggling with Addiction? Are you Feeling Overwhelmed? Carve out time for yourself so you may respond to your loved one with a clear mind and open heart. \nIn this class we will come together in a safe space to practice somatic mindfulness\, grounding & centering\, containment\, and breath regulation. \nWe will practice moving from freeze to flow to regulate the nervous system so we can become equipped to handle daily stressors. \nThis is not a place to share thoughts\, but rather an opportunity to dwell in the space between. \nBeginners are absolutely welcome. No experience is needed. \n45 minute Zoom Class\nEvery Thursday at 7PM\nInstructor: Justine Potenzo RYT 500 \nZoom Link: Meeting ID 2241277364 \nFor more information\, click here.
URL:https://allianceforsafekids.org/calendar/yoga-for-resilience-26/
CATEGORIES:Program
END:VEVENT
BEGIN:VEVENT
DTSTART;TZID=America/New_York:20250415T183000
DTEND;TZID=America/New_York:20250415T200000
DTSTAMP:20260425T083350
CREATED:20250328T175904Z
LAST-MODIFIED:20250328T175904Z
UID:12823-1744741800-1744747200@allianceforsafekids.org
SUMMARY:Family Support Group
DESCRIPTION:Drug Crisis in Our Backyard is pleased to offer Family Support Groups\, an interactive forum for family support and education. We have recurring meetings where parents and families can obtain information and support in dealing with problems with drug abuse and addiction in their homes. ​ \nTuesday 6:30-8:00pm\nLink to join: https://zoom.us/j/2241277364\n​Passcode:  456745!
URL:https://allianceforsafekids.org/calendar/family-support-group-119/
CATEGORIES:Program
END:VEVENT
BEGIN:VEVENT
DTSTART;TZID=America/New_York:20250416T190000
DTEND;TZID=America/New_York:20250416T200000
DTSTAMP:20260425T083350
CREATED:20250328T180134Z
LAST-MODIFIED:20250328T180134Z
UID:12833-1744830000-1744833600@allianceforsafekids.org
SUMMARY:Family Support Group
DESCRIPTION:Drug Crisis in Our Backyard is pleased to offer Family Support Groups\, an interactive forum for family support and education. We have recurring meetings where parents and families can obtain information and support in dealing with problems with drug abuse and addiction in their homes. ​ \nWednesday 7-8pm\nLink to join: https://zoom.us/j/8534470100\n*No passcode required.
URL:https://allianceforsafekids.org/calendar/family-support-group-124/
CATEGORIES:Program
END:VEVENT
BEGIN:VEVENT
DTSTART;TZID=America/New_York:20250417T183000
DTEND;TZID=America/New_York:20250417T200000
DTSTAMP:20260425T083350
CREATED:20250328T175245Z
LAST-MODIFIED:20250328T175245Z
UID:12805-1744914600-1744920000@allianceforsafekids.org
SUMMARY:Virtual Naloxone Training
DESCRIPTION:Naloxone is a prescription medicine that reverses an overdose by blocking heroin or other opioids in the nervous system for 30-90 minutes. Naloxone is administered by injection or intranasal. Following training\, participants receive a kit by mail. Please join our partners at Drug Crisis in Our Backyard on Zoom at 6:30pm. Register by email: ssal@drugcrisisinourbackyard.com
URL:https://allianceforsafekids.org/calendar/virtual-naloxone-training-20/
CATEGORIES:Program
END:VEVENT
BEGIN:VEVENT
DTSTART;TZID=America/New_York:20250417T190000
DTEND;TZID=America/New_York:20250417T200000
DTSTAMP:20260425T083350
CREATED:20250328T175645Z
LAST-MODIFIED:20250328T175645Z
UID:12815-1744916400-1744920000@allianceforsafekids.org
SUMMARY:Yoga for Resilience
DESCRIPTION:Do You Have a Loved One Struggling with Addiction? Are you Feeling Overwhelmed? Carve out time for yourself so you may respond to your loved one with a clear mind and open heart. \nIn this class we will come together in a safe space to practice somatic mindfulness\, grounding & centering\, containment\, and breath regulation. \nWe will practice moving from freeze to flow to regulate the nervous system so we can become equipped to handle daily stressors. \nThis is not a place to share thoughts\, but rather an opportunity to dwell in the space between. \nBeginners are absolutely welcome. No experience is needed. \n45 minute Zoom Class\nEvery Thursday at 7PM\nInstructor: Justine Potenzo RYT 500 \nZoom Link: Meeting ID 2241277364 \nFor more information\, click here.
URL:https://allianceforsafekids.org/calendar/yoga-for-resilience-27/
CATEGORIES:Program
END:VEVENT
BEGIN:VEVENT
DTSTART;TZID=America/New_York:20250422T183000
DTEND;TZID=America/New_York:20250422T200000
DTSTAMP:20260425T083350
CREATED:20250328T175929Z
LAST-MODIFIED:20250328T175929Z
UID:12825-1745346600-1745352000@allianceforsafekids.org
SUMMARY:Family Support Group
DESCRIPTION:Drug Crisis in Our Backyard is pleased to offer Family Support Groups\, an interactive forum for family support and education. We have recurring meetings where parents and families can obtain information and support in dealing with problems with drug abuse and addiction in their homes. ​ \nTuesday 6:30-8:00pm\nLink to join: https://zoom.us/j/2241277364\n​Passcode:  456745!
URL:https://allianceforsafekids.org/calendar/family-support-group-120/
CATEGORIES:Program
END:VEVENT
BEGIN:VEVENT
DTSTART;TZID=America/New_York:20250423T190000
DTEND;TZID=America/New_York:20250423T200000
DTSTAMP:20260425T083350
CREATED:20250328T180157Z
LAST-MODIFIED:20250328T180157Z
UID:12835-1745434800-1745438400@allianceforsafekids.org
SUMMARY:Family Support Group
DESCRIPTION:Drug Crisis in Our Backyard is pleased to offer Family Support Groups\, an interactive forum for family support and education. We have recurring meetings where parents and families can obtain information and support in dealing with problems with drug abuse and addiction in their homes. ​ \nWednesday 7-8pm\nLink to join: https://zoom.us/j/8534470100\n*No passcode required.
URL:https://allianceforsafekids.org/calendar/family-support-group-125/
CATEGORIES:Program
END:VEVENT
BEGIN:VEVENT
DTSTART;TZID=America/New_York:20250424T190000
DTEND;TZID=America/New_York:20250424T200000
DTSTAMP:20260425T083350
CREATED:20250328T175726Z
LAST-MODIFIED:20250328T175726Z
UID:12817-1745521200-1745524800@allianceforsafekids.org
SUMMARY:Yoga for Resilience
DESCRIPTION:Do You Have a Loved One Struggling with Addiction? Are you Feeling Overwhelmed? Carve out time for yourself so you may respond to your loved one with a clear mind and open heart. \nIn this class we will come together in a safe space to practice somatic mindfulness\, grounding & centering\, containment\, and breath regulation. \nWe will practice moving from freeze to flow to regulate the nervous system so we can become equipped to handle daily stressors. \nThis is not a place to share thoughts\, but rather an opportunity to dwell in the space between. \nBeginners are absolutely welcome. No experience is needed. \n45 minute Zoom Class\nEvery Thursday at 7PM\nInstructor: Justine Potenzo RYT 500 \nZoom Link: Meeting ID 2241277364 \nFor more information\, click here.
URL:https://allianceforsafekids.org/calendar/yoga-for-resilience-28/
CATEGORIES:Program
END:VEVENT
BEGIN:VEVENT
DTSTART;TZID=America/New_York:20250429T183000
DTEND;TZID=America/New_York:20250429T200000
DTSTAMP:20260425T083350
CREATED:20250328T175950Z
LAST-MODIFIED:20250328T175950Z
UID:12827-1745951400-1745956800@allianceforsafekids.org
SUMMARY:Family Support Group
DESCRIPTION:Drug Crisis in Our Backyard is pleased to offer Family Support Groups\, an interactive forum for family support and education. We have recurring meetings where parents and families can obtain information and support in dealing with problems with drug abuse and addiction in their homes. ​ \nTuesday 6:30-8:00pm\nLink to join: https://zoom.us/j/2241277364\n​Passcode:  456745!
URL:https://allianceforsafekids.org/calendar/family-support-group-121/
CATEGORIES:Program
END:VEVENT
BEGIN:VEVENT
DTSTART;TZID=America/New_York:20250430T190000
DTEND;TZID=America/New_York:20250430T200000
DTSTAMP:20260425T083351
CREATED:20250328T180228Z
LAST-MODIFIED:20250328T180228Z
UID:12837-1746039600-1746043200@allianceforsafekids.org
SUMMARY:Family Support Group
DESCRIPTION:Drug Crisis in Our Backyard is pleased to offer Family Support Groups\, an interactive forum for family support and education. We have recurring meetings where parents and families can obtain information and support in dealing with problems with drug abuse and addiction in their homes. ​ \nWednesday 7-8pm\nLink to join: https://zoom.us/j/8534470100\n*No passcode required.
URL:https://allianceforsafekids.org/calendar/family-support-group-126/
CATEGORIES:Program
END:VEVENT
BEGIN:VEVENT
DTSTART;TZID=America/New_York:20250501T080000
DTEND;TZID=America/New_York:20250501T170000
DTSTAMP:20260425T083351
CREATED:20250328T180304Z
LAST-MODIFIED:20250328T180304Z
UID:12839-1746086400-1746118800@allianceforsafekids.org
SUMMARY:Yoga for Resilience
DESCRIPTION:Do You Have a Loved One Struggling with Addiction? Are you Feeling Overwhelmed? Carve out time for yourself so you may respond to your loved one with a clear mind and open heart. \nIn this class we will come together in a safe space to practice somatic mindfulness\, grounding & centering\, containment\, and breath regulation. \nWe will practice moving from freeze to flow to regulate the nervous system so we can become equipped to handle daily stressors. \nThis is not a place to share thoughts\, but rather an opportunity to dwell in the space between. \nBeginners are absolutely welcome. No experience is needed. \n45 minute Zoom Class\nEvery Thursday at 7PM\nInstructor: Justine Potenzo RYT 500 \nZoom Link: Meeting ID 2241277364 \nFor more information\, click here.
URL:https://allianceforsafekids.org/calendar/yoga-for-resilience-29/
CATEGORIES:Program
END:VEVENT
BEGIN:VEVENT
DTSTART;TZID=America/New_York:20250506T183000
DTEND;TZID=America/New_York:20250506T200000
DTSTAMP:20260425T083351
CREATED:20250328T180600Z
LAST-MODIFIED:20250328T180600Z
UID:12849-1746556200-1746561600@allianceforsafekids.org
SUMMARY:Family Support Group
DESCRIPTION:Drug Crisis in Our Backyard is pleased to offer Family Support Groups\, an interactive forum for family support and education. We have recurring meetings where parents and families can obtain information and support in dealing with problems with drug abuse and addiction in their homes. ​ \nTuesday 6:30-8:00pm\nLink to join: https://zoom.us/j/2241277364\n​Passcode:  456745!
URL:https://allianceforsafekids.org/calendar/family-support-group-127/
CATEGORIES:Program
END:VEVENT
BEGIN:VEVENT
DTSTART;TZID=America/New_York:20250507T190000
DTEND;TZID=America/New_York:20250507T200000
DTSTAMP:20260425T083351
CREATED:20250328T180757Z
LAST-MODIFIED:20250328T180757Z
UID:12857-1746644400-1746648000@allianceforsafekids.org
SUMMARY:Family Support Group
DESCRIPTION:Drug Crisis in Our Backyard is pleased to offer Family Support Groups\, an interactive forum for family support and education. We have recurring meetings where parents and families can obtain information and support in dealing with problems with drug abuse and addiction in their homes. ​ \nWednesday 7-8pm\nLink to join: https://zoom.us/j/8534470100\n*No passcode required.
URL:https://allianceforsafekids.org/calendar/family-support-group-131/
CATEGORIES:Program
END:VEVENT
BEGIN:VEVENT
DTSTART;TZID=America/New_York:20250508T190000
DTEND;TZID=America/New_York:20250508T200000
DTSTAMP:20260425T083351
CREATED:20250328T180336Z
LAST-MODIFIED:20250328T180336Z
UID:12841-1746730800-1746734400@allianceforsafekids.org
SUMMARY:Yoga for Resilience
DESCRIPTION:Do You Have a Loved One Struggling with Addiction? Are you Feeling Overwhelmed? Carve out time for yourself so you may respond to your loved one with a clear mind and open heart. \nIn this class we will come together in a safe space to practice somatic mindfulness\, grounding & centering\, containment\, and breath regulation. \nWe will practice moving from freeze to flow to regulate the nervous system so we can become equipped to handle daily stressors. \nThis is not a place to share thoughts\, but rather an opportunity to dwell in the space between. \nBeginners are absolutely welcome. No experience is needed. \n45 minute Zoom Class\nEvery Thursday at 7PM\nInstructor: Justine Potenzo RYT 500 \nZoom Link: Meeting ID 2241277364 \nFor more information\, click here.
URL:https://allianceforsafekids.org/calendar/yoga-for-resilience-30/
CATEGORIES:Program
END:VEVENT
BEGIN:VEVENT
DTSTART;TZID=America/New_York:20250513T183000
DTEND;TZID=America/New_York:20250513T200000
DTSTAMP:20260425T083351
CREATED:20250328T180629Z
LAST-MODIFIED:20250328T180629Z
UID:12851-1747161000-1747166400@allianceforsafekids.org
SUMMARY:Family Support Group
DESCRIPTION:Drug Crisis in Our Backyard is pleased to offer Family Support Groups\, an interactive forum for family support and education. We have recurring meetings where parents and families can obtain information and support in dealing with problems with drug abuse and addiction in their homes. ​ \nTuesday 6:30-8:00pm\nLink to join: https://zoom.us/j/2241277364\n​Passcode:  456745!
URL:https://allianceforsafekids.org/calendar/family-support-group-128/
CATEGORIES:Program
END:VEVENT
BEGIN:VEVENT
DTSTART;TZID=America/New_York:20250514T190000
DTEND;TZID=America/New_York:20250514T200000
DTSTAMP:20260425T083351
CREATED:20250328T180823Z
LAST-MODIFIED:20250328T180823Z
UID:12859-1747249200-1747252800@allianceforsafekids.org
SUMMARY:Family Support Group
DESCRIPTION:Drug Crisis in Our Backyard is pleased to offer Family Support Groups\, an interactive forum for family support and education. We have recurring meetings where parents and families can obtain information and support in dealing with problems with drug abuse and addiction in their homes. ​ \nWednesday 7-8pm\nLink to join: https://zoom.us/j/8534470100\n*No passcode required.
URL:https://allianceforsafekids.org/calendar/family-support-group-132/
CATEGORIES:Program
END:VEVENT
BEGIN:VEVENT
DTSTART;TZID=America/New_York:20250515T183000
DTEND;TZID=America/New_York:20250515T200000
DTSTAMP:20260425T083351
CREATED:20250328T175317Z
LAST-MODIFIED:20250328T175317Z
UID:12807-1747333800-1747339200@allianceforsafekids.org
SUMMARY:Virtual Naloxone Training
DESCRIPTION:Naloxone is a prescription medicine that reverses an overdose by blocking heroin or other opioids in the nervous system for 30-90 minutes. Naloxone is administered by injection or intranasal. Following training\, participants receive a kit by mail. Please join our partners at Drug Crisis in Our Backyard on Zoom at 6:30pm. Register by email: ssal@drugcrisisinourbackyard.com
URL:https://allianceforsafekids.org/calendar/virtual-naloxone-training-21/
CATEGORIES:Program
END:VEVENT
END:VCALENDAR