BEGIN:VCALENDAR
VERSION:2.0
PRODID:-//Alliance For Safe Kids - ECPv6.15.20//NONSGML v1.0//EN
CALSCALE:GREGORIAN
METHOD:PUBLISH
X-WR-CALNAME:Alliance For Safe Kids
X-ORIGINAL-URL:https://allianceforsafekids.org
X-WR-CALDESC:Events for Alliance For Safe Kids
REFRESH-INTERVAL;VALUE=DURATION:PT1H
X-Robots-Tag:noindex
X-PUBLISHED-TTL:PT1H
BEGIN:VTIMEZONE
TZID:America/New_York
BEGIN:DAYLIGHT
TZOFFSETFROM:-0500
TZOFFSETTO:-0400
TZNAME:EDT
DTSTART:20240310T070000
END:DAYLIGHT
BEGIN:STANDARD
TZOFFSETFROM:-0400
TZOFFSETTO:-0500
TZNAME:EST
DTSTART:20241103T060000
END:STANDARD
BEGIN:DAYLIGHT
TZOFFSETFROM:-0500
TZOFFSETTO:-0400
TZNAME:EDT
DTSTART:20250309T070000
END:DAYLIGHT
BEGIN:STANDARD
TZOFFSETFROM:-0400
TZOFFSETTO:-0500
TZNAME:EST
DTSTART:20251102T060000
END:STANDARD
BEGIN:DAYLIGHT
TZOFFSETFROM:-0500
TZOFFSETTO:-0400
TZNAME:EDT
DTSTART:20260308T070000
END:DAYLIGHT
BEGIN:STANDARD
TZOFFSETFROM:-0400
TZOFFSETTO:-0500
TZNAME:EST
DTSTART:20261101T060000
END:STANDARD
END:VTIMEZONE
BEGIN:VEVENT
DTSTART;TZID=America/New_York:20250903T190000
DTEND;TZID=America/New_York:20250903T200000
DTSTAMP:20260424T042625
CREATED:20250523T111630Z
LAST-MODIFIED:20250523T111630Z
UID:12959-1756926000-1756929600@allianceforsafekids.org
SUMMARY:Family Support Group
DESCRIPTION:Drug Crisis in Our Backyard is pleased to offer Family Support Groups\, an interactive forum for family support and education. We have recurring meetings where parents and families can obtain information and support in dealing with problems with drug abuse and addiction in their homes. ​ \nWednesday 7-8pm\nLink to join: https://zoom.us/j/8534470100\n*No passcode required.
URL:https://allianceforsafekids.org/calendar/family-support-group-158/
CATEGORIES:Program
END:VEVENT
BEGIN:VEVENT
DTSTART;TZID=America/New_York:20250902T183000
DTEND;TZID=America/New_York:20250902T200000
DTSTAMP:20260424T042625
CREATED:20250523T111848Z
LAST-MODIFIED:20250523T111848Z
UID:12969-1756837800-1756843200@allianceforsafekids.org
SUMMARY:Family Support Group
DESCRIPTION:Drug Crisis in Our Backyard is pleased to offer Family Support Groups\, an interactive forum for family support and education. We have recurring meetings where parents and families can obtain information and support in dealing with problems with drug abuse and addiction in their homes. ​ \nTuesday 6:30-8:00pm\nLink to join: https://zoom.us/j/2241277364\n​Passcode:  456745!
URL:https://allianceforsafekids.org/calendar/family-support-group-163/
CATEGORIES:Program
END:VEVENT
BEGIN:VEVENT
DTSTART;TZID=America/New_York:20250828T190000
DTEND;TZID=America/New_York:20250828T200000
DTSTAMP:20260424T042625
CREATED:20250523T112120Z
LAST-MODIFIED:20250523T112120Z
UID:12977-1756407600-1756411200@allianceforsafekids.org
SUMMARY:Yoga for Resilience
DESCRIPTION:Do You Have a Loved One Struggling with Addiction? Are you Feeling Overwhelmed? Carve out time for yourself so you may respond to your loved one with a clear mind and open heart. \nIn this class we will come together in a safe space to practice somatic mindfulness\, grounding & centering\, containment\, and breath regulation. \nWe will practice moving from freeze to flow to regulate the nervous system so we can become equipped to handle daily stressors. \nThis is not a place to share thoughts\, but rather an opportunity to dwell in the space between. \nBeginners are absolutely welcome. No experience is needed. \n45 minute Zoom Class\nEvery Thursday at 7PM\nInstructor: Justine Potenzo RYT 500 \nZoom Link: Meeting ID 2241277364 \nFor more information\, click here.
URL:https://allianceforsafekids.org/calendar/yoga-for-resilience-45/
CATEGORIES:Program
END:VEVENT
BEGIN:VEVENT
DTSTART;TZID=America/New_York:20250827T190000
DTEND;TZID=America/New_York:20250827T200000
DTSTAMP:20260424T042625
CREATED:20250523T111553Z
LAST-MODIFIED:20250523T111553Z
UID:12957-1756321200-1756324800@allianceforsafekids.org
SUMMARY:Family Support Group
DESCRIPTION:Drug Crisis in Our Backyard is pleased to offer Family Support Groups\, an interactive forum for family support and education. We have recurring meetings where parents and families can obtain information and support in dealing with problems with drug abuse and addiction in their homes. ​ \nWednesday 7-8pm\nLink to join: https://zoom.us/j/8534470100\n*No passcode required.
URL:https://allianceforsafekids.org/calendar/family-support-group-157/
CATEGORIES:Program
END:VEVENT
BEGIN:VEVENT
DTSTART;TZID=America/New_York:20250826T183000
DTEND;TZID=America/New_York:20250826T200000
DTSTAMP:20260424T042625
CREATED:20250523T111820Z
LAST-MODIFIED:20250523T111820Z
UID:12967-1756233000-1756238400@allianceforsafekids.org
SUMMARY:Family Support Group
DESCRIPTION:Drug Crisis in Our Backyard is pleased to offer Family Support Groups\, an interactive forum for family support and education. We have recurring meetings where parents and families can obtain information and support in dealing with problems with drug abuse and addiction in their homes. ​ \nTuesday 6:30-8:00pm\nLink to join: https://zoom.us/j/2241277364\n​Passcode:  456745!
URL:https://allianceforsafekids.org/calendar/family-support-group-162/
CATEGORIES:Program
END:VEVENT
BEGIN:VEVENT
DTSTART;TZID=America/New_York:20250821T190000
DTEND;TZID=America/New_York:20250821T200000
DTSTAMP:20260424T042625
CREATED:20250523T112052Z
LAST-MODIFIED:20250523T112052Z
UID:12975-1755802800-1755806400@allianceforsafekids.org
SUMMARY:Yoga for Resilience
DESCRIPTION:Do You Have a Loved One Struggling with Addiction? Are you Feeling Overwhelmed? Carve out time for yourself so you may respond to your loved one with a clear mind and open heart. \nIn this class we will come together in a safe space to practice somatic mindfulness\, grounding & centering\, containment\, and breath regulation. \nWe will practice moving from freeze to flow to regulate the nervous system so we can become equipped to handle daily stressors. \nThis is not a place to share thoughts\, but rather an opportunity to dwell in the space between. \nBeginners are absolutely welcome. No experience is needed. \n45 minute Zoom Class\nEvery Thursday at 7PM\nInstructor: Justine Potenzo RYT 500 \nZoom Link: Meeting ID 2241277364 \nFor more information\, click here.
URL:https://allianceforsafekids.org/calendar/yoga-for-resilience-44/
CATEGORIES:Program
END:VEVENT
BEGIN:VEVENT
DTSTART;TZID=America/New_York:20250821T183000
DTEND;TZID=America/New_York:20250821T200000
DTSTAMP:20260424T042625
CREATED:20250523T110511Z
LAST-MODIFIED:20250523T110511Z
UID:12923-1755801000-1755806400@allianceforsafekids.org
SUMMARY:Virtual Naloxone Training
DESCRIPTION:Naloxone is a prescription medicine that reverses an overdose by blocking heroin or other opioids in the nervous system for 30-90 minutes. Naloxone is administered by injection or intranasal. Following training\, participants receive a kit by mail. Please join our partners at Drug Crisis in Our Backyard on Zoom at 6:30pm. Register by email: ssal@drugcrisisinourbackyard.com
URL:https://allianceforsafekids.org/calendar/virtual-naloxone-training-24/
CATEGORIES:Program
END:VEVENT
BEGIN:VEVENT
DTSTART;TZID=America/New_York:20250820T190000
DTEND;TZID=America/New_York:20250820T200000
DTSTAMP:20260424T042625
CREATED:20250523T111526Z
LAST-MODIFIED:20250523T111526Z
UID:12955-1755716400-1755720000@allianceforsafekids.org
SUMMARY:Family Support Group
DESCRIPTION:Drug Crisis in Our Backyard is pleased to offer Family Support Groups\, an interactive forum for family support and education. We have recurring meetings where parents and families can obtain information and support in dealing with problems with drug abuse and addiction in their homes. ​ \nWednesday 7-8pm\nLink to join: https://zoom.us/j/8534470100\n*No passcode required.
URL:https://allianceforsafekids.org/calendar/family-support-group-156/
CATEGORIES:Program
END:VEVENT
BEGIN:VEVENT
DTSTART;TZID=America/New_York:20250819T183000
DTEND;TZID=America/New_York:20250819T200000
DTSTAMP:20260424T042625
CREATED:20250523T111755Z
LAST-MODIFIED:20250523T111755Z
UID:12965-1755628200-1755633600@allianceforsafekids.org
SUMMARY:Family Support Group
DESCRIPTION:Drug Crisis in Our Backyard is pleased to offer Family Support Groups\, an interactive forum for family support and education. We have recurring meetings where parents and families can obtain information and support in dealing with problems with drug abuse and addiction in their homes. ​ \nTuesday 6:30-8:00pm\nLink to join: https://zoom.us/j/2241277364\n​Passcode:  456745!
URL:https://allianceforsafekids.org/calendar/family-support-group-161/
CATEGORIES:Program
END:VEVENT
BEGIN:VEVENT
DTSTART;TZID=America/New_York:20250814T190000
DTEND;TZID=America/New_York:20250814T200000
DTSTAMP:20260424T042625
CREATED:20250523T111945Z
LAST-MODIFIED:20250523T111945Z
UID:12971-1755198000-1755201600@allianceforsafekids.org
SUMMARY:Yoga for Resilience
DESCRIPTION:Do You Have a Loved One Struggling with Addiction? Are you Feeling Overwhelmed? Carve out time for yourself so you may respond to your loved one with a clear mind and open heart. \nIn this class we will come together in a safe space to practice somatic mindfulness\, grounding & centering\, containment\, and breath regulation. \nWe will practice moving from freeze to flow to regulate the nervous system so we can become equipped to handle daily stressors. \nThis is not a place to share thoughts\, but rather an opportunity to dwell in the space between. \nBeginners are absolutely welcome. No experience is needed. \n45 minute Zoom Class\nEvery Thursday at 7PM\nInstructor: Justine Potenzo RYT 500 \nZoom Link: Meeting ID 2241277364 \nFor more information\, click here.
URL:https://allianceforsafekids.org/calendar/yoga-for-resilience-42/
CATEGORIES:Program
END:VEVENT
BEGIN:VEVENT
DTSTART;TZID=America/New_York:20250813T190000
DTEND;TZID=America/New_York:20250813T200000
DTSTAMP:20260424T042625
CREATED:20250523T111459Z
LAST-MODIFIED:20250523T111459Z
UID:12953-1755111600-1755115200@allianceforsafekids.org
SUMMARY:Family Support Group
DESCRIPTION:Drug Crisis in Our Backyard is pleased to offer Family Support Groups\, an interactive forum for family support and education. We have recurring meetings where parents and families can obtain information and support in dealing with problems with drug abuse and addiction in their homes. ​ \nWednesday 7-8pm\nLink to join: https://zoom.us/j/8534470100\n*No passcode required.
URL:https://allianceforsafekids.org/calendar/family-support-group-155/
CATEGORIES:Program
END:VEVENT
BEGIN:VEVENT
DTSTART;TZID=America/New_York:20250812T183000
DTEND;TZID=America/New_York:20250812T200000
DTSTAMP:20260424T042625
CREATED:20250523T111732Z
LAST-MODIFIED:20250523T111732Z
UID:12963-1755023400-1755028800@allianceforsafekids.org
SUMMARY:Family Support Group
DESCRIPTION:Drug Crisis in Our Backyard is pleased to offer Family Support Groups\, an interactive forum for family support and education. We have recurring meetings where parents and families can obtain information and support in dealing with problems with drug abuse and addiction in their homes. ​ \nTuesday 6:30-8:00pm\nLink to join: https://zoom.us/j/2241277364\n​Passcode:  456745!
URL:https://allianceforsafekids.org/calendar/family-support-group-160/
CATEGORIES:Program
END:VEVENT
BEGIN:VEVENT
DTSTART;TZID=America/New_York:20250807T190000
DTEND;TZID=America/New_York:20250807T200000
DTSTAMP:20260424T042625
CREATED:20250523T112022Z
LAST-MODIFIED:20250523T112022Z
UID:12973-1754593200-1754596800@allianceforsafekids.org
SUMMARY:Yoga for Resilience
DESCRIPTION:Do You Have a Loved One Struggling with Addiction? Are you Feeling Overwhelmed? Carve out time for yourself so you may respond to your loved one with a clear mind and open heart. \nIn this class we will come together in a safe space to practice somatic mindfulness\, grounding & centering\, containment\, and breath regulation. \nWe will practice moving from freeze to flow to regulate the nervous system so we can become equipped to handle daily stressors. \nThis is not a place to share thoughts\, but rather an opportunity to dwell in the space between. \nBeginners are absolutely welcome. No experience is needed. \n45 minute Zoom Class\nEvery Thursday at 7PM\nInstructor: Justine Potenzo RYT 500 \nZoom Link: Meeting ID 2241277364 \nFor more information\, click here.
URL:https://allianceforsafekids.org/calendar/yoga-for-resilience-43/
CATEGORIES:Program
END:VEVENT
BEGIN:VEVENT
DTSTART;TZID=America/New_York:20250806T190000
DTEND;TZID=America/New_York:20250806T200000
DTSTAMP:20260424T042625
CREATED:20250523T111434Z
LAST-MODIFIED:20250523T111434Z
UID:12951-1754506800-1754510400@allianceforsafekids.org
SUMMARY:Family Support Group
DESCRIPTION:Drug Crisis in Our Backyard is pleased to offer Family Support Groups\, an interactive forum for family support and education. We have recurring meetings where parents and families can obtain information and support in dealing with problems with drug abuse and addiction in their homes. ​ \nWednesday 7-8pm\nLink to join: https://zoom.us/j/8534470100\n*No passcode required.
URL:https://allianceforsafekids.org/calendar/family-support-group-154/
CATEGORIES:Program
END:VEVENT
BEGIN:VEVENT
DTSTART;TZID=America/New_York:20250805T183000
DTEND;TZID=America/New_York:20250805T200000
DTSTAMP:20260424T042625
CREATED:20250523T111708Z
LAST-MODIFIED:20250523T111708Z
UID:12961-1754418600-1754424000@allianceforsafekids.org
SUMMARY:Family Support Group
DESCRIPTION:Drug Crisis in Our Backyard is pleased to offer Family Support Groups\, an interactive forum for family support and education. We have recurring meetings where parents and families can obtain information and support in dealing with problems with drug abuse and addiction in their homes. ​ \nTuesday 6:30-8:00pm\nLink to join: https://zoom.us/j/2241277364\n​Passcode:  456745!
URL:https://allianceforsafekids.org/calendar/family-support-group-159/
CATEGORIES:Program
END:VEVENT
BEGIN:VEVENT
DTSTART;TZID=America/New_York:20250731T190000
DTEND;TZID=America/New_York:20250731T200000
DTSTAMP:20260424T042625
CREATED:20250523T110346Z
LAST-MODIFIED:20250523T110346Z
UID:12919-1753988400-1753992000@allianceforsafekids.org
SUMMARY:Yoga for Resilience
DESCRIPTION:Do You Have a Loved One Struggling with Addiction? Are you Feeling Overwhelmed? Carve out time for yourself so you may respond to your loved one with a clear mind and open heart. \nIn this class we will come together in a safe space to practice somatic mindfulness\, grounding & centering\, containment\, and breath regulation. \nWe will practice moving from freeze to flow to regulate the nervous system so we can become equipped to handle daily stressors. \nThis is not a place to share thoughts\, but rather an opportunity to dwell in the space between. \nBeginners are absolutely welcome. No experience is needed. \n45 minute Zoom Class\nEvery Thursday at 7PM\nInstructor: Justine Potenzo RYT 500 \nZoom Link: Meeting ID 2241277364 \nFor more information\, click here.
URL:https://allianceforsafekids.org/calendar/yoga-for-resilience-41/
CATEGORIES:Program
END:VEVENT
BEGIN:VEVENT
DTSTART;TZID=America/New_York:20250730T190000
DTEND;TZID=America/New_York:20250730T200000
DTSTAMP:20260424T042625
CREATED:20250523T111220Z
LAST-MODIFIED:20250523T111220Z
UID:12947-1753902000-1753905600@allianceforsafekids.org
SUMMARY:Family Support Group
DESCRIPTION:Drug Crisis in Our Backyard is pleased to offer Family Support Groups\, an interactive forum for family support and education. We have recurring meetings where parents and families can obtain information and support in dealing with problems with drug abuse and addiction in their homes. ​ \nWednesday 7-8pm\nLink to join: https://zoom.us/j/8534470100\n*No passcode required.
URL:https://allianceforsafekids.org/calendar/family-support-group-152/
CATEGORIES:Program
END:VEVENT
BEGIN:VEVENT
DTSTART;TZID=America/New_York:20250729T183000
DTEND;TZID=America/New_York:20250729T200000
DTSTAMP:20260424T042625
CREATED:20250523T110921Z
LAST-MODIFIED:20250523T110921Z
UID:12939-1753813800-1753819200@allianceforsafekids.org
SUMMARY:Family Support Group
DESCRIPTION:Drug Crisis in Our Backyard is pleased to offer Family Support Groups\, an interactive forum for family support and education. We have recurring meetings where parents and families can obtain information and support in dealing with problems with drug abuse and addiction in their homes. ​ \nTuesday 6:30-8:00pm\nLink to join: https://zoom.us/j/2241277364\n​Passcode:  456745!
URL:https://allianceforsafekids.org/calendar/family-support-group-148/
CATEGORIES:Program
END:VEVENT
BEGIN:VEVENT
DTSTART;TZID=America/New_York:20250724T190000
DTEND;TZID=America/New_York:20250724T200000
DTSTAMP:20260424T042625
CREATED:20250523T110322Z
LAST-MODIFIED:20250523T110322Z
UID:12917-1753383600-1753387200@allianceforsafekids.org
SUMMARY:Yoga for Resilience
DESCRIPTION:Do You Have a Loved One Struggling with Addiction? Are you Feeling Overwhelmed? Carve out time for yourself so you may respond to your loved one with a clear mind and open heart. \nIn this class we will come together in a safe space to practice somatic mindfulness\, grounding & centering\, containment\, and breath regulation. \nWe will practice moving from freeze to flow to regulate the nervous system so we can become equipped to handle daily stressors. \nThis is not a place to share thoughts\, but rather an opportunity to dwell in the space between. \nBeginners are absolutely welcome. No experience is needed. \n45 minute Zoom Class\nEvery Thursday at 7PM\nInstructor: Justine Potenzo RYT 500 \nZoom Link: Meeting ID 2241277364 \nFor more information\, click here.
URL:https://allianceforsafekids.org/calendar/yoga-for-resilience-40/
CATEGORIES:Program
END:VEVENT
BEGIN:VEVENT
DTSTART;TZID=America/New_York:20250723T190000
DTEND;TZID=America/New_York:20250723T200000
DTSTAMP:20260424T042625
CREATED:20250523T111325Z
LAST-MODIFIED:20250523T111325Z
UID:12949-1753297200-1753300800@allianceforsafekids.org
SUMMARY:Family Support Group
DESCRIPTION:Drug Crisis in Our Backyard is pleased to offer Family Support Groups\, an interactive forum for family support and education. We have recurring meetings where parents and families can obtain information and support in dealing with problems with drug abuse and addiction in their homes. ​ \nWednesday 7-8pm\nLink to join: https://zoom.us/j/8534470100\n*No passcode required.
URL:https://allianceforsafekids.org/calendar/family-support-group-153/
CATEGORIES:Program
END:VEVENT
BEGIN:VEVENT
DTSTART;TZID=America/New_York:20250722T183000
DTEND;TZID=America/New_York:20250722T200000
DTSTAMP:20260424T042625
CREATED:20250523T110847Z
LAST-MODIFIED:20250523T110847Z
UID:12937-1753209000-1753214400@allianceforsafekids.org
SUMMARY:Family Support Group
DESCRIPTION:Drug Crisis in Our Backyard is pleased to offer Family Support Groups\, an interactive forum for family support and education. We have recurring meetings where parents and families can obtain information and support in dealing with problems with drug abuse and addiction in their homes. ​ \nTuesday 6:30-8:00pm\nLink to join: https://zoom.us/j/2241277364\n​Passcode:  456745!
URL:https://allianceforsafekids.org/calendar/family-support-group-147/
CATEGORIES:Program
END:VEVENT
BEGIN:VEVENT
DTSTART;TZID=America/New_York:20250717T190000
DTEND;TZID=America/New_York:20250717T200000
DTSTAMP:20260424T042625
CREATED:20250523T110257Z
LAST-MODIFIED:20250523T110257Z
UID:12915-1752778800-1752782400@allianceforsafekids.org
SUMMARY:Yoga for Resilience
DESCRIPTION:Do You Have a Loved One Struggling with Addiction? Are you Feeling Overwhelmed? Carve out time for yourself so you may respond to your loved one with a clear mind and open heart. \nIn this class we will come together in a safe space to practice somatic mindfulness\, grounding & centering\, containment\, and breath regulation. \nWe will practice moving from freeze to flow to regulate the nervous system so we can become equipped to handle daily stressors. \nThis is not a place to share thoughts\, but rather an opportunity to dwell in the space between. \nBeginners are absolutely welcome. No experience is needed. \n45 minute Zoom Class\nEvery Thursday at 7PM\nInstructor: Justine Potenzo RYT 500 \nZoom Link: Meeting ID 2241277364 \nFor more information\, click here.
URL:https://allianceforsafekids.org/calendar/yoga-for-resilience-39/
CATEGORIES:Program
END:VEVENT
BEGIN:VEVENT
DTSTART;TZID=America/New_York:20250717T183000
DTEND;TZID=America/New_York:20250717T200000
DTSTAMP:20260424T042625
CREATED:20250523T110444Z
LAST-MODIFIED:20250523T110444Z
UID:12921-1752777000-1752782400@allianceforsafekids.org
SUMMARY:Virtual Naloxone Training
DESCRIPTION:Naloxone is a prescription medicine that reverses an overdose by blocking heroin or other opioids in the nervous system for 30-90 minutes. Naloxone is administered by injection or intranasal. Following training\, participants receive a kit by mail. Please join our partners at Drug Crisis in Our Backyard on Zoom at 6:30pm. Register by email: ssal@drugcrisisinourbackyard.com
URL:https://allianceforsafekids.org/calendar/virtual-naloxone-training-23/
CATEGORIES:Program
END:VEVENT
BEGIN:VEVENT
DTSTART;TZID=America/New_York:20250716T190000
DTEND;TZID=America/New_York:20250716T200000
DTSTAMP:20260424T042625
CREATED:20250523T111043Z
LAST-MODIFIED:20250523T111043Z
UID:12943-1752692400-1752696000@allianceforsafekids.org
SUMMARY:Family Support Group
DESCRIPTION:Drug Crisis in Our Backyard is pleased to offer Family Support Groups\, an interactive forum for family support and education. We have recurring meetings where parents and families can obtain information and support in dealing with problems with drug abuse and addiction in their homes. ​ \nWednesday 7-8pm\nLink to join: https://zoom.us/j/8534470100\n*No passcode required.
URL:https://allianceforsafekids.org/calendar/family-support-group-150/
CATEGORIES:Program
END:VEVENT
BEGIN:VEVENT
DTSTART;TZID=America/New_York:20250715T183000
DTEND;TZID=America/New_York:20250715T200000
DTSTAMP:20260424T042625
CREATED:20250523T110821Z
LAST-MODIFIED:20250523T110821Z
UID:12935-1752604200-1752609600@allianceforsafekids.org
SUMMARY:Family Support Group
DESCRIPTION:Drug Crisis in Our Backyard is pleased to offer Family Support Groups\, an interactive forum for family support and education. We have recurring meetings where parents and families can obtain information and support in dealing with problems with drug abuse and addiction in their homes. ​ \nTuesday 6:30-8:00pm\nLink to join: https://zoom.us/j/2241277364\n​Passcode:  456745!
URL:https://allianceforsafekids.org/calendar/family-support-group-146/
CATEGORIES:Program
END:VEVENT
BEGIN:VEVENT
DTSTART;TZID=America/New_York:20250710T190000
DTEND;TZID=America/New_York:20250710T200000
DTSTAMP:20260424T042625
CREATED:20250523T110232Z
LAST-MODIFIED:20250523T110232Z
UID:12913-1752174000-1752177600@allianceforsafekids.org
SUMMARY:Yoga for Resilience
DESCRIPTION:Do You Have a Loved One Struggling with Addiction? Are you Feeling Overwhelmed? Carve out time for yourself so you may respond to your loved one with a clear mind and open heart. \nIn this class we will come together in a safe space to practice somatic mindfulness\, grounding & centering\, containment\, and breath regulation. \nWe will practice moving from freeze to flow to regulate the nervous system so we can become equipped to handle daily stressors. \nThis is not a place to share thoughts\, but rather an opportunity to dwell in the space between. \nBeginners are absolutely welcome. No experience is needed. \n45 minute Zoom Class\nEvery Thursday at 7PM\nInstructor: Justine Potenzo RYT 500 \nZoom Link: Meeting ID 2241277364 \nFor more information\, click here.
URL:https://allianceforsafekids.org/calendar/yoga-for-resilience-38/
CATEGORIES:Program
END:VEVENT
BEGIN:VEVENT
DTSTART;TZID=America/New_York:20250709T190000
DTEND;TZID=America/New_York:20250709T200000
DTSTAMP:20260424T042625
CREATED:20250523T111013Z
LAST-MODIFIED:20250523T111013Z
UID:12941-1752087600-1752091200@allianceforsafekids.org
SUMMARY:Family Support Group
DESCRIPTION:Drug Crisis in Our Backyard is pleased to offer Family Support Groups\, an interactive forum for family support and education. We have recurring meetings where parents and families can obtain information and support in dealing with problems with drug abuse and addiction in their homes. ​ \nWednesday 7-8pm\nLink to join: https://zoom.us/j/8534470100\n*No passcode required.
URL:https://allianceforsafekids.org/calendar/family-support-group-149/
CATEGORIES:Program
END:VEVENT
BEGIN:VEVENT
DTSTART;TZID=America/New_York:20250708T183000
DTEND;TZID=America/New_York:20250708T200000
DTSTAMP:20260424T042625
CREATED:20250523T110757Z
LAST-MODIFIED:20250523T110757Z
UID:12933-1751999400-1752004800@allianceforsafekids.org
SUMMARY:Family Support Group
DESCRIPTION:Drug Crisis in Our Backyard is pleased to offer Family Support Groups\, an interactive forum for family support and education. We have recurring meetings where parents and families can obtain information and support in dealing with problems with drug abuse and addiction in their homes. ​ \nTuesday 6:30-8:00pm\nLink to join: https://zoom.us/j/2241277364\n​Passcode:  456745!
URL:https://allianceforsafekids.org/calendar/family-support-group-145/
CATEGORIES:Program
END:VEVENT
BEGIN:VEVENT
DTSTART;TZID=America/New_York:20250703T190000
DTEND;TZID=America/New_York:20250703T200000
DTSTAMP:20260424T042625
CREATED:20250523T110148Z
LAST-MODIFIED:20250523T110155Z
UID:12910-1751569200-1751572800@allianceforsafekids.org
SUMMARY:Yoga for Resilience
DESCRIPTION:Do You Have a Loved One Struggling with Addiction? Are you Feeling Overwhelmed? Carve out time for yourself so you may respond to your loved one with a clear mind and open heart. \nIn this class we will come together in a safe space to practice somatic mindfulness\, grounding & centering\, containment\, and breath regulation. \nWe will practice moving from freeze to flow to regulate the nervous system so we can become equipped to handle daily stressors. \nThis is not a place to share thoughts\, but rather an opportunity to dwell in the space between. \nBeginners are absolutely welcome. No experience is needed. \n45 minute Zoom Class\nEvery Thursday at 7PM\nInstructor: Justine Potenzo RYT 500 \nZoom Link: Meeting ID 2241277364 \nFor more information\, click here.
URL:https://allianceforsafekids.org/calendar/yoga-for-resilienc/
CATEGORIES:Program
END:VEVENT
BEGIN:VEVENT
DTSTART;TZID=America/New_York:20250702T190000
DTEND;TZID=America/New_York:20250702T200000
DTSTAMP:20260424T042625
CREATED:20250523T105855Z
LAST-MODIFIED:20250523T105855Z
UID:12900-1751482800-1751486400@allianceforsafekids.org
SUMMARY:Family Support Group
DESCRIPTION:Drug Crisis in Our Backyard is pleased to offer Family Support Groups\, an interactive forum for family support and education. We have recurring meetings where parents and families can obtain information and support in dealing with problems with drug abuse and addiction in their homes. ​ \nWednesday 7-8pm\nLink to join: https://zoom.us/j/8534470100\n*No passcode required.
URL:https://allianceforsafekids.org/calendar/family-support-group-144/
CATEGORIES:Program
END:VEVENT
END:VCALENDAR