BEGIN:VCALENDAR
VERSION:2.0
PRODID:-//Alliance For Safe Kids - ECPv6.15.20//NONSGML v1.0//EN
CALSCALE:GREGORIAN
METHOD:PUBLISH
X-WR-CALNAME:Alliance For Safe Kids
X-ORIGINAL-URL:https://allianceforsafekids.org
X-WR-CALDESC:Events for Alliance For Safe Kids
REFRESH-INTERVAL;VALUE=DURATION:PT1H
X-Robots-Tag:noindex
X-PUBLISHED-TTL:PT1H
BEGIN:VTIMEZONE
TZID:America/New_York
BEGIN:DAYLIGHT
TZOFFSETFROM:-0500
TZOFFSETTO:-0400
TZNAME:EDT
DTSTART:20220313T070000
END:DAYLIGHT
BEGIN:STANDARD
TZOFFSETFROM:-0400
TZOFFSETTO:-0500
TZNAME:EST
DTSTART:20221106T060000
END:STANDARD
BEGIN:DAYLIGHT
TZOFFSETFROM:-0500
TZOFFSETTO:-0400
TZNAME:EDT
DTSTART:20230312T070000
END:DAYLIGHT
BEGIN:STANDARD
TZOFFSETFROM:-0400
TZOFFSETTO:-0500
TZNAME:EST
DTSTART:20231105T060000
END:STANDARD
BEGIN:DAYLIGHT
TZOFFSETFROM:-0500
TZOFFSETTO:-0400
TZNAME:EDT
DTSTART:20240310T070000
END:DAYLIGHT
BEGIN:STANDARD
TZOFFSETFROM:-0400
TZOFFSETTO:-0500
TZNAME:EST
DTSTART:20241103T060000
END:STANDARD
END:VTIMEZONE
BEGIN:VEVENT
DTSTART;VALUE=DATE:20230518
DTEND;VALUE=DATE:20230519
DTSTAMP:20260423T200822
CREATED:20230325T001144Z
LAST-MODIFIED:20230325T001144Z
UID:12021-1684368000-1684454399@allianceforsafekids.org
SUMMARY:Virtual Overdose Prevention Training
DESCRIPTION:Naloxone is a prescription medicine that reverses an overdose by blocking heroin or other opioids in the nervous system for 30-90 minutes. Naloxone is administered by injection or intranasal. Following training\, participants receive a kit by mail. Presented by our partners at Drug Crisis in Our Backyard. Register by email: ssal@drugcrisisinourbackyard.com
URL:https://allianceforsafekids.org/calendar/virtual-overdose-prevention-training-13/
CATEGORIES:Community Events,Program
END:VEVENT
BEGIN:VEVENT
DTSTART;TZID=America/New_York:20230518T080000
DTEND;TZID=America/New_York:20230518T170000
DTSTAMP:20260423T200822
CREATED:20230415T103804Z
LAST-MODIFIED:20230415T103804Z
UID:12033-1684396800-1684429200@allianceforsafekids.org
SUMMARY:Virtual Overdose Prevention Training
DESCRIPTION:Naloxone is a prescription medicine that reverses an overdose by blocking heroin or other opioids in the nervous system for 30-90 minutes. Naloxone is administered by injection or intranasal. Following training\, participants receive a kit by mail. Presented by our partners at Drug Crisis in Our Backyard. Register by email: ssal@drugcrisisinourbackyard.com
URL:https://allianceforsafekids.org/calendar/virtual-overdose-prevention-training-15/
CATEGORIES:Program
END:VEVENT
BEGIN:VEVENT
DTSTART;TZID=America/New_York:20230523T183000
DTEND;TZID=America/New_York:20230523T200000
DTSTAMP:20260423T200822
CREATED:20230415T104750Z
LAST-MODIFIED:20230415T104750Z
UID:12047-1684866600-1684872000@allianceforsafekids.org
SUMMARY:Spotlight on Recovery – Family Support Group – Tuesday
DESCRIPTION:Drug Crisis in Our Backyard is pleased to offer Family Support Groups\, an interactive forum for family support and education. We have recurring meetings where parents and families can obtain information and support in dealing with problems with drug abuse and addiction in their homes. ​ \nTuesday 6:30-8:00pm\nLink to join: https://zoom.us/j/2241277364\n​Passcode:  456745!
URL:https://allianceforsafekids.org/calendar/spotlight-on-recovery-family-support-group-tuesday-7/
CATEGORIES:Program
END:VEVENT
BEGIN:VEVENT
DTSTART;TZID=America/New_York:20230524T190000
DTEND;TZID=America/New_York:20230524T200000
DTSTAMP:20260423T200822
CREATED:20230415T105503Z
LAST-MODIFIED:20230415T105503Z
UID:12061-1684954800-1684958400@allianceforsafekids.org
SUMMARY:Spotlight on Recovery – Family Support Group – Wednesday
DESCRIPTION:Drug Crisis in Our Backyard is pleased to offer Family Support Groups\, an interactive forum for family support and education. We have recurring meetings where parents and families can obtain information and support in dealing with problems with drug abuse and addiction in their homes. ​ \nWednesday 7-8pm\nLink to join: https://zoom.us/j/8534470100\n*No passcode required.
URL:https://allianceforsafekids.org/calendar/spotlight-on-recovery-family-support-group-wednesday-8/
CATEGORIES:Program
END:VEVENT
BEGIN:VEVENT
DTSTART;TZID=America/New_York:20230530T183000
DTEND;TZID=America/New_York:20230530T200000
DTSTAMP:20260423T200822
CREATED:20230415T104829Z
LAST-MODIFIED:20230415T104829Z
UID:12049-1685471400-1685476800@allianceforsafekids.org
SUMMARY:Spotlight on Recovery – Family Support Group – Tuesday
DESCRIPTION:Drug Crisis in Our Backyard is pleased to offer Family Support Groups\, an interactive forum for family support and education. We have recurring meetings where parents and families can obtain information and support in dealing with problems with drug abuse and addiction in their homes. ​ \nTuesday 6:30-8:00pm\nLink to join: https://zoom.us/j/2241277364\n​Passcode:  456745!
URL:https://allianceforsafekids.org/calendar/spotlight-on-recovery-family-support-group-tuesday-8/
CATEGORIES:Program
END:VEVENT
BEGIN:VEVENT
DTSTART;TZID=America/New_York:20230531T190000
DTEND;TZID=America/New_York:20230531T200000
DTSTAMP:20260423T200822
CREATED:20230415T105616Z
LAST-MODIFIED:20230415T105616Z
UID:12065-1685559600-1685563200@allianceforsafekids.org
SUMMARY:Spotlight on Recovery – Family Support Group – Wednesday
DESCRIPTION:Drug Crisis in Our Backyard is pleased to offer Family Support Groups\, an interactive forum for family support and education. We have recurring meetings where parents and families can obtain information and support in dealing with problems with drug abuse and addiction in their homes. ​ \nWednesday 7-8pm\nLink to join: https://zoom.us/j/8534470100\n*No passcode required.
URL:https://allianceforsafekids.org/calendar/spotlight-on-recovery-family-support-group-wednesday-10/
CATEGORIES:Program
END:VEVENT
BEGIN:VEVENT
DTSTART;TZID=America/New_York:20230607T190000
DTEND;TZID=America/New_York:20230607T200000
DTSTAMP:20260423T200822
CREATED:20230415T105539Z
LAST-MODIFIED:20230426T105631Z
UID:12063-1686164400-1686168000@allianceforsafekids.org
SUMMARY:Spotlight on Recovery – Family Support Group – Wednesday
DESCRIPTION:Drug Crisis in Our Backyard is pleased to offer Family Support Groups\, an interactive forum for family support and education. We have recurring meetings where parents and families can obtain information and support in dealing with problems with drug abuse and addiction in their homes. ​ \nWednesday 7-8pm\nLink to join: https://zoom.us/j/8534470100\n*No passcode required.
URL:https://allianceforsafekids.org/calendar/spotlight-on-recovery-family-support-group-wednesday-9/
CATEGORIES:Program
END:VEVENT
BEGIN:VEVENT
DTSTART;TZID=America/New_York:20230612T130000
DTEND;TZID=America/New_York:20230612T140000
DTSTAMP:20260423T200822
CREATED:20230531T104835Z
LAST-MODIFIED:20230531T104835Z
UID:12082-1686574800-1686578400@allianceforsafekids.org
SUMMARY:Talking to Kids About Mental Health
DESCRIPTION:Children are curious about their environment and the people around them. How do we answer their questions about mental health? Register now.
URL:https://allianceforsafekids.org/calendar/talking-to-kids-about-mental-health-2/
CATEGORIES:Community Events
END:VEVENT
BEGIN:VEVENT
DTSTART;TZID=America/New_York:20230613T130000
DTEND;TZID=America/New_York:20230613T140000
DTSTAMP:20260423T200822
CREATED:20230531T104932Z
LAST-MODIFIED:20230531T104932Z
UID:12084-1686661200-1686664800@allianceforsafekids.org
SUMMARY:Pride in Myself
DESCRIPTION:During this webinar\, LGBTQ+ voices will share how self-acceptance\, self-compassion\, queer joy\, and pride in their identities have impacted their mental health. Register now.
URL:https://allianceforsafekids.org/calendar/pride-in-myself/
CATEGORIES:Community Events
END:VEVENT
BEGIN:VEVENT
DTSTART;TZID=America/New_York:20230613T130000
DTEND;TZID=America/New_York:20230613T140000
DTSTAMP:20260423T200822
CREATED:20230531T105204Z
LAST-MODIFIED:20230531T105204Z
UID:12087-1686661200-1686664800@allianceforsafekids.org
SUMMARY:The Impact of Trauma on Childhood and Teen Development
DESCRIPTION:Register now.
URL:https://allianceforsafekids.org/calendar/the-impact-of-trauma-on-childhood-and-teen-development/
END:VEVENT
BEGIN:VEVENT
DTSTART;VALUE=DATE:20230615
DTEND;VALUE=DATE:20230616
DTSTAMP:20260423T200822
CREATED:20230325T001210Z
LAST-MODIFIED:20230325T001210Z
UID:12023-1686787200-1686873599@allianceforsafekids.org
SUMMARY:Virtual Overdose Prevention Training
DESCRIPTION:Naloxone is a prescription medicine that reverses an overdose by blocking heroin or other opioids in the nervous system for 30-90 minutes. Naloxone is administered by injection or intranasal. Following training\, participants receive a kit by mail. Presented by our partners at Drug Crisis in Our Backyard. Register by email: ssal@drugcrisisinourbackyard.com
URL:https://allianceforsafekids.org/calendar/virtual-overdose-prevention-training-14/
CATEGORIES:Program
END:VEVENT
BEGIN:VEVENT
DTSTART;TZID=America/New_York:20230626T130000
DTEND;TZID=America/New_York:20230626T143000
DTSTAMP:20260423T200822
CREATED:20230531T105332Z
LAST-MODIFIED:20230531T105332Z
UID:12089-1687784400-1687789800@allianceforsafekids.org
SUMMARY:Depression and Suicide in Young People
DESCRIPTION:Learn what factors contribute to youth depression and suicide\, the signs and symptoms\, and what we can do to prevent it. Register now.
URL:https://allianceforsafekids.org/calendar/depression-and-suicide-in-young-people/
END:VEVENT
BEGIN:VEVENT
DTSTART;VALUE=DATE:20230705
DTEND;VALUE=DATE:20230706
DTSTAMP:20260423T200822
CREATED:20230628T005748Z
LAST-MODIFIED:20230628T005748Z
UID:12095-1688515200-1688601599@allianceforsafekids.org
SUMMARY:Stress: Signs\, Symptoms\, Management and Prevention
DESCRIPTION:Understand the biology of stress and explore realistic and practical ways to manage distress in this one-hour seminar with a licensed therapist. Register here.
URL:https://allianceforsafekids.org/calendar/stress-signs-symptoms-management-and-prevention-4/
CATEGORIES:Community Events
END:VEVENT
BEGIN:VEVENT
DTSTART;VALUE=DATE:20230717
DTEND;VALUE=DATE:20230718
DTSTAMP:20260423T200822
CREATED:20230628T005820Z
LAST-MODIFIED:20230628T005820Z
UID:12097-1689552000-1689638399@allianceforsafekids.org
SUMMARY:Understanding OCD in Children and Adolescents
DESCRIPTION:Discuss OCD symptoms and causes\, the impact on social and emotional development\, and what treatment options are available with a licensed therapist. Register here.
URL:https://allianceforsafekids.org/calendar/understanding-ocd-in-children-and-adolescents/
CATEGORIES:Community Events
END:VEVENT
BEGIN:VEVENT
DTSTART;VALUE=DATE:20230731
DTEND;VALUE=DATE:20230801
DTSTAMP:20260423T200822
CREATED:20230628T005853Z
LAST-MODIFIED:20230628T005853Z
UID:12099-1690761600-1690847999@allianceforsafekids.org
SUMMARY:The Power of Play
DESCRIPTION:Learn how play impacts mental health\, learning\, and social-emotional connections from childhood through adolescence\, and explore how play can strengthen family connections. Discuss what you can do to promote the power of play in your home & community in this one-hour seminar. Register here.
URL:https://allianceforsafekids.org/calendar/the-power-of-play-2/
CATEGORIES:Community Events
END:VEVENT
BEGIN:VEVENT
DTSTART;VALUE=DATE:20230801
DTEND;VALUE=DATE:20230802
DTSTAMP:20260423T200822
CREATED:20230628T010011Z
LAST-MODIFIED:20230628T010011Z
UID:12101-1690848000-1690934399@allianceforsafekids.org
SUMMARY:National Night Out
DESCRIPTION:Join ASK at the Yorktown Police Department’s National Night Out. This wonderful community event will be held at the Jack DeVito Veterans’ Memorial Track and Field.
URL:https://allianceforsafekids.org/calendar/national-night-out/
LOCATION:Jack DeVito Veterans’ Memorial Field & Track\, Veterans Road\, Yorktown Heights\, NY\, 10598\, United States
CATEGORIES:Community Events
END:VEVENT
BEGIN:VEVENT
DTSTART;VALUE=DATE:20230930
DTEND;VALUE=DATE:20231001
DTSTAMP:20260423T200822
CREATED:20230628T010053Z
LAST-MODIFIED:20230628T010053Z
UID:12103-1696032000-1696118399@allianceforsafekids.org
SUMMARY:Run for Recovery 5K Run/Walk
DESCRIPTION:To sponsor\, join or donate to the ASK team or to register\, click here.
URL:https://allianceforsafekids.org/calendar/run-for-recovery-5k-run-walk/
CATEGORIES:Community Events
END:VEVENT
BEGIN:VEVENT
DTSTART;TZID=America/New_York:20231031T183000
DTEND;TZID=America/New_York:20231031T200000
DTSTAMP:20260423T200822
CREATED:20231025T104814Z
LAST-MODIFIED:20231025T104814Z
UID:12172-1698777000-1698782400@allianceforsafekids.org
SUMMARY:Family Support Group
DESCRIPTION:Drug Crisis in Our Backyard is pleased to offer Family Support Groups\, an interactive forum for family support and education. We have recurring meetings where parents and families can obtain information and support in dealing with problems with drug abuse and addiction in their homes. ​ \nTuesday 6:30-8:00pm\nLink to join: https://zoom.us/j/2241277364\n​Passcode:  456745!
URL:https://allianceforsafekids.org/calendar/family-support-group-2/
CATEGORIES:Program
END:VEVENT
BEGIN:VEVENT
DTSTART;TZID=America/New_York:20231101T190000
DTEND;TZID=America/New_York:20231101T200000
DTSTAMP:20260423T200822
CREATED:20231025T105358Z
LAST-MODIFIED:20231025T105358Z
UID:12190-1698865200-1698868800@allianceforsafekids.org
SUMMARY:Family Support Group
DESCRIPTION:Drug Crisis in Our Backyard is pleased to offer Family Support Groups\, an interactive forum for family support and education. We have recurring meetings where parents and families can obtain information and support in dealing with problems with drug abuse and addiction in their homes. ​ \nWednesday 7-8pm\nLink to join: https://zoom.us/j/8534470100\n*No passcode required.
URL:https://allianceforsafekids.org/calendar/family-support-group-11/
CATEGORIES:Program
END:VEVENT
BEGIN:VEVENT
DTSTART;TZID=America/New_York:20231107T183000
DTEND;TZID=America/New_York:20231107T200000
DTSTAMP:20260423T200822
CREATED:20231025T104859Z
LAST-MODIFIED:20231025T104859Z
UID:12174-1699381800-1699387200@allianceforsafekids.org
SUMMARY:Family Support Group
DESCRIPTION:Drug Crisis in Our Backyard is pleased to offer Family Support Groups\, an interactive forum for family support and education. We have recurring meetings where parents and families can obtain information and support in dealing with problems with drug abuse and addiction in their homes. ​ \nTuesday 6:30-8:00pm\nLink to join: https://zoom.us/j/2241277364\n​Passcode:  456745!
URL:https://allianceforsafekids.org/calendar/family-support-group-3/
CATEGORIES:Program
END:VEVENT
BEGIN:VEVENT
DTSTART;TZID=America/New_York:20231108T190000
DTEND;TZID=America/New_York:20231108T200000
DTSTAMP:20260423T200822
CREATED:20231025T105435Z
LAST-MODIFIED:20231025T105435Z
UID:12192-1699470000-1699473600@allianceforsafekids.org
SUMMARY:Family Support Group
DESCRIPTION:Drug Crisis in Our Backyard is pleased to offer Family Support Groups\, an interactive forum for family support and education. We have recurring meetings where parents and families can obtain information and support in dealing with problems with drug abuse and addiction in their homes. ​ \nWednesday 7-8pm\nLink to join: https://zoom.us/j/8534470100\n*No passcode required.
URL:https://allianceforsafekids.org/calendar/family-support-group-12/
CATEGORIES:Program
END:VEVENT
BEGIN:VEVENT
DTSTART;TZID=America/New_York:20231114T183000
DTEND;TZID=America/New_York:20231114T200000
DTSTAMP:20260423T200822
CREATED:20231025T104945Z
LAST-MODIFIED:20231025T104945Z
UID:12176-1699986600-1699992000@allianceforsafekids.org
SUMMARY:Family Support Group
DESCRIPTION:Drug Crisis in Our Backyard is pleased to offer Family Support Groups\, an interactive forum for family support and education. We have recurring meetings where parents and families can obtain information and support in dealing with problems with drug abuse and addiction in their homes. ​ \nTuesday 6:30-8:00pm\nLink to join: https://zoom.us/j/2241277364\n​Passcode:  456745!
URL:https://allianceforsafekids.org/calendar/family-support-group-4/
CATEGORIES:Program
END:VEVENT
BEGIN:VEVENT
DTSTART;TZID=America/New_York:20231115T190000
DTEND;TZID=America/New_York:20231115T200000
DTSTAMP:20260423T200822
CREATED:20231025T105501Z
LAST-MODIFIED:20231025T105501Z
UID:12194-1700074800-1700078400@allianceforsafekids.org
SUMMARY:Family Support Group
DESCRIPTION:Drug Crisis in Our Backyard is pleased to offer Family Support Groups\, an interactive forum for family support and education. We have recurring meetings where parents and families can obtain information and support in dealing with problems with drug abuse and addiction in their homes. ​ \nWednesday 7-8pm\nLink to join: https://zoom.us/j/8534470100\n*No passcode required.
URL:https://allianceforsafekids.org/calendar/family-support-group-13/
CATEGORIES:Program
END:VEVENT
BEGIN:VEVENT
DTSTART;VALUE=DATE:20231116
DTEND;VALUE=DATE:20231117
DTSTAMP:20260423T200822
CREATED:20231025T102208Z
LAST-MODIFIED:20231025T102208Z
UID:12156-1700092800-1700179199@allianceforsafekids.org
SUMMARY:Virtual Naloxone Training
DESCRIPTION:Naloxone is a prescription medicine that reverses an overdose by blocking heroin or other opioids in the nervous system for 30-90 minutes. Naloxone is administered by injection or intranasal. Following training\, participants receive a kit by mail. Presented by our partners at Drug Crisis in Our Backyard. Register by email: ssal@drugcrisisinourbackyard.com
URL:https://allianceforsafekids.org/calendar/virtual-naloxone-training-4/
LOCATION:Webinar
CATEGORIES:Community Events
ORGANIZER;CN="Alliance for Safe Kids":MAILTO:info@allianceforsafekids.org
END:VEVENT
BEGIN:VEVENT
DTSTART;TZID=America/New_York:20231121T183000
DTEND;TZID=America/New_York:20231121T200000
DTSTAMP:20260423T200822
CREATED:20231025T105014Z
LAST-MODIFIED:20231025T105014Z
UID:12178-1700591400-1700596800@allianceforsafekids.org
SUMMARY:Family Support Group
DESCRIPTION:Drug Crisis in Our Backyard is pleased to offer Family Support Groups\, an interactive forum for family support and education. We have recurring meetings where parents and families can obtain information and support in dealing with problems with drug abuse and addiction in their homes. ​ \nTuesday 6:30-8:00pm\nLink to join: https://zoom.us/j/2241277364\n​Passcode:  456745!
URL:https://allianceforsafekids.org/calendar/family-support-group-5/
CATEGORIES:Program
END:VEVENT
BEGIN:VEVENT
DTSTART;TZID=America/New_York:20231122T190000
DTEND;TZID=America/New_York:20231122T200000
DTSTAMP:20260423T200822
CREATED:20231025T105600Z
LAST-MODIFIED:20231025T105600Z
UID:12196-1700679600-1700683200@allianceforsafekids.org
SUMMARY:Family Support Group
DESCRIPTION:Drug Crisis in Our Backyard is pleased to offer Family Support Groups\, an interactive forum for family support and education. We have recurring meetings where parents and families can obtain information and support in dealing with problems with drug abuse and addiction in their homes. ​ \nWednesday 7-8pm\nLink to join: https://zoom.us/j/8534470100\n*No passcode required.
URL:https://allianceforsafekids.org/calendar/family-support-group-14/
CATEGORIES:Program
END:VEVENT
BEGIN:VEVENT
DTSTART;TZID=America/New_York:20231128T183000
DTEND;TZID=America/New_York:20231128T200000
DTSTAMP:20260423T200822
CREATED:20231025T105043Z
LAST-MODIFIED:20231025T105043Z
UID:12180-1701196200-1701201600@allianceforsafekids.org
SUMMARY:Family Support Group
DESCRIPTION:Drug Crisis in Our Backyard is pleased to offer Family Support Groups\, an interactive forum for family support and education. We have recurring meetings where parents and families can obtain information and support in dealing with problems with drug abuse and addiction in their homes. ​ \nTuesday 6:30-8:00pm\nLink to join: https://zoom.us/j/2241277364\n​Passcode:  456745!
URL:https://allianceforsafekids.org/calendar/family-support-group-6/
CATEGORIES:Program
END:VEVENT
BEGIN:VEVENT
DTSTART;TZID=America/New_York:20231129T190000
DTEND;TZID=America/New_York:20231129T200000
DTSTAMP:20260423T200822
CREATED:20231025T105631Z
LAST-MODIFIED:20231025T105631Z
UID:12198-1701284400-1701288000@allianceforsafekids.org
SUMMARY:Family Support Group
DESCRIPTION:Drug Crisis in Our Backyard is pleased to offer Family Support Groups\, an interactive forum for family support and education. We have recurring meetings where parents and families can obtain information and support in dealing with problems with drug abuse and addiction in their homes. ​ \nWednesday 7-8pm\nLink to join: https://zoom.us/j/8534470100\n*No passcode required.
URL:https://allianceforsafekids.org/calendar/family-support-group-15/
CATEGORIES:Program
END:VEVENT
BEGIN:VEVENT
DTSTART;TZID=America/New_York:20231205T183000
DTEND;TZID=America/New_York:20231205T200000
DTSTAMP:20260423T200822
CREATED:20231025T105115Z
LAST-MODIFIED:20231025T105115Z
UID:12182-1701801000-1701806400@allianceforsafekids.org
SUMMARY:Family Support Group
DESCRIPTION:Drug Crisis in Our Backyard is pleased to offer Family Support Groups\, an interactive forum for family support and education. We have recurring meetings where parents and families can obtain information and support in dealing with problems with drug abuse and addiction in their homes. ​ \nTuesday 6:30-8:00pm\nLink to join: https://zoom.us/j/2241277364\n​Passcode:  456745!
URL:https://allianceforsafekids.org/calendar/family-support-group-7/
CATEGORIES:Program
END:VEVENT
BEGIN:VEVENT
DTSTART;TZID=America/New_York:20231206T190000
DTEND;TZID=America/New_York:20231206T200000
DTSTAMP:20260423T200822
CREATED:20231025T105657Z
LAST-MODIFIED:20231025T105657Z
UID:12200-1701889200-1701892800@allianceforsafekids.org
SUMMARY:Family Support Group
DESCRIPTION:Drug Crisis in Our Backyard is pleased to offer Family Support Groups\, an interactive forum for family support and education. We have recurring meetings where parents and families can obtain information and support in dealing with problems with drug abuse and addiction in their homes. ​ \nWednesday 7-8pm\nLink to join: https://zoom.us/j/8534470100\n*No passcode required.
URL:https://allianceforsafekids.org/calendar/family-support-group-16/
CATEGORIES:Program
END:VEVENT
END:VCALENDAR