BEGIN:VCALENDAR
VERSION:2.0
PRODID:-//Alliance For Safe Kids - ECPv6.15.20//NONSGML v1.0//EN
CALSCALE:GREGORIAN
METHOD:PUBLISH
X-WR-CALNAME:Alliance For Safe Kids
X-ORIGINAL-URL:https://allianceforsafekids.org
X-WR-CALDESC:Events for Alliance For Safe Kids
REFRESH-INTERVAL;VALUE=DURATION:PT1H
X-Robots-Tag:noindex
X-PUBLISHED-TTL:PT1H
BEGIN:VTIMEZONE
TZID:America/New_York
BEGIN:DAYLIGHT
TZOFFSETFROM:-0500
TZOFFSETTO:-0400
TZNAME:EDT
DTSTART:20240310T070000
END:DAYLIGHT
BEGIN:STANDARD
TZOFFSETFROM:-0400
TZOFFSETTO:-0500
TZNAME:EST
DTSTART:20241103T060000
END:STANDARD
BEGIN:DAYLIGHT
TZOFFSETFROM:-0500
TZOFFSETTO:-0400
TZNAME:EDT
DTSTART:20250309T070000
END:DAYLIGHT
BEGIN:STANDARD
TZOFFSETFROM:-0400
TZOFFSETTO:-0500
TZNAME:EST
DTSTART:20251102T060000
END:STANDARD
BEGIN:DAYLIGHT
TZOFFSETFROM:-0500
TZOFFSETTO:-0400
TZNAME:EDT
DTSTART:20260308T070000
END:DAYLIGHT
BEGIN:STANDARD
TZOFFSETFROM:-0400
TZOFFSETTO:-0500
TZNAME:EST
DTSTART:20261101T060000
END:STANDARD
END:VTIMEZONE
BEGIN:VEVENT
DTSTART;TZID=America/New_York:20251105T190000
DTEND;TZID=America/New_York:20251105T200000
DTSTAMP:20260423T165538
CREATED:20250927T112920Z
LAST-MODIFIED:20250927T112920Z
UID:13052-1762369200-1762372800@allianceforsafekids.org
SUMMARY:Family Support Group
DESCRIPTION:Drug Crisis in Our Backyard is pleased to offer Family Support Groups\, an interactive forum for family support and education. We have recurring meetings where parents and families can obtain information and support in dealing with problems with drug abuse and addiction in their homes. ​ \nWednesday 7-8pm\nLink to join: https://zoom.us/j/8534470100\n*No passcode required.
URL:https://allianceforsafekids.org/calendar/family-support-group-184/
CATEGORIES:Community Events,Program
END:VEVENT
BEGIN:VEVENT
DTSTART;TZID=America/New_York:20251104T183000
DTEND;TZID=America/New_York:20251104T200000
DTSTAMP:20260423T165538
CREATED:20250927T112249Z
LAST-MODIFIED:20250927T112249Z
UID:13036-1762281000-1762286400@allianceforsafekids.org
SUMMARY:Family Support Group
DESCRIPTION:Drug Crisis in Our Backyard is pleased to offer Family Support Groups\, an interactive forum for family support and education. We have recurring meetings where parents and families can obtain information and support in dealing with problems with drug abuse and addiction in their homes. ​ \nTuesday 6:30-8:00pm\nLink to join: https://zoom.us/j/2241277364\n​Passcode:  456745!
URL:https://allianceforsafekids.org/calendar/family-support-group-176/
CATEGORIES:Community Events,Program
END:VEVENT
BEGIN:VEVENT
DTSTART;TZID=America/New_York:20251030T190000
DTEND;TZID=America/New_York:20251030T200000
DTSTAMP:20260423T165538
CREATED:20250927T113459Z
LAST-MODIFIED:20250927T113459Z
UID:13066-1761850800-1761854400@allianceforsafekids.org
SUMMARY:Yoga for Resilience
DESCRIPTION:Do You Have a Loved One Struggling with Addiction? Are you Feeling Overwhelmed? Carve out time for yourself so you may respond to your loved one with a clear mind and open heart. \nIn this class we will come together in a safe space to practice somatic mindfulness\, grounding & centering\, containment\, and breath regulation. \nWe will practice moving from freeze to flow to regulate the nervous system so we can become equipped to handle daily stressors. \nThis is not a place to share thoughts\, but rather an opportunity to dwell in the space between. \nBeginners are absolutely welcome. No experience is needed. \n45 minute Zoom Class\nEvery Thursday at 7PM\nInstructor: Justine Potenzo RYT 500 \nZoom Link: Meeting ID 2241277364 \nFor more information\, click here.
URL:https://allianceforsafekids.org/calendar/yoga-for-resilience-53/
CATEGORIES:Community Events,Program
END:VEVENT
BEGIN:VEVENT
DTSTART;TZID=America/New_York:20251029T190000
DTEND;TZID=America/New_York:20251029T200000
DTSTAMP:20260423T165538
CREATED:20250927T112851Z
LAST-MODIFIED:20250927T112851Z
UID:13050-1761764400-1761768000@allianceforsafekids.org
SUMMARY:Family Support Group
DESCRIPTION:Drug Crisis in Our Backyard is pleased to offer Family Support Groups\, an interactive forum for family support and education. We have recurring meetings where parents and families can obtain information and support in dealing with problems with drug abuse and addiction in their homes. ​ \nWednesday 7-8pm\nLink to join: https://zoom.us/j/8534470100\n*No passcode required.
URL:https://allianceforsafekids.org/calendar/family-support-group-183/
CATEGORIES:Community Events,Program
END:VEVENT
BEGIN:VEVENT
DTSTART;TZID=America/New_York:20251028T183000
DTEND;TZID=America/New_York:20251028T200000
DTSTAMP:20260423T165538
CREATED:20250927T112113Z
LAST-MODIFIED:20250927T112113Z
UID:13034-1761676200-1761681600@allianceforsafekids.org
SUMMARY:Family Support Group
DESCRIPTION:Drug Crisis in Our Backyard is pleased to offer Family Support Groups\, an interactive forum for family support and education. We have recurring meetings where parents and families can obtain information and support in dealing with problems with drug abuse and addiction in their homes. ​ \nTuesday 6:30-8:00pm\nLink to join: https://zoom.us/j/2241277364\n​Passcode:  456745!
URL:https://allianceforsafekids.org/calendar/family-support-group-175/
CATEGORIES:Community Events,Program
END:VEVENT
BEGIN:VEVENT
DTSTART;TZID=America/New_York:20251023T190000
DTEND;TZID=America/New_York:20251023T200000
DTSTAMP:20260423T165538
CREATED:20250927T113423Z
LAST-MODIFIED:20250927T113423Z
UID:13064-1761246000-1761249600@allianceforsafekids.org
SUMMARY:Yoga for Resilience
DESCRIPTION:Do You Have a Loved One Struggling with Addiction? Are you Feeling Overwhelmed? Carve out time for yourself so you may respond to your loved one with a clear mind and open heart. \nIn this class we will come together in a safe space to practice somatic mindfulness\, grounding & centering\, containment\, and breath regulation. \nWe will practice moving from freeze to flow to regulate the nervous system so we can become equipped to handle daily stressors. \nThis is not a place to share thoughts\, but rather an opportunity to dwell in the space between. \nBeginners are absolutely welcome. No experience is needed. \n45 minute Zoom Class\nEvery Thursday at 7PM\nInstructor: Justine Potenzo RYT 500 \nZoom Link: Meeting ID 2241277364 \nFor more information\, click here.
URL:https://allianceforsafekids.org/calendar/yoga-for-resilience-52/
CATEGORIES:Community Events,Program
END:VEVENT
BEGIN:VEVENT
DTSTART;TZID=America/New_York:20251022T190000
DTEND;TZID=America/New_York:20251022T200000
DTSTAMP:20260423T165538
CREATED:20250927T112806Z
LAST-MODIFIED:20250927T112806Z
UID:13048-1761159600-1761163200@allianceforsafekids.org
SUMMARY:Family Support Group
DESCRIPTION:Drug Crisis in Our Backyard is pleased to offer Family Support Groups\, an interactive forum for family support and education. We have recurring meetings where parents and families can obtain information and support in dealing with problems with drug abuse and addiction in their homes. ​ \nWednesday 7-8pm\nLink to join: https://zoom.us/j/8534470100\n*No passcode required.
URL:https://allianceforsafekids.org/calendar/family-support-group-182/
CATEGORIES:Community Events,Program
END:VEVENT
BEGIN:VEVENT
DTSTART;TZID=America/New_York:20251021T183000
DTEND;TZID=America/New_York:20251021T200000
DTSTAMP:20260423T165538
CREATED:20250927T112026Z
LAST-MODIFIED:20250927T112026Z
UID:13032-1761071400-1761076800@allianceforsafekids.org
SUMMARY:Family Support Group
DESCRIPTION:Drug Crisis in Our Backyard is pleased to offer Family Support Groups\, an interactive forum for family support and education. We have recurring meetings where parents and families can obtain information and support in dealing with problems with drug abuse and addiction in their homes. ​ \nTuesday 6:30-8:00pm\nLink to join: https://zoom.us/j/2241277364\n​Passcode:  456745!
URL:https://allianceforsafekids.org/calendar/family-support-group-174/
CATEGORIES:Community Events,Program
END:VEVENT
BEGIN:VEVENT
DTSTART;TZID=America/New_York:20251016T190000
DTEND;TZID=America/New_York:20251016T200000
DTSTAMP:20260423T165538
CREATED:20250927T113351Z
LAST-MODIFIED:20250927T113351Z
UID:13062-1760641200-1760644800@allianceforsafekids.org
SUMMARY:Yoga for Resilience
DESCRIPTION:Do You Have a Loved One Struggling with Addiction? Are you Feeling Overwhelmed? Carve out time for yourself so you may respond to your loved one with a clear mind and open heart. \nIn this class we will come together in a safe space to practice somatic mindfulness\, grounding & centering\, containment\, and breath regulation. \nWe will practice moving from freeze to flow to regulate the nervous system so we can become equipped to handle daily stressors. \nThis is not a place to share thoughts\, but rather an opportunity to dwell in the space between. \nBeginners are absolutely welcome. No experience is needed. \n45 minute Zoom Class\nEvery Thursday at 7PM\nInstructor: Justine Potenzo RYT 500 \nZoom Link: Meeting ID 2241277364 \nFor more information\, click here.
URL:https://allianceforsafekids.org/calendar/yoga-for-resilience-51/
CATEGORIES:Community Events,Program
END:VEVENT
BEGIN:VEVENT
DTSTART;TZID=America/New_York:20251016T183000
DTEND;TZID=America/New_York:20251016T200000
DTSTAMP:20260423T165538
CREATED:20250523T110608Z
LAST-MODIFIED:20250523T110608Z
UID:12927-1760639400-1760644800@allianceforsafekids.org
SUMMARY:Virtual Naloxone Training
DESCRIPTION:Naloxone is a prescription medicine that reverses an overdose by blocking heroin or other opioids in the nervous system for 30-90 minutes. Naloxone is administered by injection or intranasal. Following training\, participants receive a kit by mail. Please join our partners at Drug Crisis in Our Backyard on Zoom at 6:30pm. Register by email: ssal@drugcrisisinourbackyard.com
URL:https://allianceforsafekids.org/calendar/virtual-naloxone-training-26/
CATEGORIES:Program
END:VEVENT
BEGIN:VEVENT
DTSTART;TZID=America/New_York:20251015T190000
DTEND;TZID=America/New_York:20251015T200000
DTSTAMP:20260423T165538
CREATED:20250927T112723Z
LAST-MODIFIED:20250927T112723Z
UID:13046-1760554800-1760558400@allianceforsafekids.org
SUMMARY:Family Support Group
DESCRIPTION:Drug Crisis in Our Backyard is pleased to offer Family Support Groups\, an interactive forum for family support and education. We have recurring meetings where parents and families can obtain information and support in dealing with problems with drug abuse and addiction in their homes. ​ \nWednesday 7-8pm\nLink to join: https://zoom.us/j/8534470100\n*No passcode required.
URL:https://allianceforsafekids.org/calendar/family-support-group-181/
CATEGORIES:Community Events,Program
END:VEVENT
BEGIN:VEVENT
DTSTART;TZID=America/New_York:20251014T183000
DTEND;TZID=America/New_York:20251014T200000
DTSTAMP:20260423T165538
CREATED:20250927T111949Z
LAST-MODIFIED:20250927T111949Z
UID:13030-1760466600-1760472000@allianceforsafekids.org
SUMMARY:Family Support Group
DESCRIPTION:Drug Crisis in Our Backyard is pleased to offer Family Support Groups\, an interactive forum for family support and education. We have recurring meetings where parents and families can obtain information and support in dealing with problems with drug abuse and addiction in their homes. ​ \nTuesday 6:30-8:00pm\nLink to join: https://zoom.us/j/2241277364\n​Passcode:  456745!
URL:https://allianceforsafekids.org/calendar/family-support-group-173/
CATEGORIES:Program
END:VEVENT
BEGIN:VEVENT
DTSTART;TZID=America/New_York:20251009T190000
DTEND;TZID=America/New_York:20251009T200000
DTSTAMP:20260423T165538
CREATED:20250927T113316Z
LAST-MODIFIED:20250927T113316Z
UID:13060-1760036400-1760040000@allianceforsafekids.org
SUMMARY:Yoga for Reslience
DESCRIPTION:Do You Have a Loved One Struggling with Addiction? Are you Feeling Overwhelmed? Carve out time for yourself so you may respond to your loved one with a clear mind and open heart. \nIn this class we will come together in a safe space to practice somatic mindfulness\, grounding & centering\, containment\, and breath regulation. \nWe will practice moving from freeze to flow to regulate the nervous system so we can become equipped to handle daily stressors. \nThis is not a place to share thoughts\, but rather an opportunity to dwell in the space between. \nBeginners are absolutely welcome. No experience is needed. \n45 minute Zoom Class\nEvery Thursday at 7PM\nInstructor: Justine Potenzo RYT 500 \nZoom Link: Meeting ID 2241277364 \nFor more information\, click here.
URL:https://allianceforsafekids.org/calendar/yoga-for-reslience/
CATEGORIES:Community Events,Program
END:VEVENT
BEGIN:VEVENT
DTSTART;TZID=America/New_York:20251008T190000
DTEND;TZID=America/New_York:20251008T200000
DTSTAMP:20260423T165538
CREATED:20250927T112654Z
LAST-MODIFIED:20250927T112654Z
UID:13044-1759950000-1759953600@allianceforsafekids.org
SUMMARY:Family Support Group
DESCRIPTION:Drug Crisis in Our Backyard is pleased to offer Family Support Groups\, an interactive forum for family support and education. We have recurring meetings where parents and families can obtain information and support in dealing with problems with drug abuse and addiction in their homes. ​ \nWednesday 7-8pm\nLink to join: https://zoom.us/j/8534470100\n*No passcode required.
URL:https://allianceforsafekids.org/calendar/family-support-group-180/
CATEGORIES:Community Events,Program
END:VEVENT
BEGIN:VEVENT
DTSTART;TZID=America/New_York:20251007T183000
DTEND;TZID=America/New_York:20251007T200000
DTSTAMP:20260423T165538
CREATED:20250927T111907Z
LAST-MODIFIED:20250927T111907Z
UID:13028-1759861800-1759867200@allianceforsafekids.org
SUMMARY:Family Support Group
DESCRIPTION:Drug Crisis in Our Backyard is pleased to offer Family Support Groups\, an interactive forum for family support and education. We have recurring meetings where parents and families can obtain information and support in dealing with problems with drug abuse and addiction in their homes. ​ \nTuesday 6:30-8:00pm\nLink to join: https://zoom.us/j/2241277364\n​Passcode:  456745!
URL:https://allianceforsafekids.org/calendar/family-support-group-172/
CATEGORIES:Community Events
END:VEVENT
BEGIN:VEVENT
DTSTART;TZID=America/New_York:20251002T190000
DTEND;TZID=America/New_York:20251002T200000
DTSTAMP:20260423T165538
CREATED:20250825T121602Z
LAST-MODIFIED:20250825T121602Z
UID:13019-1759431600-1759435200@allianceforsafekids.org
SUMMARY:Yoga for Resilience
DESCRIPTION:Do You Have a Loved One Struggling with Addiction? Are you Feeling Overwhelmed? Carve out time for yourself so you may respond to your loved one with a clear mind and open heart. \nIn this class we will come together in a safe space to practice somatic mindfulness\, grounding & centering\, containment\, and breath regulation. \nWe will practice moving from freeze to flow to regulate the nervous system so we can become equipped to handle daily stressors. \nThis is not a place to share thoughts\, but rather an opportunity to dwell in the space between. \nBeginners are absolutely welcome. No experience is needed. \n45 minute Zoom Class\nEvery Thursday at 7PM\nInstructor: Justine Potenzo RYT 500 \nZoom Link: Meeting ID 2241277364 \nFor more information\, click here.
URL:https://allianceforsafekids.org/calendar/yoga-for-resilience-50/
CATEGORIES:Program
END:VEVENT
BEGIN:VEVENT
DTSTART;TZID=America/New_York:20251001T190000
DTEND;TZID=America/New_York:20251001T193000
DTSTAMP:20260423T165538
CREATED:20250825T121336Z
LAST-MODIFIED:20250825T121336Z
UID:13011-1759345200-1759347000@allianceforsafekids.org
SUMMARY:Family Support Group
DESCRIPTION:Drug Crisis in Our Backyard is pleased to offer Family Support Groups\, an interactive forum for family support and education. We have recurring meetings where parents and families can obtain information and support in dealing with problems with drug abuse and addiction in their homes. ​ \nWednesday 7-8pm\nLink to join: https://zoom.us/j/8534470100\n*No passcode required.
URL:https://allianceforsafekids.org/calendar/family-support-group-171/
CATEGORIES:Program
END:VEVENT
BEGIN:VEVENT
DTSTART;TZID=America/New_York:20250930T183000
DTEND;TZID=America/New_York:20250930T200000
DTSTAMP:20260423T165538
CREATED:20250825T121048Z
LAST-MODIFIED:20250825T121048Z
UID:13003-1759257000-1759262400@allianceforsafekids.org
SUMMARY:Family Support Group
DESCRIPTION:Drug Crisis in Our Backyard is pleased to offer Family Support Groups\, an interactive forum for family support and education. We have recurring meetings where parents and families can obtain information and support in dealing with problems with drug abuse and addiction in their homes. ​ \nTuesday 6:30-8:00pm\nLink to join: https://zoom.us/j/2241277364\n​Passcode:  456745!
URL:https://allianceforsafekids.org/calendar/family-support-group-167/
CATEGORIES:Program
END:VEVENT
BEGIN:VEVENT
DTSTART;TZID=America/New_York:20250927T090000
DTEND;TZID=America/New_York:20250927T120000
DTSTAMP:20260423T165538
CREATED:20250825T120800Z
LAST-MODIFIED:20250825T120800Z
UID:12995-1758963600-1758974400@allianceforsafekids.org
SUMMARY:Run for Recovery
DESCRIPTION:  \nJoin Search for Change\, Run 4 Recovery\, Drug Crisis in our Backyard and The Alliance for Safe Kids (ASK) for the 11th Annual Run for Recovery 5K Run/Walk. \nParticipating in our Run for Recovery 5K run/walk is a powerful way to raise awareness and celebrate recovery from substance use disorders and mental health conditions. \nEach step symbolizes hope and resilience\, honoring those who have overcome challenges. The event unites individuals\, breaks stigma\, and empowers others to seek help.  Crossing the finish line gives a feeling of accomplishment\, knowing you have made a difference.  Recovery is possible\, and together\, we can inspire change. \nWe are excited to once again offer our on-site Save A Life Wellness Fair\, providing attendees with access to crucial resources and information. Our virtual tool is also available to connect the public to essential resources year-round.
URL:https://allianceforsafekids.org/calendar/run-for-recovery/
LOCATION:Franklin D. Roosevelt State Park\, 2957 Crompond Rd.\, Yorktown Heights\, NY\, 10598\, United States
CATEGORIES:Community Events
ORGANIZER;CN="Alliance for Safe Kids":MAILTO:info@allianceforsafekids.org
END:VEVENT
BEGIN:VEVENT
DTSTART;TZID=America/New_York:20250925T190000
DTEND;TZID=America/New_York:20250925T200000
DTSTAMP:20260423T165538
CREATED:20250825T121518Z
LAST-MODIFIED:20250825T121518Z
UID:13017-1758826800-1758830400@allianceforsafekids.org
SUMMARY:Yoga for Resilience
DESCRIPTION:Do You Have a Loved One Struggling with Addiction? Are you Feeling Overwhelmed? Carve out time for yourself so you may respond to your loved one with a clear mind and open heart. \nIn this class we will come together in a safe space to practice somatic mindfulness\, grounding & centering\, containment\, and breath regulation. \nWe will practice moving from freeze to flow to regulate the nervous system so we can become equipped to handle daily stressors. \nThis is not a place to share thoughts\, but rather an opportunity to dwell in the space between. \nBeginners are absolutely welcome. No experience is needed. \n45 minute Zoom Class\nEvery Thursday at 7PM\nInstructor: Justine Potenzo RYT 500 \nZoom Link: Meeting ID 2241277364 \nFor more information\, click here.
URL:https://allianceforsafekids.org/calendar/yoga-for-resilience-49/
CATEGORIES:Program
END:VEVENT
BEGIN:VEVENT
DTSTART;TZID=America/New_York:20250924T190000
DTEND;TZID=America/New_York:20250924T200000
DTSTAMP:20260423T165538
CREATED:20250825T121307Z
LAST-MODIFIED:20250825T121307Z
UID:13009-1758740400-1758744000@allianceforsafekids.org
SUMMARY:Family Support Group
DESCRIPTION:Drug Crisis in Our Backyard is pleased to offer Family Support Groups\, an interactive forum for family support and education. We have recurring meetings where parents and families can obtain information and support in dealing with problems with drug abuse and addiction in their homes. ​ \nWednesday 7-8pm\nLink to join: https://zoom.us/j/8534470100\n*No passcode required.
URL:https://allianceforsafekids.org/calendar/family-support-group-170/
CATEGORIES:Program
END:VEVENT
BEGIN:VEVENT
DTSTART;TZID=America/New_York:20250923T183000
DTEND;TZID=America/New_York:20250923T200000
DTSTAMP:20260423T165538
CREATED:20250825T121016Z
LAST-MODIFIED:20250825T121016Z
UID:13001-1758652200-1758657600@allianceforsafekids.org
SUMMARY:Family Support Group
DESCRIPTION:Drug Crisis in Our Backyard is pleased to offer Family Support Groups\, an interactive forum for family support and education. We have recurring meetings where parents and families can obtain information and support in dealing with problems with drug abuse and addiction in their homes. ​ \nTuesday 6:30-8:00pm\nLink to join: https://zoom.us/j/2241277364\n​Passcode:  456745!
URL:https://allianceforsafekids.org/calendar/family-support-group-166/
CATEGORIES:Program
END:VEVENT
BEGIN:VEVENT
DTSTART;TZID=America/New_York:20250918T190000
DTEND;TZID=America/New_York:20250918T200000
DTSTAMP:20260423T165538
CREATED:20250825T121449Z
LAST-MODIFIED:20250825T121449Z
UID:13015-1758222000-1758225600@allianceforsafekids.org
SUMMARY:Yoga for Resilience
DESCRIPTION:Do You Have a Loved One Struggling with Addiction? Are you Feeling Overwhelmed? Carve out time for yourself so you may respond to your loved one with a clear mind and open heart. \nIn this class we will come together in a safe space to practice somatic mindfulness\, grounding & centering\, containment\, and breath regulation. \nWe will practice moving from freeze to flow to regulate the nervous system so we can become equipped to handle daily stressors. \nThis is not a place to share thoughts\, but rather an opportunity to dwell in the space between. \nBeginners are absolutely welcome. No experience is needed. \n45 minute Zoom Class\nEvery Thursday at 7PM\nInstructor: Justine Potenzo RYT 500 \nZoom Link: Meeting ID 2241277364 \nFor more information\, click here.
URL:https://allianceforsafekids.org/calendar/yoga-for-resilience-48/
CATEGORIES:Program
END:VEVENT
BEGIN:VEVENT
DTSTART;TZID=America/New_York:20250918T183000
DTEND;TZID=America/New_York:20250918T200000
DTSTAMP:20260423T165538
CREATED:20250523T110537Z
LAST-MODIFIED:20250523T110537Z
UID:12925-1758220200-1758225600@allianceforsafekids.org
SUMMARY:Virtual Naloxone Training
DESCRIPTION:Naloxone is a prescription medicine that reverses an overdose by blocking heroin or other opioids in the nervous system for 30-90 minutes. Naloxone is administered by injection or intranasal. Following training\, participants receive a kit by mail. Please join our partners at Drug Crisis in Our Backyard on Zoom at 6:30pm. Register by email: ssal@drugcrisisinourbackyard.com
URL:https://allianceforsafekids.org/calendar/virtual-naloxone-training-25/
CATEGORIES:Program
END:VEVENT
BEGIN:VEVENT
DTSTART;TZID=America/New_York:20250917T190000
DTEND;TZID=America/New_York:20250917T200000
DTSTAMP:20260423T165538
CREATED:20250825T121227Z
LAST-MODIFIED:20250825T121227Z
UID:13007-1758135600-1758139200@allianceforsafekids.org
SUMMARY:Family Support Group
DESCRIPTION:Drug Crisis in Our Backyard is pleased to offer Family Support Groups\, an interactive forum for family support and education. We have recurring meetings where parents and families can obtain information and support in dealing with problems with drug abuse and addiction in their homes. ​ \nWednesday 7-8pm\nLink to join: https://zoom.us/j/8534470100\n*No passcode required.
URL:https://allianceforsafekids.org/calendar/family-support-group-169/
CATEGORIES:Program
END:VEVENT
BEGIN:VEVENT
DTSTART;TZID=America/New_York:20250916T183000
DTEND;TZID=America/New_York:20250916T200000
DTSTAMP:20260423T165538
CREATED:20250825T120951Z
LAST-MODIFIED:20250825T120951Z
UID:12999-1758047400-1758052800@allianceforsafekids.org
SUMMARY:Family Support Group
DESCRIPTION:Drug Crisis in Our Backyard is pleased to offer Family Support Groups\, an interactive forum for family support and education. We have recurring meetings where parents and families can obtain information and support in dealing with problems with drug abuse and addiction in their homes. ​ \nTuesday 6:30-8:00pm\nLink to join: https://zoom.us/j/2241277364\n​Passcode:  456745!
URL:https://allianceforsafekids.org/calendar/family-support-group-165/
CATEGORIES:Program
END:VEVENT
BEGIN:VEVENT
DTSTART;TZID=America/New_York:20250911T190000
DTEND;TZID=America/New_York:20250911T200000
DTSTAMP:20260423T165538
CREATED:20250825T121415Z
LAST-MODIFIED:20250825T121415Z
UID:13013-1757617200-1757620800@allianceforsafekids.org
SUMMARY:Yoga for Resilience
DESCRIPTION:Do You Have a Loved One Struggling with Addiction? Are you Feeling Overwhelmed? Carve out time for yourself so you may respond to your loved one with a clear mind and open heart. \nIn this class we will come together in a safe space to practice somatic mindfulness\, grounding & centering\, containment\, and breath regulation. \nWe will practice moving from freeze to flow to regulate the nervous system so we can become equipped to handle daily stressors. \nThis is not a place to share thoughts\, but rather an opportunity to dwell in the space between. \nBeginners are absolutely welcome. No experience is needed. \n45 minute Zoom Class\nEvery Thursday at 7PM\nInstructor: Justine Potenzo RYT 500 \nZoom Link: Meeting ID 2241277364 \nFor more information\, click here.
URL:https://allianceforsafekids.org/calendar/yoga-for-resilience-47/
CATEGORIES:Program
END:VEVENT
BEGIN:VEVENT
DTSTART;TZID=America/New_York:20250910T190000
DTEND;TZID=America/New_York:20250910T200000
DTSTAMP:20260423T165538
CREATED:20250825T121157Z
LAST-MODIFIED:20250825T121157Z
UID:13005-1757530800-1757534400@allianceforsafekids.org
SUMMARY:Family Support Group
DESCRIPTION:Drug Crisis in Our Backyard is pleased to offer Family Support Groups\, an interactive forum for family support and education. We have recurring meetings where parents and families can obtain information and support in dealing with problems with drug abuse and addiction in their homes. ​ \nWednesday 7-8pm\nLink to join: https://zoom.us/j/8534470100\n*No passcode required.
URL:https://allianceforsafekids.org/calendar/family-support-group-168/
CATEGORIES:Program
END:VEVENT
BEGIN:VEVENT
DTSTART;TZID=America/New_York:20250909T183000
DTEND;TZID=America/New_York:20250909T200000
DTSTAMP:20260423T165538
CREATED:20250825T120914Z
LAST-MODIFIED:20250825T120914Z
UID:12997-1757442600-1757448000@allianceforsafekids.org
SUMMARY:Family Support Group
DESCRIPTION:Drug Crisis in Our Backyard is pleased to offer Family Support Groups\, an interactive forum for family support and education. We have recurring meetings where parents and families can obtain information and support in dealing with problems with drug abuse and addiction in their homes. ​ \nTuesday 6:30-8:00pm\nLink to join: https://zoom.us/j/2241277364\n​Passcode:  456745!
URL:https://allianceforsafekids.org/calendar/family-support-group-164/
CATEGORIES:Program
END:VEVENT
BEGIN:VEVENT
DTSTART;TZID=America/New_York:20250904T190000
DTEND;TZID=America/New_York:20250904T200000
DTSTAMP:20260423T165538
CREATED:20250523T112151Z
LAST-MODIFIED:20250523T112151Z
UID:12979-1757012400-1757016000@allianceforsafekids.org
SUMMARY:Yoga for Resilience
DESCRIPTION:Do You Have a Loved One Struggling with Addiction? Are you Feeling Overwhelmed? Carve out time for yourself so you may respond to your loved one with a clear mind and open heart. \nIn this class we will come together in a safe space to practice somatic mindfulness\, grounding & centering\, containment\, and breath regulation. \nWe will practice moving from freeze to flow to regulate the nervous system so we can become equipped to handle daily stressors. \nThis is not a place to share thoughts\, but rather an opportunity to dwell in the space between. \nBeginners are absolutely welcome. No experience is needed. \n45 minute Zoom Class\nEvery Thursday at 7PM\nInstructor: Justine Potenzo RYT 500 \nZoom Link: Meeting ID 2241277364 \nFor more information\, click here.
URL:https://allianceforsafekids.org/calendar/yoga-for-resilience-46/
CATEGORIES:Program
END:VEVENT
END:VCALENDAR