BEGIN:VCALENDAR
VERSION:2.0
PRODID:-//Alliance For Safe Kids - ECPv6.15.20//NONSGML v1.0//EN
CALSCALE:GREGORIAN
METHOD:PUBLISH
X-WR-CALNAME:Alliance For Safe Kids
X-ORIGINAL-URL:https://allianceforsafekids.org
X-WR-CALDESC:Events for Alliance For Safe Kids
REFRESH-INTERVAL;VALUE=DURATION:PT1H
X-Robots-Tag:noindex
X-PUBLISHED-TTL:PT1H
BEGIN:VTIMEZONE
TZID:America/New_York
BEGIN:DAYLIGHT
TZOFFSETFROM:-0500
TZOFFSETTO:-0400
TZNAME:EDT
DTSTART:20210314T070000
END:DAYLIGHT
BEGIN:STANDARD
TZOFFSETFROM:-0400
TZOFFSETTO:-0500
TZNAME:EST
DTSTART:20211107T060000
END:STANDARD
BEGIN:DAYLIGHT
TZOFFSETFROM:-0500
TZOFFSETTO:-0400
TZNAME:EDT
DTSTART:20220313T070000
END:DAYLIGHT
BEGIN:STANDARD
TZOFFSETFROM:-0400
TZOFFSETTO:-0500
TZNAME:EST
DTSTART:20221106T060000
END:STANDARD
BEGIN:DAYLIGHT
TZOFFSETFROM:-0500
TZOFFSETTO:-0400
TZNAME:EDT
DTSTART:20230312T070000
END:DAYLIGHT
BEGIN:STANDARD
TZOFFSETFROM:-0400
TZOFFSETTO:-0500
TZNAME:EST
DTSTART:20231105T060000
END:STANDARD
END:VTIMEZONE
BEGIN:VEVENT
DTSTART;TZID=America/New_York:20221101T120000
DTEND;TZID=America/New_York:20221101T130000
DTSTAMP:20260424T081924
CREATED:20221027T183623Z
LAST-MODIFIED:20221027T183623Z
UID:11782-1667304000-1667307600@allianceforsafekids.org
SUMMARY:Understanding Trauma
DESCRIPTION:Trauma is defined by the emotional and psychological effect an event has on people\, and less by the event itself. Explore the science of trauma and discuss how trauma impacts physical & mental health with a licensed therapist. \nRegister for free here. \n  \n 
URL:https://allianceforsafekids.org/calendar/understanding-trauma-3/
END:VEVENT
BEGIN:VEVENT
DTSTART;TZID=America/New_York:20221031T120000
DTEND;TZID=America/New_York:20221031T130000
DTSTAMP:20260424T081924
CREATED:20220927T125143Z
LAST-MODIFIED:20220928T115028Z
UID:11710-1667217600-1667221200@allianceforsafekids.org
SUMMARY:Managing Emotions through Connection
DESCRIPTION:How does the emotional support we do / do not receive as children impact our ability to manage emotions as adults? Learn the types of emotional support children need from infancy through adolescence\, and the tools caregivers need to provide what each stage needs. \nAbout the instructor: Susan Dannen is a Licensed Independent Social Worker with over 25 years of experience in the mental health field. Susan trained at Jane Addams College of Social Work\, University of Illinois Chicago for her MSW and specializes in child and adult mental health\, anxiety\, depression\, grief\, trauma\, play therapy\, and foster care/adoption. She is passionate about educating and supporting others to find hope and healing. \nRegister for FREE here.
URL:https://allianceforsafekids.org/calendar/managing-emotions-through-connection/
END:VEVENT
BEGIN:VEVENT
DTSTART;TZID=America/New_York:20221027T120000
DTEND;TZID=America/New_York:20221027T130000
DTSTAMP:20260424T081924
CREATED:20220927T125046Z
LAST-MODIFIED:20220927T125046Z
UID:11708-1666872000-1666875600@allianceforsafekids.org
SUMMARY:Understanding Grief
DESCRIPTION:Grief is a natural reaction to the loss of a loved one and in most cases grief symptoms decrease over time. But for some people\, feelings of intense grief persist and are severe enough to cause problems in everyday life. Explore the symptoms\, risk factors\, diagnostic criteria\, and treatment of prolonged grief disorder with a licensed therapist and learn practical tips for managing symptoms and supporting loved ones in this one-hour seminar. \nAbout the instructor: Jaymi Dormaier is a Licensed Master Social Worker with ten years of experience in the mental health field. In Jaymi’s career as a social worker and therapist she has worked with diverse populations focusing on anxiety\, depression\, grief\, trauma\, foster care\, adoption\, homelessness\, and addiction. She is passionate about helping others live a life they love. \nRegister for FREE here.
URL:https://allianceforsafekids.org/calendar/understanding-grief/
END:VEVENT
BEGIN:VEVENT
DTSTART;TZID=America/New_York:20221026T193000
DTEND;TZID=America/New_York:20221026T210000
DTSTAMP:20260424T081924
CREATED:20221004T183259Z
LAST-MODIFIED:20221004T183353Z
UID:11749-1666812600-1666818000@allianceforsafekids.org
SUMMARY:NAMI - Parents / Caregivers of Adolescents and Young Adults Support Group – 4th Wednesday
DESCRIPTION:The Parents/Caregivers of Adolescents and Young Adults Support Group is a peer-led support group for loved ones of adolescents and young adults who are living with mental illness. \nFor more information or to register please call NAMI Westchester at 914-592-5458.
URL:https://allianceforsafekids.org/calendar/parents-caregivers-of-adolescents-and-young-adults-support-group-4th-wednesday/
END:VEVENT
BEGIN:VEVENT
DTSTART;TZID=America/New_York:20221026T190000
DTEND;TZID=America/New_York:20221026T200000
DTSTAMP:20260424T081924
CREATED:20220928T111653Z
LAST-MODIFIED:20220928T111653Z
UID:11729-1666810800-1666814400@allianceforsafekids.org
SUMMARY:Spotlight on Recovery - Family Support Group
DESCRIPTION:Drug Crisis in Our Backyard is pleased to offer Family Support Groups\, an interactive forum for family support and education. We have recurring meetings where parents and families can obtain information and support in dealing with problems with drug abuse and addiction in their homes. ​ \nWednesday 7-8pm\nLink to join: https://zoom.us/j/8534470100\n*No passcode required.
URL:https://allianceforsafekids.org/calendar/spotlight-on-recovery-family-support-group-40/
END:VEVENT
BEGIN:VEVENT
DTSTART;TZID=America/New_York:20221026T120000
DTEND;TZID=America/New_York:20221026T130000
DTSTAMP:20260424T081924
CREATED:20220927T124905Z
LAST-MODIFIED:20220927T124905Z
UID:11706-1666785600-1666789200@allianceforsafekids.org
SUMMARY:Setting Healthy Boundaries in Relationships
DESCRIPTION:Maintaining a balance between taking care of loved ones and setting healthy boundaries for yourself can be challenging. Learn how to express your own needs without guilt\, strike a healthy balance between caregiving and self-care\, and tips for negotiating compromises with a licensed therapist. \nAbout the instructor: Jaymi Dormaier is a Licensed Master Social Worker with ten years of experience in the mental health field. In Jaymi’s career as a social worker and therapist she has worked with diverse populations focusing on anxiety\, depression\, grief\, trauma\, foster care\, adoption\, homelessness\, and addiction. She is passionate about helping others live a life they love. \nRegister for FREE here.
URL:https://allianceforsafekids.org/calendar/setting-healthy-boundaries-in-relationships-2/
END:VEVENT
BEGIN:VEVENT
DTSTART;TZID=America/New_York:20221025T190000
DTEND;TZID=America/New_York:20221025T200000
DTSTAMP:20260424T081924
CREATED:20221021T120841Z
LAST-MODIFIED:20221021T120841Z
UID:11753-1666724400-1666728000@allianceforsafekids.org
SUMMARY:Thrivers!  A Roadmap for Building the Skills  Our Kids Need to Thrive
DESCRIPTION:All parents and adult community members are invited to join K.N.O.W.2Prevent for a presentation by nationally renowned author and educational psychologist\, Michele Borba\, EdD.  Based on her book\, Thrivers! The Surprising Reasons Why Some Kids Struggle and Others Shine\, Dr. Borba will share tips and strategies to help parents foster traits such as confidence\, empathy\, integrity\, and curiosity to help our children thrive in an increasingly complicated world. \nRegister for FREE here. \n 
URL:https://allianceforsafekids.org/calendar/thrivers-a-roadmap-for-building-the-skills-our-kids-need-to-thrive/
END:VEVENT
BEGIN:VEVENT
DTSTART;TZID=America/New_York:20221025T183000
DTEND;TZID=America/New_York:20221025T200000
DTSTAMP:20260424T081924
CREATED:20220928T111344Z
LAST-MODIFIED:20220928T111344Z
UID:11721-1666722600-1666728000@allianceforsafekids.org
SUMMARY:Spotlight on Recovery - Family Support Group
DESCRIPTION:Drug Crisis in Our Backyard is pleased to offer Family Support Groups\, an interactive forum for family support and education. We have recurring meetings where parents and families can obtain information and support in dealing with problems with drug abuse and addiction in their homes. ​ \nTuesday 6:30-8:00pm\nLink to join: https://zoom.us/j/2241277364\n​Passcode:  456745!
URL:https://allianceforsafekids.org/calendar/spotlight-on-recovery-family-support-group-36/
END:VEVENT
BEGIN:VEVENT
DTSTART;TZID=America/New_York:20221025T120000
DTEND;TZID=America/New_York:20221025T130000
DTSTAMP:20260424T081924
CREATED:20220927T124741Z
LAST-MODIFIED:20220927T124741Z
UID:11704-1666699200-1666702800@allianceforsafekids.org
SUMMARY:Relationships\, Family\, and Mental Health
DESCRIPTION:The complicated nature of mental illnesses can make relationships challenging\, and caregiver stress — the emotional and physical stress of caregiving — is common. Learn strategies to set boundaries\, respond to difficult behavior\, and manage your own stress in this one-hour webinar with a licensed therapist. \nAbout the instructor: Jaymi Dormaier is a Licensed Master Social Worker with ten years of experience in the mental health field. In Jaymi’s career as a social worker and therapist she has worked with diverse populations focusing on anxiety\, depression\, grief\, trauma\, foster care\, adoption\, homelessness\, and addiction. She is passionate about helping others live a life they love. \nRegister for FREE here.
URL:https://allianceforsafekids.org/calendar/relationships-family-and-mental-health-2/
END:VEVENT
BEGIN:VEVENT
DTSTART;TZID=America/New_York:20221022T093000
DTEND;TZID=America/New_York:20221022T140000
DTSTAMP:20260424T081924
CREATED:20220928T113210Z
LAST-MODIFIED:20220928T113210Z
UID:11735-1666431000-1666447200@allianceforsafekids.org
SUMMARY:Invitation to Change Workshop with CRAFT Strategies
DESCRIPTION:Back by popular demand. CRAFT (Community Reinforcement and Family Training) presented by Center for Motivation and Change and our partners at Drug Crisis in Our Backyard. Learn tools that can give you hope\, help a loved one move away from substance use and apply better techniques to help you take care of yourself. Excellent workshop for anyone hoping to influence change in a loved ones behavior.  Register now. \n 
URL:https://allianceforsafekids.org/calendar/invitation-to-change-workshop-with-craft-strategies/
ATTACH;FMTTYPE=image/jpeg:https://allianceforsafekids.org/wp-content/uploads/2022/09/CRAFT-Training_Oct2022_Town-Calendar.jpg
END:VEVENT
BEGIN:VEVENT
DTSTART;TZID=America/New_York:20221020T183000
DTEND;TZID=America/New_York:20221020T200000
DTSTAMP:20260424T081924
CREATED:20220928T112319Z
LAST-MODIFIED:20220928T112319Z
UID:11731-1666290600-1666296000@allianceforsafekids.org
SUMMARY:Virtual Overdose Prevention Training
DESCRIPTION:Naloxone is a prescription medicine that reverses an overdose by blocking heroin or other opioids in the nervous system for 30-90 minutes. Naloxone is administered by injection or intranasal. Following training\, participants receive a kit by mail. Presented by our partners at Drug Crisis in Our Backyard. \nRegister by email: ssal@drugcrisisinourbackyard.com
URL:https://allianceforsafekids.org/calendar/virtual-overdose-prevention-training-9/
ATTACH;FMTTYPE=image/jpeg:https://allianceforsafekids.org/wp-content/uploads/2022/09/Max_Naloxone-trng_ASK_Town-Calendar-.jpg
END:VEVENT
BEGIN:VEVENT
DTSTART;TZID=America/New_York:20221020T120000
DTEND;TZID=America/New_York:20221020T130000
DTSTAMP:20260424T081924
CREATED:20220927T124527Z
LAST-MODIFIED:20220927T124527Z
UID:11702-1666267200-1666270800@allianceforsafekids.org
SUMMARY:Understanding Avoidant/Restrictive Food Intake Disorder
DESCRIPTION:Avoidant/Restrictive Food Intake Disorder is an eating disorder characterized by very selective eating habits\, a disturbance in eating patterns\, or both. Separate myths and facts and explore the signs and symptoms\, prevalence\, and treatment of this often-misunderstood diagnosis. Learn practical tips to manage symptoms and support loved ones in this one-hour seminar. \nAbout the instructor: Jaymi Dormaier is a Licensed Master Social Worker with ten years of experience in the mental health field. In Jaymi’s career as a social worker and therapist she has worked with diverse populations focusing on anxiety\, depression\, grief\, trauma\, foster care\, adoption\, homelessness\, and addiction. She is passionate about helping others live a life they love. \nRegister for FREE here. \n 
URL:https://allianceforsafekids.org/calendar/understanding-avoidant-restrictive-food-intake-disorder-2/
END:VEVENT
BEGIN:VEVENT
DTSTART;TZID=America/New_York:20221019T193000
DTEND;TZID=America/New_York:20221019T210000
DTSTAMP:20260424T081924
CREATED:20221004T183045Z
LAST-MODIFIED:20221004T183114Z
UID:11746-1666207800-1666213200@allianceforsafekids.org
SUMMARY:NAMI - Parents / Caregivers of Adolescents and Young Adults Support Group – 3rd Wednesdays
DESCRIPTION:The Parents/Caregivers of Adolescents and Young Adults Support Group is a peer-led support group for loved ones of adolescents and young adults who are living with mental illness. \nFor more information or to register please call NAMI Westchester at 914-592-5458.
URL:https://allianceforsafekids.org/calendar/parents-caregivers-of-adolescents-and-young-adults-support-group-3rd-wednesdays/
END:VEVENT
BEGIN:VEVENT
DTSTART;TZID=America/New_York:20221019T190000
DTEND;TZID=America/New_York:20221019T200000
DTSTAMP:20260424T081924
CREATED:20220928T111617Z
LAST-MODIFIED:20220928T111617Z
UID:11727-1666206000-1666209600@allianceforsafekids.org
SUMMARY:Spotlight on Recovery - Family Support Group
DESCRIPTION:Drug Crisis in Our Backyard is pleased to offer Family Support Groups\, an interactive forum for family support and education. We have recurring meetings where parents and families can obtain information and support in dealing with problems with drug abuse and addiction in their homes. ​ \nWednesday 7-8pm\nLink to join: https://zoom.us/j/8534470100\n*No passcode required.
URL:https://allianceforsafekids.org/calendar/spotlight-on-recovery-family-support-group-39/
END:VEVENT
BEGIN:VEVENT
DTSTART;TZID=America/New_York:20221019T120000
DTEND;TZID=America/New_York:20221019T130000
DTSTAMP:20260424T081924
CREATED:20220927T124354Z
LAST-MODIFIED:20220927T124354Z
UID:11700-1666180800-1666184400@allianceforsafekids.org
SUMMARY:Understanding Eating Disorders
DESCRIPTION:Although our culture is preoccupied with food and weight\, and disordered patterns of eating are very common\, clinical diagnosis of eating disorders is less common. Even for professionals who have been treating them for years\, eating disorders can be confusing illnesses. Explore the types of eating disorders\, their signs & symptoms\, risk factors\, and treatment in this one-hour seminar. Learn practical steps for supporting loved ones and tips for discussing this often-misunderstood topic with a licensed therapist. \nAbout the instructor: Jaymi Dormaier is a Licensed Master Social Worker with ten years of experience in the mental health field. In Jaymi’s career as a social worker and therapist she has worked with diverse populations focusing on anxiety\, depression\, grief\, trauma\, foster care\, adoption\, homelessness\, and addiction. She is passionate about helping others live a life they love. \nRegister for FREE here.
URL:https://allianceforsafekids.org/calendar/understanding-eating-disorders-2/
END:VEVENT
BEGIN:VEVENT
DTSTART;TZID=America/New_York:20221018T183000
DTEND;TZID=America/New_York:20221018T200000
DTSTAMP:20260424T081924
CREATED:20220928T111222Z
LAST-MODIFIED:20220928T111222Z
UID:11719-1666117800-1666123200@allianceforsafekids.org
SUMMARY:Spotlight on Recovery - Family Support Group
DESCRIPTION:Drug Crisis in Our Backyard is pleased to offer Family Support Groups\, an interactive forum for family support and education. We have recurring meetings where parents and families can obtain information and support in dealing with problems with drug abuse and addiction in their homes. ​ \nTuesday 6:30-8:00pm\nLink to join: https://zoom.us/j/2241277364\n​Passcode:  456745!
URL:https://allianceforsafekids.org/calendar/spotlight-on-recovery-family-support-group-35/
END:VEVENT
BEGIN:VEVENT
DTSTART;TZID=America/New_York:20221018T120000
DTEND;TZID=America/New_York:20221018T130000
DTSTAMP:20260424T081924
CREATED:20220927T124218Z
LAST-MODIFIED:20220927T124218Z
UID:11697-1666094400-1666098000@allianceforsafekids.org
SUMMARY:Understanding Body Dysmorphic Disorder
DESCRIPTION:Body Dysmorphic Disorder is defined by negative self-image and misperceptions about appearance. Preoccupation with perceived flaws can result in anxiety\, depression\, and social isolation. Explore the diagnostic criteria\, symptoms\, and common misconceptions of body dysmorphic disorder in this one-hour seminar. Discuss treatment options and learn practical tips for managing symptoms and helping others with a licensed therapist. \nAbout the instructor: Jaymi Dormaier is a Licensed Master Social Worker with ten years of experience in the mental health field. In Jaymi’s career as a social worker and therapist she has worked with diverse populations focusing on anxiety\, depression\, grief\, trauma\, foster care\, adoption\, homelessness\, and addiction. She is passionate about helping others live a life they love. \nRegister for FREE here.
URL:https://allianceforsafekids.org/calendar/understanding-body-dysmorphic-disorder-2/
END:VEVENT
END:VCALENDAR