BEGIN:VCALENDAR
VERSION:2.0
PRODID:-//Alliance For Safe Kids - ECPv6.15.20//NONSGML v1.0//EN
CALSCALE:GREGORIAN
METHOD:PUBLISH
X-ORIGINAL-URL:https://allianceforsafekids.org
X-WR-CALDESC:Events for Alliance For Safe Kids
REFRESH-INTERVAL;VALUE=DURATION:PT1H
X-Robots-Tag:noindex
X-PUBLISHED-TTL:PT1H
BEGIN:VTIMEZONE
TZID:America/New_York
BEGIN:DAYLIGHT
TZOFFSETFROM:-0500
TZOFFSETTO:-0400
TZNAME:EDT
DTSTART:20220313T070000
END:DAYLIGHT
BEGIN:STANDARD
TZOFFSETFROM:-0400
TZOFFSETTO:-0500
TZNAME:EST
DTSTART:20221106T060000
END:STANDARD
BEGIN:DAYLIGHT
TZOFFSETFROM:-0500
TZOFFSETTO:-0400
TZNAME:EDT
DTSTART:20230312T070000
END:DAYLIGHT
BEGIN:STANDARD
TZOFFSETFROM:-0400
TZOFFSETTO:-0500
TZNAME:EST
DTSTART:20231105T060000
END:STANDARD
BEGIN:DAYLIGHT
TZOFFSETFROM:-0500
TZOFFSETTO:-0400
TZNAME:EDT
DTSTART:20240310T070000
END:DAYLIGHT
BEGIN:STANDARD
TZOFFSETFROM:-0400
TZOFFSETTO:-0500
TZNAME:EST
DTSTART:20241103T060000
END:STANDARD
END:VTIMEZONE
BEGIN:VEVENT
DTSTART;VALUE=DATE:20230405
DTEND;VALUE=DATE:20230406
DTSTAMP:20260423T151106
CREATED:20230325T000821Z
LAST-MODIFIED:20230325T000821Z
UID:12011-1680652800-1680739199@allianceforsafekids.org
SUMMARY:Setting Healthy Boundaries in a Relationship
DESCRIPTION:Learn how to express your own needs without guilt & strike a healthy balance between caregiving and self-care with a licensed therapist. Register now.
URL:https://allianceforsafekids.org/calendar/setting-healthy-boundaries-in-a-relationship/
LOCATION:Webinar
CATEGORIES:Community Events
END:VEVENT
BEGIN:VEVENT
DTSTART;VALUE=DATE:20230411
DTEND;VALUE=DATE:20230412
DTSTAMP:20260423T151106
CREATED:20230325T000918Z
LAST-MODIFIED:20230325T000918Z
UID:12013-1681171200-1681257599@allianceforsafekids.org
SUMMARY:Vaping and Marijuana: What Parents Must Know
DESCRIPTION:Register now.
URL:https://allianceforsafekids.org/calendar/vaping-and-marijuana-what-parents-must-know/
CATEGORIES:Community Events
END:VEVENT
BEGIN:VEVENT
DTSTART;VALUE=DATE:20230413
DTEND;VALUE=DATE:20230414
DTSTAMP:20260423T151106
CREATED:20230325T000948Z
LAST-MODIFIED:20230325T000948Z
UID:12015-1681344000-1681430399@allianceforsafekids.org
SUMMARY:Understanding Suicide
DESCRIPTION:Talking about suicide is the key to prevention. Register now.
URL:https://allianceforsafekids.org/calendar/understanding-suicide-3/
CATEGORIES:Community Events
END:VEVENT
BEGIN:VEVENT
DTSTART;TZID=America/New_York:20230418T183000
DTEND;TZID=America/New_York:20230418T200000
DTSTAMP:20260423T151106
CREATED:20230415T104352Z
LAST-MODIFIED:20230415T104352Z
UID:12037-1681842600-1681848000@allianceforsafekids.org
SUMMARY:Spotlight on Recovery – Family Support Group – Tuesday
DESCRIPTION:Drug Crisis in Our Backyard is pleased to offer Family Support Groups\, an interactive forum for family support and education. We have recurring meetings where parents and families can obtain information and support in dealing with problems with drug abuse and addiction in their homes. ​ \nTuesday 6:30-8:00pm\nLink to join: https://zoom.us/j/2241277364\n​Passcode:  456745!
URL:https://allianceforsafekids.org/calendar/spotlight-on-recovery-family-support-group-tuesday-2/
CATEGORIES:Program
END:VEVENT
BEGIN:VEVENT
DTSTART;VALUE=DATE:20230419
DTEND;VALUE=DATE:20230420
DTSTAMP:20260423T151106
CREATED:20230325T001014Z
LAST-MODIFIED:20230325T001014Z
UID:12017-1681862400-1681948799@allianceforsafekids.org
SUMMARY:Understanding Anxiety
DESCRIPTION:Occasional anxiety is an expected part of life\, but anxiety disorders involve more than temporary worry. Register now.
URL:https://allianceforsafekids.org/calendar/understanding-anxiety-4/
CATEGORIES:Community Events
END:VEVENT
BEGIN:VEVENT
DTSTART;TZID=America/New_York:20230419T190000
DTEND;TZID=America/New_York:20230419T200000
DTSTAMP:20260423T151106
CREATED:20230415T105004Z
LAST-MODIFIED:20230415T105004Z
UID:12051-1681930800-1681934400@allianceforsafekids.org
SUMMARY:Spotlight on Recovery – Family Support Group - Wednesday
DESCRIPTION:Drug Crisis in Our Backyard is pleased to offer Family Support Groups\, an interactive forum for family support and education. We have recurring meetings where parents and families can obtain information and support in dealing with problems with drug abuse and addiction in their homes. ​ \nWednesday 7-8pm\nLink to join: https://zoom.us/j/8534470100\n*No passcode required.
URL:https://allianceforsafekids.org/calendar/spotlight-on-recovery-family-support-group-wednesday/
CATEGORIES:Program
END:VEVENT
BEGIN:VEVENT
DTSTART;VALUE=DATE:20230420
DTEND;VALUE=DATE:20230421
DTSTAMP:20260423T151106
CREATED:20230325T001100Z
LAST-MODIFIED:20230325T001100Z
UID:12019-1681948800-1682035199@allianceforsafekids.org
SUMMARY:Virtual Overdose Prevention Training
DESCRIPTION:Naloxone is a prescription medicine that reverses an overdose by blocking heroin or other opioids in the nervous system for 30-90 minutes. Naloxone is administered by injection or intranasal. Following training\, participants receive a kit by mail. Presented by our partners at Drug Crisis in Our Backyard. Register by email: ssal@drugcrisisinourbackyard.com
URL:https://allianceforsafekids.org/calendar/virtual-overdose-prevention-training-12/
CATEGORIES:Program
END:VEVENT
BEGIN:VEVENT
DTSTART;VALUE=DATE:20230424
DTEND;VALUE=DATE:20230425
DTSTAMP:20260423T151106
CREATED:20230325T001238Z
LAST-MODIFIED:20230325T001238Z
UID:12025-1682294400-1682380799@allianceforsafekids.org
SUMMARY:Drug/Alcohol Stash Compartments\, Clothing and Other Products
DESCRIPTION:This webinar will highlight clothing used to conceal “your valuables” – from stash hats\, shirts\, shoes and other clothing items to false containers\, compartments\, and much more. The one hour webinar will be packed with information about common locations\, and where to purchase these items\, including the Internet. Register now.
URL:https://allianceforsafekids.org/calendar/drug-alcohol-stash-compartments-clothing-and-other-products/
CATEGORIES:Community Events
END:VEVENT
BEGIN:VEVENT
DTSTART;TZID=America/New_York:20230425T180000
DTEND;TZID=America/New_York:20230425T203000
DTSTAMP:20260423T151106
CREATED:20230415T104426Z
LAST-MODIFIED:20230415T104426Z
UID:12039-1682445600-1682454600@allianceforsafekids.org
SUMMARY:Spotlight on Recovery – Family Support Group – Tuesday
DESCRIPTION:Drug Crisis in Our Backyard is pleased to offer Family Support Groups\, an interactive forum for family support and education. We have recurring meetings where parents and families can obtain information and support in dealing with problems with drug abuse and addiction in their homes. ​ \nTuesday 6:30-8:00pm\nLink to join: https://zoom.us/j/2241277364\n​Passcode:  456745!
URL:https://allianceforsafekids.org/calendar/spotlight-on-recovery-family-support-group-tuesday-3/
CATEGORIES:Program
END:VEVENT
BEGIN:VEVENT
DTSTART;TZID=America/New_York:20230426T190000
DTEND;TZID=America/New_York:20230426T200000
DTSTAMP:20260423T151106
CREATED:20230415T105041Z
LAST-MODIFIED:20230415T105142Z
UID:12053-1682535600-1682539200@allianceforsafekids.org
SUMMARY:Spotlight on Recovery – Family Support Group - Wednesday
DESCRIPTION:Drug Crisis in Our Backyard is pleased to offer Family Support Groups\, an interactive forum for family support and education. We have recurring meetings where parents and families can obtain information and support in dealing with problems with drug abuse and addiction in their homes. ​ \nWednesday 7-8pm\nLink to join: https://zoom.us/j/8534470100\n*No passcode required.
URL:https://allianceforsafekids.org/calendar/spotlight-on-recovery-family-support-group-wednesday-4/
CATEGORIES:Program
END:VEVENT
BEGIN:VEVENT
DTSTART;VALUE=DATE:20230427
DTEND;VALUE=DATE:20230428
DTSTAMP:20260423T151106
CREATED:20230325T001305Z
LAST-MODIFIED:20230325T001305Z
UID:12027-1682553600-1682639999@allianceforsafekids.org
SUMMARY:Empowering Loved Ones
DESCRIPTION:Understanding how to effectively support friends and family members with mental health disorders is essential. Register now.
URL:https://allianceforsafekids.org/calendar/empowering-loved-ones-4/
CATEGORIES:Community Events
END:VEVENT
END:VCALENDAR