BEGIN:VCALENDAR
VERSION:2.0
PRODID:-//Alliance For Safe Kids - ECPv6.15.20//NONSGML v1.0//EN
CALSCALE:GREGORIAN
METHOD:PUBLISH
X-WR-CALNAME:Alliance For Safe Kids
X-ORIGINAL-URL:https://allianceforsafekids.org
X-WR-CALDESC:Events for Alliance For Safe Kids
REFRESH-INTERVAL;VALUE=DURATION:PT1H
X-Robots-Tag:noindex
X-PUBLISHED-TTL:PT1H
BEGIN:VTIMEZONE
TZID:America/New_York
BEGIN:DAYLIGHT
TZOFFSETFROM:-0500
TZOFFSETTO:-0400
TZNAME:EDT
DTSTART:20220313T070000
END:DAYLIGHT
BEGIN:STANDARD
TZOFFSETFROM:-0400
TZOFFSETTO:-0500
TZNAME:EST
DTSTART:20221106T060000
END:STANDARD
BEGIN:DAYLIGHT
TZOFFSETFROM:-0500
TZOFFSETTO:-0400
TZNAME:EDT
DTSTART:20230312T070000
END:DAYLIGHT
BEGIN:STANDARD
TZOFFSETFROM:-0400
TZOFFSETTO:-0500
TZNAME:EST
DTSTART:20231105T060000
END:STANDARD
BEGIN:DAYLIGHT
TZOFFSETFROM:-0500
TZOFFSETTO:-0400
TZNAME:EDT
DTSTART:20240310T070000
END:DAYLIGHT
BEGIN:STANDARD
TZOFFSETFROM:-0400
TZOFFSETTO:-0500
TZNAME:EST
DTSTART:20241103T060000
END:STANDARD
END:VTIMEZONE
BEGIN:VEVENT
DTSTART;TZID=America/New_York:20230502T130000
DTEND;TZID=America/New_York:20230502T143000
DTSTAMP:20260423T182236
CREATED:20230415T103920Z
LAST-MODIFIED:20230415T103920Z
UID:12035-1683032400-1683037800@allianceforsafekids.org
SUMMARY:FENTANYL: EVERY FAMILY NEEDS TO KNOW
DESCRIPTION:Description: This presentation is designed by two Moms who have lost their sons to fentanyl and have dedicated their lives to educating families. We hope to teach teens and parents alike exactly what they need to know about illicit fentanyl\, and fentanyl poisonings. \nRegister to watch live OR to get a recording of the webinar sent to you. https://www.operationparent.org/parent-webinars
URL:https://allianceforsafekids.org/calendar/fentanyl-every-family-needs-to-know/
CATEGORIES:Program
END:VEVENT
BEGIN:VEVENT
DTSTART;TZID=America/New_York:20230502T183000
DTEND;TZID=America/New_York:20230502T200000
DTSTAMP:20260423T182236
CREATED:20230415T104504Z
LAST-MODIFIED:20230415T104504Z
UID:12041-1683052200-1683057600@allianceforsafekids.org
SUMMARY:Spotlight on Recovery – Family Support Group – Tuesday
DESCRIPTION:Drug Crisis in Our Backyard is pleased to offer Family Support Groups\, an interactive forum for family support and education. We have recurring meetings where parents and families can obtain information and support in dealing with problems with drug abuse and addiction in their homes. ​ \nTuesday 6:30-8:00pm\nLink to join: https://zoom.us/j/2241277364\n​Passcode:  456745!
URL:https://allianceforsafekids.org/calendar/spotlight-on-recovery-family-support-group-tuesday-4/
CATEGORIES:Program
END:VEVENT
BEGIN:VEVENT
DTSTART;TZID=America/New_York:20230503T190000
DTEND;TZID=America/New_York:20230503T200000
DTSTAMP:20260423T182236
CREATED:20230415T105230Z
LAST-MODIFIED:20230415T105230Z
UID:12055-1683140400-1683144000@allianceforsafekids.org
SUMMARY:Spotlight on Recovery – Family Support Group - Wednesday
DESCRIPTION:Drug Crisis in Our Backyard is pleased to offer Family Support Groups\, an interactive forum for family support and education. We have recurring meetings where parents and families can obtain information and support in dealing with problems with drug abuse and addiction in their homes. ​ \nWednesday 7-8pm\nLink to join: https://zoom.us/j/8534470100\n*No passcode required.
URL:https://allianceforsafekids.org/calendar/spotlight-on-recovery-family-support-group-wednesday-5/
CATEGORIES:Program
END:VEVENT
BEGIN:VEVENT
DTSTART;TZID=America/New_York:20230509T183000
DTEND;TZID=America/New_York:20230509T200000
DTSTAMP:20260423T182236
CREATED:20230415T104539Z
LAST-MODIFIED:20230415T104539Z
UID:12043-1683657000-1683662400@allianceforsafekids.org
SUMMARY:Spotlight on Recovery – Family Support Group – Tuesday
DESCRIPTION:Drug Crisis in Our Backyard is pleased to offer Family Support Groups\, an interactive forum for family support and education. We have recurring meetings where parents and families can obtain information and support in dealing with problems with drug abuse and addiction in their homes. ​ \nTuesday 6:30-8:00pm\nLink to join: https://zoom.us/j/2241277364\n​Passcode:  456745!
URL:https://allianceforsafekids.org/calendar/spotlight-on-recovery-family-support-group-tuesday-5/
CATEGORIES:Program
END:VEVENT
BEGIN:VEVENT
DTSTART;TZID=America/New_York:20230510T190000
DTEND;TZID=America/New_York:20230510T200000
DTSTAMP:20260423T182236
CREATED:20230415T105319Z
LAST-MODIFIED:20230415T105319Z
UID:12057-1683745200-1683748800@allianceforsafekids.org
SUMMARY:Spotlight on Recovery – Family Support Group – Wednesday
DESCRIPTION:Drug Crisis in Our Backyard is pleased to offer Family Support Groups\, an interactive forum for family support and education. We have recurring meetings where parents and families can obtain information and support in dealing with problems with drug abuse and addiction in their homes. ​ \nWednesday 7-8pm\nLink to join: https://zoom.us/j/8534470100\n*No passcode required.
URL:https://allianceforsafekids.org/calendar/spotlight-on-recovery-family-support-group-wednesday-6/
CATEGORIES:Program
END:VEVENT
BEGIN:VEVENT
DTSTART;TZID=America/New_York:20230516T183000
DTEND;TZID=America/New_York:20230516T200000
DTSTAMP:20260423T182236
CREATED:20230415T104638Z
LAST-MODIFIED:20230415T104638Z
UID:12045-1684261800-1684267200@allianceforsafekids.org
SUMMARY:Spotlight on Recovery – Family Support Group – Tuesday
DESCRIPTION:Drug Crisis in Our Backyard is pleased to offer Family Support Groups\, an interactive forum for family support and education. We have recurring meetings where parents and families can obtain information and support in dealing with problems with drug abuse and addiction in their homes. ​ \nTuesday 6:30-8:00pm\nLink to join: https://zoom.us/j/2241277364\n​Passcode:  456745!
URL:https://allianceforsafekids.org/calendar/spotlight-on-recovery-family-support-group-tuesday-6/
CATEGORIES:Program
END:VEVENT
BEGIN:VEVENT
DTSTART;TZID=America/New_York:20230517T190000
DTEND;TZID=America/New_York:20230517T200000
DTSTAMP:20260423T182236
CREATED:20230415T105423Z
LAST-MODIFIED:20230415T105423Z
UID:12059-1684350000-1684353600@allianceforsafekids.org
SUMMARY:Spotlight on Recovery – Family Support Group – Wednesday
DESCRIPTION:Drug Crisis in Our Backyard is pleased to offer Family Support Groups\, an interactive forum for family support and education. We have recurring meetings where parents and families can obtain information and support in dealing with problems with drug abuse and addiction in their homes. ​ \nWednesday 7-8pm\nLink to join: https://zoom.us/j/8534470100\n*No passcode required.
URL:https://allianceforsafekids.org/calendar/spotlight-on-recovery-family-support-group-wednesday-7/
CATEGORIES:Program
END:VEVENT
BEGIN:VEVENT
DTSTART;VALUE=DATE:20230518
DTEND;VALUE=DATE:20230519
DTSTAMP:20260423T182236
CREATED:20230325T001144Z
LAST-MODIFIED:20230325T001144Z
UID:12021-1684368000-1684454399@allianceforsafekids.org
SUMMARY:Virtual Overdose Prevention Training
DESCRIPTION:Naloxone is a prescription medicine that reverses an overdose by blocking heroin or other opioids in the nervous system for 30-90 minutes. Naloxone is administered by injection or intranasal. Following training\, participants receive a kit by mail. Presented by our partners at Drug Crisis in Our Backyard. Register by email: ssal@drugcrisisinourbackyard.com
URL:https://allianceforsafekids.org/calendar/virtual-overdose-prevention-training-13/
CATEGORIES:Community Events,Program
END:VEVENT
BEGIN:VEVENT
DTSTART;TZID=America/New_York:20230518T080000
DTEND;TZID=America/New_York:20230518T170000
DTSTAMP:20260423T182236
CREATED:20230415T103804Z
LAST-MODIFIED:20230415T103804Z
UID:12033-1684396800-1684429200@allianceforsafekids.org
SUMMARY:Virtual Overdose Prevention Training
DESCRIPTION:Naloxone is a prescription medicine that reverses an overdose by blocking heroin or other opioids in the nervous system for 30-90 minutes. Naloxone is administered by injection or intranasal. Following training\, participants receive a kit by mail. Presented by our partners at Drug Crisis in Our Backyard. Register by email: ssal@drugcrisisinourbackyard.com
URL:https://allianceforsafekids.org/calendar/virtual-overdose-prevention-training-15/
CATEGORIES:Program
END:VEVENT
BEGIN:VEVENT
DTSTART;TZID=America/New_York:20230523T183000
DTEND;TZID=America/New_York:20230523T200000
DTSTAMP:20260423T182236
CREATED:20230415T104750Z
LAST-MODIFIED:20230415T104750Z
UID:12047-1684866600-1684872000@allianceforsafekids.org
SUMMARY:Spotlight on Recovery – Family Support Group – Tuesday
DESCRIPTION:Drug Crisis in Our Backyard is pleased to offer Family Support Groups\, an interactive forum for family support and education. We have recurring meetings where parents and families can obtain information and support in dealing with problems with drug abuse and addiction in their homes. ​ \nTuesday 6:30-8:00pm\nLink to join: https://zoom.us/j/2241277364\n​Passcode:  456745!
URL:https://allianceforsafekids.org/calendar/spotlight-on-recovery-family-support-group-tuesday-7/
CATEGORIES:Program
END:VEVENT
BEGIN:VEVENT
DTSTART;TZID=America/New_York:20230524T190000
DTEND;TZID=America/New_York:20230524T200000
DTSTAMP:20260423T182236
CREATED:20230415T105503Z
LAST-MODIFIED:20230415T105503Z
UID:12061-1684954800-1684958400@allianceforsafekids.org
SUMMARY:Spotlight on Recovery – Family Support Group – Wednesday
DESCRIPTION:Drug Crisis in Our Backyard is pleased to offer Family Support Groups\, an interactive forum for family support and education. We have recurring meetings where parents and families can obtain information and support in dealing with problems with drug abuse and addiction in their homes. ​ \nWednesday 7-8pm\nLink to join: https://zoom.us/j/8534470100\n*No passcode required.
URL:https://allianceforsafekids.org/calendar/spotlight-on-recovery-family-support-group-wednesday-8/
CATEGORIES:Program
END:VEVENT
BEGIN:VEVENT
DTSTART;TZID=America/New_York:20230530T183000
DTEND;TZID=America/New_York:20230530T200000
DTSTAMP:20260423T182236
CREATED:20230415T104829Z
LAST-MODIFIED:20230415T104829Z
UID:12049-1685471400-1685476800@allianceforsafekids.org
SUMMARY:Spotlight on Recovery – Family Support Group – Tuesday
DESCRIPTION:Drug Crisis in Our Backyard is pleased to offer Family Support Groups\, an interactive forum for family support and education. We have recurring meetings where parents and families can obtain information and support in dealing with problems with drug abuse and addiction in their homes. ​ \nTuesday 6:30-8:00pm\nLink to join: https://zoom.us/j/2241277364\n​Passcode:  456745!
URL:https://allianceforsafekids.org/calendar/spotlight-on-recovery-family-support-group-tuesday-8/
CATEGORIES:Program
END:VEVENT
BEGIN:VEVENT
DTSTART;TZID=America/New_York:20230531T190000
DTEND;TZID=America/New_York:20230531T200000
DTSTAMP:20260423T182236
CREATED:20230415T105616Z
LAST-MODIFIED:20230415T105616Z
UID:12065-1685559600-1685563200@allianceforsafekids.org
SUMMARY:Spotlight on Recovery – Family Support Group – Wednesday
DESCRIPTION:Drug Crisis in Our Backyard is pleased to offer Family Support Groups\, an interactive forum for family support and education. We have recurring meetings where parents and families can obtain information and support in dealing with problems with drug abuse and addiction in their homes. ​ \nWednesday 7-8pm\nLink to join: https://zoom.us/j/8534470100\n*No passcode required.
URL:https://allianceforsafekids.org/calendar/spotlight-on-recovery-family-support-group-wednesday-10/
CATEGORIES:Program
END:VEVENT
END:VCALENDAR