BEGIN:VCALENDAR
VERSION:2.0
PRODID:-//Alliance For Safe Kids - ECPv6.15.20//NONSGML v1.0//EN
CALSCALE:GREGORIAN
METHOD:PUBLISH
X-WR-CALNAME:Alliance For Safe Kids
X-ORIGINAL-URL:https://allianceforsafekids.org
X-WR-CALDESC:Events for Alliance For Safe Kids
REFRESH-INTERVAL;VALUE=DURATION:PT1H
X-Robots-Tag:noindex
X-PUBLISHED-TTL:PT1H
BEGIN:VTIMEZONE
TZID:America/New_York
BEGIN:DAYLIGHT
TZOFFSETFROM:-0500
TZOFFSETTO:-0400
TZNAME:EDT
DTSTART:20230312T070000
END:DAYLIGHT
BEGIN:STANDARD
TZOFFSETFROM:-0400
TZOFFSETTO:-0500
TZNAME:EST
DTSTART:20231105T060000
END:STANDARD
BEGIN:DAYLIGHT
TZOFFSETFROM:-0500
TZOFFSETTO:-0400
TZNAME:EDT
DTSTART:20240310T070000
END:DAYLIGHT
BEGIN:STANDARD
TZOFFSETFROM:-0400
TZOFFSETTO:-0500
TZNAME:EST
DTSTART:20241103T060000
END:STANDARD
BEGIN:DAYLIGHT
TZOFFSETFROM:-0500
TZOFFSETTO:-0400
TZNAME:EDT
DTSTART:20250309T070000
END:DAYLIGHT
BEGIN:STANDARD
TZOFFSETFROM:-0400
TZOFFSETTO:-0500
TZNAME:EST
DTSTART:20251102T060000
END:STANDARD
END:VTIMEZONE
BEGIN:VEVENT
DTSTART;TZID=America/New_York:20240702T183000
DTEND;TZID=America/New_York:20240702T200000
DTSTAMP:20260423T230028
CREATED:20240531T102153Z
LAST-MODIFIED:20240531T102153Z
UID:12338-1719945000-1719950400@allianceforsafekids.org
SUMMARY:Family Support Group
DESCRIPTION:Drug Crisis in Our Backyard is pleased to offer Family Support Groups\, an interactive forum for family support and education. We have recurring meetings where parents and families can obtain information and support in dealing with problems with drug abuse and addiction in their homes. ​ \nTuesday 6:30-8:00pm\nLink to join: https://zoom.us/j/2241277364\n​Passcode:  456745!
URL:https://allianceforsafekids.org/calendar/family-support-group-42/
CATEGORIES:Program
END:VEVENT
BEGIN:VEVENT
DTSTART;TZID=America/New_York:20240703T190000
DTEND;TZID=America/New_York:20240703T200000
DTSTAMP:20260423T230028
CREATED:20240531T102810Z
LAST-MODIFIED:20240531T102810Z
UID:12359-1720033200-1720036800@allianceforsafekids.org
SUMMARY:Family Support Group
DESCRIPTION:Drug Crisis in Our Backyard is pleased to offer Family Support Groups\, an interactive forum for family support and education. We have recurring meetings where parents and families can obtain information and support in dealing with problems with drug abuse and addiction in their homes. ​ \nWednesday 7-8pm\nLink to join: https://zoom.us/j/8534470100\n*No passcode required.
URL:https://allianceforsafekids.org/calendar/family-support-group-51/
CATEGORIES:Program
END:VEVENT
BEGIN:VEVENT
DTSTART;TZID=America/New_York:20240709T183000
DTEND;TZID=America/New_York:20240709T200000
DTSTAMP:20260423T230028
CREATED:20240531T102217Z
LAST-MODIFIED:20240531T102217Z
UID:12340-1720549800-1720555200@allianceforsafekids.org
SUMMARY:Family Support Group
DESCRIPTION:Drug Crisis in Our Backyard is pleased to offer Family Support Groups\, an interactive forum for family support and education. We have recurring meetings where parents and families can obtain information and support in dealing with problems with drug abuse and addiction in their homes. ​ \nTuesday 6:30-8:00pm\nLink to join: https://zoom.us/j/2241277364\n​Passcode:  456745!
URL:https://allianceforsafekids.org/calendar/family-support-group-43/
CATEGORIES:Program
END:VEVENT
BEGIN:VEVENT
DTSTART;TZID=America/New_York:20240710T190000
DTEND;TZID=America/New_York:20240710T200000
DTSTAMP:20260423T230028
CREATED:20240531T102843Z
LAST-MODIFIED:20240531T102843Z
UID:12361-1720638000-1720641600@allianceforsafekids.org
SUMMARY:Family Support Group
DESCRIPTION:Drug Crisis in Our Backyard is pleased to offer Family Support Groups\, an interactive forum for family support and education. We have recurring meetings where parents and families can obtain information and support in dealing with problems with drug abuse and addiction in their homes. ​ \nWednesday 7-8pm\nLink to join: https://zoom.us/j/8534470100\n*No passcode required.
URL:https://allianceforsafekids.org/calendar/family-support-group-52/
CATEGORIES:Program
END:VEVENT
BEGIN:VEVENT
DTSTART;TZID=America/New_York:20240716T183000
DTEND;TZID=America/New_York:20240716T200000
DTSTAMP:20260423T230028
CREATED:20240531T102311Z
LAST-MODIFIED:20240531T102311Z
UID:12344-1721154600-1721160000@allianceforsafekids.org
SUMMARY:Family Support Group
DESCRIPTION:Drug Crisis in Our Backyard is pleased to offer Family Support Groups\, an interactive forum for family support and education. We have recurring meetings where parents and families can obtain information and support in dealing with problems with drug abuse and addiction in their homes. ​ \nTuesday 6:30-8:00pm\nLink to join: https://zoom.us/j/2241277364\n​Passcode:  456745!
URL:https://allianceforsafekids.org/calendar/family-support-group-44/
CATEGORIES:Program
END:VEVENT
BEGIN:VEVENT
DTSTART;TZID=America/New_York:20240717T190000
DTEND;TZID=America/New_York:20240717T200000
DTSTAMP:20260423T230028
CREATED:20240531T102911Z
LAST-MODIFIED:20240531T102911Z
UID:12363-1721242800-1721246400@allianceforsafekids.org
SUMMARY:Family Support Group
DESCRIPTION:Drug Crisis in Our Backyard is pleased to offer Family Support Groups\, an interactive forum for family support and education. We have recurring meetings where parents and families can obtain information and support in dealing with problems with drug abuse and addiction in their homes. ​ \nWednesday 7-8pm\nLink to join: https://zoom.us/j/8534470100\n*No passcode required.
URL:https://allianceforsafekids.org/calendar/family-support-group-53/
CATEGORIES:Program
END:VEVENT
BEGIN:VEVENT
DTSTART;VALUE=DATE:20240718
DTEND;VALUE=DATE:20240719
DTSTAMP:20260423T230028
CREATED:20240531T103629Z
LAST-MODIFIED:20240531T103629Z
UID:12369-1721260800-1721347199@allianceforsafekids.org
SUMMARY:Virtual Naloxone Training
DESCRIPTION:Naloxone is a prescription medicine that reverses an overdose by blocking heroin or other opioids in the nervous system for 30-90 minutes. Naloxone is administered by injection or intranasal. Following training\, participants receive a kit by mail. Presented by our partners at Drug Crisis in Our Backyard. Register by email: ssal@drugcrisisinourbackyard.com
URL:https://allianceforsafekids.org/calendar/virtual-naloxone-training-12/
CATEGORIES:Program
END:VEVENT
BEGIN:VEVENT
DTSTART;TZID=America/New_York:20240723T183000
DTEND;TZID=America/New_York:20240723T200000
DTSTAMP:20260423T230028
CREATED:20240531T102338Z
LAST-MODIFIED:20240531T102338Z
UID:12346-1721759400-1721764800@allianceforsafekids.org
SUMMARY:Family Support Group
DESCRIPTION:Drug Crisis in Our Backyard is pleased to offer Family Support Groups\, an interactive forum for family support and education. We have recurring meetings where parents and families can obtain information and support in dealing with problems with drug abuse and addiction in their homes. ​ \nTuesday 6:30-8:00pm\nLink to join: https://zoom.us/j/2241277364\n​Passcode:  456745!
URL:https://allianceforsafekids.org/calendar/family-support-group-45/
CATEGORIES:Program
END:VEVENT
BEGIN:VEVENT
DTSTART;TZID=America/New_York:20240724T190000
DTEND;TZID=America/New_York:20240724T200000
DTSTAMP:20260423T230028
CREATED:20240531T102937Z
LAST-MODIFIED:20240531T102937Z
UID:12365-1721847600-1721851200@allianceforsafekids.org
SUMMARY:Family Support Group
DESCRIPTION:Drug Crisis in Our Backyard is pleased to offer Family Support Groups\, an interactive forum for family support and education. We have recurring meetings where parents and families can obtain information and support in dealing with problems with drug abuse and addiction in their homes. ​ \nWednesday 7-8pm\nLink to join: https://zoom.us/j/8534470100\n*No passcode required.
URL:https://allianceforsafekids.org/calendar/family-support-group-54/
CATEGORIES:Program
END:VEVENT
BEGIN:VEVENT
DTSTART;TZID=America/New_York:20240730T183000
DTEND;TZID=America/New_York:20240730T200000
DTSTAMP:20260423T230028
CREATED:20240531T102407Z
LAST-MODIFIED:20240531T102407Z
UID:12348-1722364200-1722369600@allianceforsafekids.org
SUMMARY:Family Support Group
DESCRIPTION:Drug Crisis in Our Backyard is pleased to offer Family Support Groups\, an interactive forum for family support and education. We have recurring meetings where parents and families can obtain information and support in dealing with problems with drug abuse and addiction in their homes. ​ \nTuesday 6:30-8:00pm\nLink to join: https://zoom.us/j/2241277364\n​Passcode:  456745!
URL:https://allianceforsafekids.org/calendar/family-support-group-46/
CATEGORIES:Program
END:VEVENT
BEGIN:VEVENT
DTSTART;TZID=America/New_York:20240731T190000
DTEND;TZID=America/New_York:20240731T200000
DTSTAMP:20260423T230028
CREATED:20240531T103007Z
LAST-MODIFIED:20240531T103007Z
UID:12367-1722452400-1722456000@allianceforsafekids.org
SUMMARY:Family Support Group
DESCRIPTION:Drug Crisis in Our Backyard is pleased to offer Family Support Groups\, an interactive forum for family support and education. We have recurring meetings where parents and families can obtain information and support in dealing with problems with drug abuse and addiction in their homes. ​ \nWednesday 7-8pm\nLink to join: https://zoom.us/j/8534470100\n*No passcode required.
URL:https://allianceforsafekids.org/calendar/family-support-group-55/
CATEGORIES:Program
END:VEVENT
END:VCALENDAR