BEGIN:VCALENDAR
VERSION:2.0
PRODID:-//Alliance For Safe Kids - ECPv6.15.20//NONSGML v1.0//EN
CALSCALE:GREGORIAN
METHOD:PUBLISH
X-ORIGINAL-URL:https://allianceforsafekids.org
X-WR-CALDESC:Events for Alliance For Safe Kids
REFRESH-INTERVAL;VALUE=DURATION:PT1H
X-Robots-Tag:noindex
X-PUBLISHED-TTL:PT1H
BEGIN:VTIMEZONE
TZID:America/New_York
BEGIN:DAYLIGHT
TZOFFSETFROM:-0500
TZOFFSETTO:-0400
TZNAME:EDT
DTSTART:20230312T070000
END:DAYLIGHT
BEGIN:STANDARD
TZOFFSETFROM:-0400
TZOFFSETTO:-0500
TZNAME:EST
DTSTART:20231105T060000
END:STANDARD
BEGIN:DAYLIGHT
TZOFFSETFROM:-0500
TZOFFSETTO:-0400
TZNAME:EDT
DTSTART:20240310T070000
END:DAYLIGHT
BEGIN:STANDARD
TZOFFSETFROM:-0400
TZOFFSETTO:-0500
TZNAME:EST
DTSTART:20241103T060000
END:STANDARD
BEGIN:DAYLIGHT
TZOFFSETFROM:-0500
TZOFFSETTO:-0400
TZNAME:EDT
DTSTART:20250309T070000
END:DAYLIGHT
BEGIN:STANDARD
TZOFFSETFROM:-0400
TZOFFSETTO:-0500
TZNAME:EST
DTSTART:20251102T060000
END:STANDARD
END:VTIMEZONE
BEGIN:VEVENT
DTSTART;TZID=America/New_York:20240903T183000
DTEND;TZID=America/New_York:20240903T200000
DTSTAMP:20260423T195016
CREATED:20240829T102052Z
LAST-MODIFIED:20240829T102052Z
UID:12440-1725388200-1725393600@allianceforsafekids.org
SUMMARY:Family Support Group
DESCRIPTION:Drug Crisis in Our Backyard is pleased to offer Family Support Groups\, an interactive forum for family support and education. We have recurring meetings where parents and families can obtain information and support in dealing with problems with drug abuse and addiction in their homes. ​ \nTuesday 6:30-8:00pm\nLink to join: https://zoom.us/j/2241277364\n​Passcode:  456745!
URL:https://allianceforsafekids.org/calendar/family-support-group-64/
CATEGORIES:Program
END:VEVENT
BEGIN:VEVENT
DTSTART;TZID=America/New_York:20240904T190000
DTEND;TZID=America/New_York:20240904T200000
DTSTAMP:20260423T195016
CREATED:20240829T102707Z
LAST-MODIFIED:20240829T102707Z
UID:12459-1725476400-1725480000@allianceforsafekids.org
SUMMARY:Family Support Group
DESCRIPTION:Drug Crisis in Our Backyard is pleased to offer Family Support Groups\, an interactive forum for family support and education. We have recurring meetings where parents and families can obtain information and support in dealing with problems with drug abuse and addiction in their homes. ​ \nWednesday 7-8pm\nLink to join: https://zoom.us/j/8534470100\n*No passcode required.
URL:https://allianceforsafekids.org/calendar/family-support-group-73/
CATEGORIES:Program
END:VEVENT
BEGIN:VEVENT
DTSTART;TZID=America/New_York:20240905T190000
DTEND;TZID=America/New_York:20240905T200000
DTSTAMP:20260423T195016
CREATED:20240829T103240Z
LAST-MODIFIED:20240829T103240Z
UID:12478-1725562800-1725566400@allianceforsafekids.org
SUMMARY:Yoga for Resilience
DESCRIPTION:Do you have a loved one struggling with addiction? Are you feeling overwhelmed? Carve out time for yourself so you may respond to your loved one with a clear mind and an open heart. Join us on Zoom and we will come together in a safe space to practice somatic mindfulness\, grounding and centering\, containment and breath regulation. For more information\, click here.
URL:https://allianceforsafekids.org/calendar/yoga-for-resilience-2/
CATEGORIES:Program
END:VEVENT
BEGIN:VEVENT
DTSTART;TZID=America/New_York:20240910T183000
DTEND;TZID=America/New_York:20240910T200000
DTSTAMP:20260423T195016
CREATED:20240829T102202Z
LAST-MODIFIED:20240829T102202Z
UID:12443-1725993000-1725998400@allianceforsafekids.org
SUMMARY:Family Support Group
DESCRIPTION:Drug Crisis in Our Backyard is pleased to offer Family Support Groups\, an interactive forum for family support and education. We have recurring meetings where parents and families can obtain information and support in dealing with problems with drug abuse and addiction in their homes. ​ \nTuesday 6:30-8:00pm\nLink to join: https://zoom.us/j/2241277364\n​Passcode:  456745!
URL:https://allianceforsafekids.org/calendar/family-support-group-65/
CATEGORIES:Program
END:VEVENT
BEGIN:VEVENT
DTSTART;TZID=America/New_York:20240911T190000
DTEND;TZID=America/New_York:20240911T200000
DTSTAMP:20260423T195016
CREATED:20240829T102742Z
LAST-MODIFIED:20240829T102742Z
UID:12461-1726081200-1726084800@allianceforsafekids.org
SUMMARY:Family Support Group
DESCRIPTION:Drug Crisis in Our Backyard is pleased to offer Family Support Groups\, an interactive forum for family support and education. We have recurring meetings where parents and families can obtain information and support in dealing with problems with drug abuse and addiction in their homes. ​ \nWednesday 7-8pm\nLink to join: https://zoom.us/j/8534470100\n*No passcode required.
URL:https://allianceforsafekids.org/calendar/family-support-group-74/
CATEGORIES:Program
END:VEVENT
BEGIN:VEVENT
DTSTART;TZID=America/New_York:20240917T183000
DTEND;TZID=America/New_York:20240917T200000
DTSTAMP:20260423T195016
CREATED:20240829T102226Z
LAST-MODIFIED:20240829T102226Z
UID:12445-1726597800-1726603200@allianceforsafekids.org
SUMMARY:Family Support Group
DESCRIPTION:Drug Crisis in Our Backyard is pleased to offer Family Support Groups\, an interactive forum for family support and education. We have recurring meetings where parents and families can obtain information and support in dealing with problems with drug abuse and addiction in their homes. ​ \nTuesday 6:30-8:00pm\nLink to join: https://zoom.us/j/2241277364\n​Passcode:  456745!
URL:https://allianceforsafekids.org/calendar/family-support-group-66/
CATEGORIES:Program
END:VEVENT
BEGIN:VEVENT
DTSTART;TZID=America/New_York:20240918T190000
DTEND;TZID=America/New_York:20240918T200000
DTSTAMP:20260423T195016
CREATED:20240829T102810Z
LAST-MODIFIED:20240829T102810Z
UID:12463-1726686000-1726689600@allianceforsafekids.org
SUMMARY:Family Support Group
DESCRIPTION:Drug Crisis in Our Backyard is pleased to offer Family Support Groups\, an interactive forum for family support and education. We have recurring meetings where parents and families can obtain information and support in dealing with problems with drug abuse and addiction in their homes. ​ \nWednesday 7-8pm\nLink to join: https://zoom.us/j/8534470100\n*No passcode required.
URL:https://allianceforsafekids.org/calendar/family-support-group-75/
CATEGORIES:Program
END:VEVENT
BEGIN:VEVENT
DTSTART;VALUE=DATE:20240919
DTEND;VALUE=DATE:20240920
DTSTAMP:20260423T195016
CREATED:20240829T103356Z
LAST-MODIFIED:20240829T103356Z
UID:12482-1726704000-1726790399@allianceforsafekids.org
SUMMARY:Virtual Naloxone Training
DESCRIPTION:Naloxone is a prescription medicine that reverses an overdose by blocking heroin or other opioids in the nervous system for 30-90 minutes. Naloxone is administered by injection or intranasal. Following training\, participants receive a kit by mail. Presented by our partners at Drug Crisis in Our Backyard. Register by email: ssal@drugcrisisinourbackyard.com
URL:https://allianceforsafekids.org/calendar/virtual-naloxone-training-14/
CATEGORIES:Program
END:VEVENT
BEGIN:VEVENT
DTSTART;TZID=America/New_York:20240919T190000
DTEND;TZID=America/New_York:20240919T200000
DTSTAMP:20260423T195016
CREATED:20240829T103310Z
LAST-MODIFIED:20240829T103310Z
UID:12480-1726772400-1726776000@allianceforsafekids.org
SUMMARY:Yoga for Resilience
DESCRIPTION:Do you have a loved one struggling with addiction? Are you feeling overwhelmed? Carve out time for yourself so you may respond to your loved one with a clear mind and an open heart. Join us on Zoom and we will come together in a safe space to practice somatic mindfulness\, grounding and centering\, containment and breath regulation. For more information\, click here.
URL:https://allianceforsafekids.org/calendar/yoga-for-resilience-3/
CATEGORIES:Program
END:VEVENT
BEGIN:VEVENT
DTSTART;TZID=America/New_York:20240924T183000
DTEND;TZID=America/New_York:20240924T200000
DTSTAMP:20260423T195016
CREATED:20240829T102258Z
LAST-MODIFIED:20240829T102308Z
UID:12447-1727202600-1727208000@allianceforsafekids.org
SUMMARY:Family Support Group
DESCRIPTION:Drug Crisis in Our Backyard is pleased to offer Family Support Groups\, an interactive forum for family support and education. We have recurring meetings where parents and families can obtain information and support in dealing with problems with drug abuse and addiction in their homes. ​ \nTuesday 6:30-8:00pm\nLink to join: https://zoom.us/j/2241277364\n​Passcode:  456745!
URL:https://allianceforsafekids.org/calendar/family-support-group-67/
CATEGORIES:Program
END:VEVENT
BEGIN:VEVENT
DTSTART;TZID=America/New_York:20240925T190000
DTEND;TZID=America/New_York:20240925T200000
DTSTAMP:20260423T195016
CREATED:20240829T102838Z
LAST-MODIFIED:20240829T102838Z
UID:12465-1727290800-1727294400@allianceforsafekids.org
SUMMARY:Family Support Group
DESCRIPTION:Drug Crisis in Our Backyard is pleased to offer Family Support Groups\, an interactive forum for family support and education. We have recurring meetings where parents and families can obtain information and support in dealing with problems with drug abuse and addiction in their homes. ​ \nWednesday 7-8pm\nLink to join: https://zoom.us/j/8534470100\n*No passcode required.
URL:https://allianceforsafekids.org/calendar/family-support-group-76/
CATEGORIES:Program
END:VEVENT
BEGIN:VEVENT
DTSTART;TZID=America/New_York:20240928T090000
DTEND;TZID=America/New_York:20240928T120000
DTSTAMP:20260423T195016
CREATED:20240531T105321Z
LAST-MODIFIED:20240730T105000Z
UID:12375-1727514000-1727524800@allianceforsafekids.org
SUMMARY:Run for Recovery
DESCRIPTION:
URL:https://allianceforsafekids.org/calendar/run-for-recovery-2/
LOCATION:Franklin D. Roosevelt State Park\, 2957 Crompond Rd.\, Yorktown Heights\, NY\, 10598\, United States
CATEGORIES:Community Events,Program
ATTACH;FMTTYPE=image/jpeg:https://allianceforsafekids.org/wp-content/uploads/2024/05/Run-for-Recovery-2024-Flyer.jpg
ORGANIZER;CN="Alliance for Safe Kids":MAILTO:info@allianceforsafekids.org
END:VEVENT
END:VCALENDAR