BEGIN:VCALENDAR
VERSION:2.0
PRODID:-//Alliance For Safe Kids - ECPv6.15.20//NONSGML v1.0//EN
CALSCALE:GREGORIAN
METHOD:PUBLISH
X-WR-CALNAME:Alliance For Safe Kids
X-ORIGINAL-URL:https://allianceforsafekids.org
X-WR-CALDESC:Events for Alliance For Safe Kids
REFRESH-INTERVAL;VALUE=DURATION:PT1H
X-Robots-Tag:noindex
X-PUBLISHED-TTL:PT1H
BEGIN:VTIMEZONE
TZID:America/New_York
BEGIN:DAYLIGHT
TZOFFSETFROM:-0500
TZOFFSETTO:-0400
TZNAME:EDT
DTSTART:20230312T070000
END:DAYLIGHT
BEGIN:STANDARD
TZOFFSETFROM:-0400
TZOFFSETTO:-0500
TZNAME:EST
DTSTART:20231105T060000
END:STANDARD
BEGIN:DAYLIGHT
TZOFFSETFROM:-0500
TZOFFSETTO:-0400
TZNAME:EDT
DTSTART:20240310T070000
END:DAYLIGHT
BEGIN:STANDARD
TZOFFSETFROM:-0400
TZOFFSETTO:-0500
TZNAME:EST
DTSTART:20241103T060000
END:STANDARD
BEGIN:DAYLIGHT
TZOFFSETFROM:-0500
TZOFFSETTO:-0400
TZNAME:EDT
DTSTART:20250309T070000
END:DAYLIGHT
BEGIN:STANDARD
TZOFFSETFROM:-0400
TZOFFSETTO:-0500
TZNAME:EST
DTSTART:20251102T060000
END:STANDARD
END:VTIMEZONE
BEGIN:VEVENT
DTSTART;TZID=America/New_York:20241203T183000
DTEND;TZID=America/New_York:20241203T200000
DTSTAMP:20260423T151147
CREATED:20241029T003641Z
LAST-MODIFIED:20241029T003641Z
UID:12518-1733250600-1733256000@allianceforsafekids.org
SUMMARY:Family Support Group
DESCRIPTION:Drug Crisis in Our Backyard is pleased to offer Family Support Groups\, an interactive forum for family support and education. We have recurring meetings where parents and families can obtain information and support in dealing with problems with drug abuse and addiction in their homes. ​ \nTuesday 6:30-8:00pm\nLink to join: https://zoom.us/j/2241277364\n​Passcode:  456745!
URL:https://allianceforsafekids.org/calendar/family-support-group-86/
CATEGORIES:Program
END:VEVENT
BEGIN:VEVENT
DTSTART;TZID=America/New_York:20241204T190000
DTEND;TZID=America/New_York:20241204T200000
DTSTAMP:20260423T151147
CREATED:20241129T121217Z
LAST-MODIFIED:20241129T121217Z
UID:12566-1733338800-1733342400@allianceforsafekids.org
SUMMARY:Spotlight Family Support Group
DESCRIPTION:Drug Crisis in Our Backyard is pleased to offer Family Support Groups\, an interactive forum for family support and education. We have recurring meetings where parents and families can obtain information and support in dealing with problems with drug abuse and addiction in their homes. ​ \nWednesday 7-8pm\nLink to join: https://zoom.us/j/8534470100\n*No passcode required.
URL:https://allianceforsafekids.org/calendar/spotlight-family-support-group-24/
CATEGORIES:Program
END:VEVENT
BEGIN:VEVENT
DTSTART;TZID=America/New_York:20241205T190000
DTEND;TZID=America/New_York:20241205T194500
DTSTAMP:20260423T151147
CREATED:20241029T004831Z
LAST-MODIFIED:20241029T004831Z
UID:12541-1733425200-1733427900@allianceforsafekids.org
SUMMARY:Yoga for Resilience
DESCRIPTION:Do You Have a Loved One Struggling with Addiction? Are you Feeling Overwhelmed? \nCarve out time for yourself so you may respond to your loved one with a clear mind and open heart \nIn this class we will come together in a safe space to practice somatic mindfulness\, grounding & centering\, containment\, and breath regulation. \nWe will practice moving from freeze to flow to regulate the nervous system so we can become equipped to handle daily stressors. \nThis is not a place to share thoughts\, but rather an opportunity to dwell in the space between. \nBeginners are absolutely welcome. \nNo experience is needed. \n45 minute Zoom Class\nEvery Thursday at 7PM\nInstructor: Justine Potenzo RYT 500 \nZoom Link: https://us02web.zoom.us/j/2241277364?pwd=Q3E4Umc2SU1sN0NTZGdYTmpicUg1UT09&omn=84737936123#success \nMeeting ID 2241277364
URL:https://allianceforsafekids.org/calendar/yoga-for-resilience-8/
CATEGORIES:Program
END:VEVENT
BEGIN:VEVENT
DTSTART;TZID=America/New_York:20241210T183000
DTEND;TZID=America/New_York:20241210T200000
DTSTAMP:20260423T151147
CREATED:20241029T003710Z
LAST-MODIFIED:20241029T003710Z
UID:12520-1733855400-1733860800@allianceforsafekids.org
SUMMARY:Family Support Group
DESCRIPTION:Drug Crisis in Our Backyard is pleased to offer Family Support Groups\, an interactive forum for family support and education. We have recurring meetings where parents and families can obtain information and support in dealing with problems with drug abuse and addiction in their homes. ​ \nTuesday 6:30-8:00pm\nLink to join: https://zoom.us/j/2241277364\n​Passcode:  456745!
URL:https://allianceforsafekids.org/calendar/family-support-group-87/
CATEGORIES:Program
END:VEVENT
BEGIN:VEVENT
DTSTART;TZID=America/New_York:20241211T190000
DTEND;TZID=America/New_York:20241211T200000
DTSTAMP:20260423T151147
CREATED:20241129T121255Z
LAST-MODIFIED:20241129T121255Z
UID:12568-1733943600-1733947200@allianceforsafekids.org
SUMMARY:Spotlight Family Support Group
DESCRIPTION:Drug Crisis in Our Backyard is pleased to offer Family Support Groups\, an interactive forum for family support and education. We have recurring meetings where parents and families can obtain information and support in dealing with problems with drug abuse and addiction in their homes. ​ \nWednesday 7-8pm\nLink to join: https://zoom.us/j/8534470100\n*No passcode required.
URL:https://allianceforsafekids.org/calendar/spotlight-family-support-group-25/
CATEGORIES:Program
END:VEVENT
BEGIN:VEVENT
DTSTART;TZID=America/New_York:20241212T183000
DTEND;TZID=America/New_York:20241212T200000
DTSTAMP:20260423T151147
CREATED:20241129T121022Z
LAST-MODIFIED:20241129T121022Z
UID:12562-1734028200-1734033600@allianceforsafekids.org
SUMMARY:Naloxone - In Person Training
DESCRIPTION:Naloxone is a prescription medicine that reverses an overdose by blocking heroin or other opioids in the nervous system for 30-90 minutes. Naloxone is administered by injection or intranasal. Training will be held at Yonkers PAL. For more information\, click here.
URL:https://allianceforsafekids.org/calendar/naloxone-in-person-training/
CATEGORIES:Program
END:VEVENT
BEGIN:VEVENT
DTSTART;TZID=America/New_York:20241212T190000
DTEND;TZID=America/New_York:20241212T200000
DTSTAMP:20260423T151147
CREATED:20241129T120620Z
LAST-MODIFIED:20241129T120620Z
UID:12554-1734030000-1734033600@allianceforsafekids.org
SUMMARY:Yoga for Resilience
DESCRIPTION:Do You Have a Loved One Struggling with Addiction? Are you Feeling Overwhelmed? Carve out time for yourself so you may respond to your loved one with a clear mind and open heart. \nIn this class we will come together in a safe space to practice somatic mindfulness\, grounding & centering\, containment\, and breath regulation. \nWe will practice moving from freeze to flow to regulate the nervous system so we can become equipped to handle daily stressors. \nThis is not a place to share thoughts\, but rather an opportunity to dwell in the space between. \nBeginners are absolutely welcome. No experience is needed. \n45 minute Zoom Class\nEvery Thursday at 7PM\nInstructor: Justine Potenzo RYT 500 \nZoom Link: Meeting ID 2241277364
URL:https://allianceforsafekids.org/calendar/yoga-for-resilience-9/
CATEGORIES:Program
END:VEVENT
BEGIN:VEVENT
DTSTART;TZID=America/New_York:20241217T183000
DTEND;TZID=America/New_York:20241217T200000
DTSTAMP:20260423T151147
CREATED:20241029T003742Z
LAST-MODIFIED:20241029T003742Z
UID:12522-1734460200-1734465600@allianceforsafekids.org
SUMMARY:Family Support Group
DESCRIPTION:Drug Crisis in Our Backyard is pleased to offer Family Support Groups\, an interactive forum for family support and education. We have recurring meetings where parents and families can obtain information and support in dealing with problems with drug abuse and addiction in their homes. ​ \nTuesday 6:30-8:00pm\nLink to join: https://zoom.us/j/2241277364\n​Passcode:  456745!
URL:https://allianceforsafekids.org/calendar/family-support-group-88/
CATEGORIES:Program
END:VEVENT
BEGIN:VEVENT
DTSTART;TZID=America/New_York:20241218T190000
DTEND;TZID=America/New_York:20241218T200000
DTSTAMP:20260423T151147
CREATED:20241129T121425Z
LAST-MODIFIED:20241129T121425Z
UID:12572-1734548400-1734552000@allianceforsafekids.org
SUMMARY:Spotlight Family Support Group
DESCRIPTION:Drug Crisis in Our Backyard is pleased to offer Family Support Groups\, an interactive forum for family support and education. We have recurring meetings where parents and families can obtain information and support in dealing with problems with drug abuse and addiction in their homes. ​ \nWednesday 7-8pm\nLink to join: https://zoom.us/j/8534470100\n*No passcode required.
URL:https://allianceforsafekids.org/calendar/spotlight-family-support-group-27/
CATEGORIES:Program
END:VEVENT
BEGIN:VEVENT
DTSTART;TZID=America/New_York:20241219T080000
DTEND;TZID=America/New_York:20241219T170000
DTSTAMP:20260423T151147
CREATED:20241129T121053Z
LAST-MODIFIED:20241129T121053Z
UID:12564-1734595200-1734627600@allianceforsafekids.org
SUMMARY:Virtual Naloxone Training
DESCRIPTION:Naloxone is a prescription medicine that reverses an overdose by blocking heroin or other opioids in the nervous system for 30-90 minutes. Naloxone is administered by injection or intranasal. Following training\, participants receive a kit by mail. Presented by our partners at Drug Crisis in Our Backyard. Register by email: ssal@drugcrisisinourbackyard.com
URL:https://allianceforsafekids.org/calendar/virtual-naloxone-training-16/
CATEGORIES:Program
END:VEVENT
BEGIN:VEVENT
DTSTART;TZID=America/New_York:20241219T190000
DTEND;TZID=America/New_York:20241219T200000
DTSTAMP:20260423T151148
CREATED:20241129T120654Z
LAST-MODIFIED:20241129T120654Z
UID:12556-1734634800-1734638400@allianceforsafekids.org
SUMMARY:Yoga for Resilience
DESCRIPTION:Do You Have a Loved One Struggling with Addiction? Are you Feeling Overwhelmed? Carve out time for yourself so you may respond to your loved one with a clear mind and open heart. \nIn this class we will come together in a safe space to practice somatic mindfulness\, grounding & centering\, containment\, and breath regulation. \nWe will practice moving from freeze to flow to regulate the nervous system so we can become equipped to handle daily stressors. \nThis is not a place to share thoughts\, but rather an opportunity to dwell in the space between. \nBeginners are absolutely welcome. No experience is needed. \n45 minute Zoom Class\nEvery Thursday at 7PM\nInstructor: Justine Potenzo RYT 500 \nZoom Link: Meeting ID 2241277364
URL:https://allianceforsafekids.org/calendar/yoga-for-resilience-10/
CATEGORIES:Program
END:VEVENT
BEGIN:VEVENT
DTSTART;TZID=America/New_York:20241219T190000
DTEND;TZID=America/New_York:20241219T200000
DTSTAMP:20260423T151148
CREATED:20241129T121335Z
LAST-MODIFIED:20241129T121335Z
UID:12570-1734634800-1734638400@allianceforsafekids.org
SUMMARY:Spotlight Family Support Group
DESCRIPTION:Drug Crisis in Our Backyard is pleased to offer Family Support Groups\, an interactive forum for family support and education. We have recurring meetings where parents and families can obtain information and support in dealing with problems with drug abuse and addiction in their homes. ​ \nWednesday 7-8pm\nLink to join: https://zoom.us/j/8534470100\n*No passcode required.
URL:https://allianceforsafekids.org/calendar/spotlight-family-support-group-26/
CATEGORIES:Program
END:VEVENT
BEGIN:VEVENT
DTSTART;TZID=America/New_York:20241226T190000
DTEND;TZID=America/New_York:20241226T200000
DTSTAMP:20260423T151148
CREATED:20241129T120810Z
LAST-MODIFIED:20241129T120810Z
UID:12558-1735239600-1735243200@allianceforsafekids.org
SUMMARY:Yoga for Resilience
DESCRIPTION:Do You Have a Loved One Struggling with Addiction? Are you Feeling Overwhelmed? Carve out time for yourself so you may respond to your loved one with a clear mind and open heart. \nIn this class we will come together in a safe space to practice somatic mindfulness\, grounding & centering\, containment\, and breath regulation. \nWe will practice moving from freeze to flow to regulate the nervous system so we can become equipped to handle daily stressors. \nThis is not a place to share thoughts\, but rather an opportunity to dwell in the space between. \nBeginners are absolutely welcome. No experience is needed. \n45 minute Zoom Class\nEvery Thursday at 7PM\nInstructor: Justine Potenzo RYT 500 \nZoom Link: Meeting ID 2241277364
URL:https://allianceforsafekids.org/calendar/yoga-for-resilience-11/
CATEGORIES:Program
END:VEVENT
END:VCALENDAR